{"text_format":"1","workbook":"xlsx","n_sheets":12,"sheets":["DRAFT 1","DRAFT 2","DRAFT 3","DRAFT 4","DRAFT 5","DRAFT 6","DRAFT 7","DRAFT 8","DRAFT 9","DRAFT 10","Export","DataAll"],"not_rendered":{"charts":0,"images":7,"macros":1,"external_links":0,"defined_names":21,"comments":0,"pivot_tables":0},"unopened":[],"bounds":{"document_bytes":16777216,"sheet_cells":100000,"rows_first":2000,"rows_last":500,"rows_between":2000,"halvings":0,"cell_chars":16384,"cell_head_chars":4096},"cells_cut":0,"cells_raw":0,"read":"whole","date_system":"1900"}

{"sheet":"DRAFT 1","index":0,"n_rows":84,"n_cols":24,"rows_kept":84,"cut":false,"hidden":false,"merged":[[3,1,8,1],[1,1,1,7],[15,6,16,6],[9,1,9,7],[10,2,10,6],[10,7,13,7],[11,2,11,6],[12,2,12,6],[13,2,13,6],[15,7,16,7],[15,1,16,1],[15,2,16,2],[15,3,16,3],[15,4,16,4],[15,5,16,5],[17,1,17,7],[55,1,55,7],[56,1,56,7],[57,1,58,7],[59,1,59,7],[8,6,8,7],[3,2,3,5],[4,2,4,5],[5,2,5,5],[6,2,6,5],[7,2,7,5],[8,2,8,5],[3,6,3,7],[4,6,4,7],[5,6,5,7],[6,6,6,7],[7,6,7,7]]}
[]
[null,"OBJEDNÁVKA LAKOVÁNÍ PLOŠNÝCH DÍLCŮ"]
[]
[null,null,"Zákazník:"]
[null,null,"Telefon:"]
[null,null,"Fakturační adresa:"]
[null,null,"IČO:"]
[null,null,"DIČ:"]
[null,null,"Dodací adresa:"]
[]
[null,"Materiál:","Prosím vyberte ze seznamu"]
[null,"Odstín (RAL,SAY,NCS):"]
[null,"Povrchová úprava:","Prosím vyberte ze seznamu"]
[null,"Opracování hran:","Prosím vyberte ze seznamu"]
[]
[null,"Název dílce:","Délka [mm]","Šířka [mm]","Počet kusů","Rám pro sklo","Úchytka","Poznámka"]
[]
[]
["1.",null,null,null,null,null,null,null,null,null,null,null,{"$f":"(((C19*D19))/1000000)*E19","v":0},{"$f":"C11","v":"Prosím vyberte ze seznamu"},{"$f":"C12","v":0},{"$f":"C13","v":"Prosím vyberte ze seznamu"},{"$f":"C14","v":"Prosím vyberte ze seznamu"}]
["2.",null,null,null,null,null,null,null,null,null,null,null,{"$f":"(((C20*D20))/1000000)*E20","v":0},{"$f":"C11","v":"Prosím vyberte ze seznamu"},{"$f":"C12","v":0},{"$f":"C13","v":"Prosím vyberte ze seznamu"},{"$f":"C14","v":"Prosím vyberte ze seznamu"}]
["3.",null,null,null,null,null,null,null,null,null,null,null,0,{"$f":"C11","v":"Prosím vyberte ze seznamu"},{"$f":"C12","v":0},{"$f":"C13","v":"Prosím vyberte ze seznamu"},{"$f":"C14","v":"Prosím vyberte ze seznamu"}]
["4.",null,null,null,null,null,null,null,null,null,null,null,0,{"$f":"C11","v":"Prosím vyberte ze seznamu"},{"$f":"C12","v":0},{"$f":"C13","v":"Prosím vyberte ze seznamu"},{"$f":"C14","v":"Prosím vyberte ze seznamu"}]
["5.",null,null,null,null,null,null,null,null,null,null,null,0,{"$f":"C11","v":"Prosím vyberte ze seznamu"},{"$f":"C12","v":0},{"$f":"C13","v":"Prosím vyberte ze seznamu"},{"$f":"C14","v":"Prosím vyberte ze seznamu"}]
["6.",null,null,null,null,null,null,null,null,null,null,null,0,{"$f":"C11","v":"Prosím vyberte ze seznamu"},{"$f":"C12","v":0},{"$f":"C13","v":"Prosím vyberte ze seznamu"},{"$f":"C14","v":"Prosím vyberte ze seznamu"}]
["7.",null,null,null,null,null,null,null,null,null,null,null,0,{"$f":"C11","v":"Prosím vyberte ze seznamu"},{"$f":"C12","v":0},{"$f":"C13","v":"Prosím vyberte ze seznamu"},{"$f":"C14","v":"Prosím vyberte ze seznamu"}]
["8.",null,null,null,null,null,null,null,null,null,null,null,0,{"$f":"C11","v":"Prosím vyberte ze seznamu"},{"$f":"C12","v":0},{"$f":"C13","v":"Prosím vyberte ze seznamu"},{"$f":"C14","v":"Prosím vyberte ze seznamu"}]
["9.",null,null,null,null,null,null,null,null,null,null,null,0,{"$f":"C11","v":"Prosím vyberte ze seznamu"},{"$f":"C12","v":0},{"$f":"C13","v":"Prosím vyberte ze seznamu"},{"$f":"C14","v":"Prosím vyberte ze seznamu"}]
["10.",null,null,null,null,null,null,null,null,null,null,null,0,{"$f":"C11","v":"Prosím vyberte ze seznamu"},{"$f":"C12","v":0},{"$f":"C13","v":"Prosím vyberte ze seznamu"},{"$f":"C14","v":"Prosím vyberte ze seznamu"}]
["11.",null,null,null,null,null,null,null,null,null,null,null,0,{"$f":"C11","v":"Prosím vyberte ze seznamu"},{"$f":"C12","v":0},{"$f":"C13","v":"Prosím vyberte ze seznamu"},{"$f":"C14","v":"Prosím vyberte ze seznamu"}]
["12.",null,null,null,null,null,null,null,null,null,null,null,0,{"$f":"C11","v":"Prosím vyberte ze seznamu"},{"$f":"C12","v":0},{"$f":"C13","v":"Prosím vyberte ze seznamu"},{"$f":"C14","v":"Prosím vyberte ze seznamu"}]
["13.",null,null,null,null,null,null,null,null,null,null,null,0,{"$f":"C11","v":"Prosím vyberte ze seznamu"},{"$f":"C12","v":0},{"$f":"C13","v":"Prosím vyberte ze seznamu"},{"$f":"C14","v":"Prosím vyberte ze seznamu"}]
["14.",null,null,null,null,null,null,null,null,null,null,null,0,{"$f":"C11","v":"Prosím vyberte ze seznamu"},{"$f":"C12","v":0},{"$f":"C13","v":"Prosím vyberte ze seznamu"},{"$f":"C14","v":"Prosím vyberte ze seznamu"}]
["15.",null,null,null,null,null,null,null,null,null,null,null,0,{"$f":"C11","v":"Prosím vyberte ze seznamu"},{"$f":"C12","v":0},{"$f":"C13","v":"Prosím vyberte ze seznamu"},{"$f":"C14","v":"Prosím vyberte ze seznamu"}]
["16.",null,null,null,null,null,null,null,null,null,null,null,0,{"$f":"C11","v":"Prosím vyberte ze seznamu"},{"$f":"C12","v":0},{"$f":"C13","v":"Prosím vyberte ze seznamu"},{"$f":"C14","v":"Prosím vyberte ze seznamu"}]
["17.",null,null,null,null,null,null,null,null,null,null,null,0,{"$f":"C11","v":"Prosím vyberte ze seznamu"},{"$f":"C12","v":0},{"$f":"C13","v":"Prosím vyberte ze seznamu"},{"$f":"C14","v":"Prosím vyberte ze seznamu"}]
["18.",null,null,null,null,null,null,null,null,null,null,null,0,{"$f":"C11","v":"Prosím vyberte ze seznamu"},{"$f":"C12","v":0},{"$f":"C13","v":"Prosím vyberte ze seznamu"},{"$f":"C14","v":"Prosím vyberte ze seznamu"}]
["19.",null,null,null,null,null,null,null,null,null,null,null,0,{"$f":"C11","v":"Prosím vyberte ze seznamu"},{"$f":"C12","v":0},{"$f":"C13","v":"Prosím vyberte ze seznamu"},{"$f":"C14","v":"Prosím vyberte ze seznamu"}]
["20.",null,null,null,null,null,null,null,null,null,null,null,0,{"$f":"C11","v":"Prosím vyberte ze seznamu"},{"$f":"C12","v":0},{"$f":"C13","v":"Prosím vyberte ze seznamu"},{"$f":"C14","v":"Prosím vyberte ze seznamu"}]
["21.",null,null,null,null,null,null,null,null,null,null,null,0,{"$f":"C11","v":"Prosím vyberte ze seznamu"},{"$f":"C12","v":0},{"$f":"C13","v":"Prosím vyberte ze seznamu"},{"$f":"C14","v":"Prosím vyberte ze seznamu"}]
["22.",null,null,null,null,null,null,null,null,null,null,null,0,{"$f":"C11","v":"Prosím vyberte ze seznamu"},{"$f":"C12","v":0},{"$f":"C13","v":"Prosím vyberte ze seznamu"},{"$f":"C14","v":"Prosím vyberte ze seznamu"}]
["23.",null,null,null,null,null,null,null,null,null,null,null,0,{"$f":"C11","v":"Prosím vyberte ze seznamu"},{"$f":"C12","v":0},{"$f":"C13","v":"Prosím vyberte ze seznamu"},{"$f":"C14","v":"Prosím vyberte ze seznamu"}]
["24.",null,null,null,null,null,null,null,null,null,null,null,0,{"$f":"C11","v":"Prosím vyberte ze seznamu"},{"$f":"C12","v":0},{"$f":"C13","v":"Prosím vyberte ze seznamu"},{"$f":"C14","v":"Prosím vyberte ze seznamu"}]
["25.",null,null,null,null,null,null,null,null,null,null,null,0,{"$f":"C11","v":"Prosím vyberte ze seznamu"},{"$f":"C12","v":0},{"$f":"C13","v":"Prosím vyberte ze seznamu"},{"$f":"C14","v":"Prosím vyberte ze seznamu"}]
["26.",null,null,null,null,null,null,null,null,null,null,null,0,{"$f":"C11","v":"Prosím vyberte ze seznamu"},{"$f":"C12","v":0},{"$f":"C13","v":"Prosím vyberte ze seznamu"},{"$f":"C14","v":"Prosím vyberte ze seznamu"}]
["27.",null,null,null,null,null,null,null,null,null,null,null,0,{"$f":"C11","v":"Prosím vyberte ze seznamu"},{"$f":"C12","v":0},{"$f":"C13","v":"Prosím vyberte ze seznamu"},{"$f":"C14","v":"Prosím vyberte ze seznamu"}]
["28.",null,null,null,null,null,null,null,null,null,null,null,0,{"$f":"C11","v":"Prosím vyberte ze seznamu"},{"$f":"C12","v":0},{"$f":"C13","v":"Prosím vyberte ze seznamu"},{"$f":"C14","v":"Prosím vyberte ze seznamu"}]
["29.",null,null,null,null,null,null,null,null,null,null,null,0,{"$f":"C11","v":"Prosím vyberte ze seznamu"},{"$f":"C12","v":0},{"$f":"C13","v":"Prosím vyberte ze seznamu"},{"$f":"C14","v":"Prosím vyberte ze seznamu"}]
["30.",null,null,null,null,null,null,null,null,null,null,null,0,{"$f":"C11","v":"Prosím vyberte ze seznamu"},{"$f":"C12","v":0},{"$f":"C13","v":"Prosím vyberte ze seznamu"},{"$f":"C14","v":"Prosím vyberte ze seznamu"}]
["31.",null,null,null,null,null,null,null,null,null,null,null,0,{"$f":"C11","v":"Prosím vyberte ze seznamu"},{"$f":"C12","v":0},{"$f":"C13","v":"Prosím vyberte ze seznamu"},{"$f":"C14","v":"Prosím vyberte ze seznamu"}]
["32.",null,null,null,null,null,null,null,null,null,null,null,0,{"$f":"C11","v":"Prosím vyberte ze seznamu"},{"$f":"C12","v":0},{"$f":"C13","v":"Prosím vyberte ze seznamu"},{"$f":"C14","v":"Prosím vyberte ze seznamu"}]
["33.",null,null,null,null,null,null,null,null,null,null,null,0,{"$f":"C11","v":"Prosím vyberte ze seznamu"},{"$f":"C12","v":0},{"$f":"C13","v":"Prosím vyberte ze seznamu"},{"$f":"C14","v":"Prosím vyberte ze seznamu"}]
["34.",null,null,null,null,null,null,null,null,null,null,null,0,{"$f":"C11","v":"Prosím vyberte ze seznamu"},{"$f":"C12","v":0},{"$f":"C13","v":"Prosím vyberte ze seznamu"},{"$f":"C14","v":"Prosím vyberte ze seznamu"}]
["35.",null,null,null,null,null,null,null,null,null,null,null,0,{"$f":"C11","v":"Prosím vyberte ze seznamu"},{"$f":"C12","v":0},{"$f":"C13","v":"Prosím vyberte ze seznamu"},{"$f":"C14","v":"Prosím vyberte ze seznamu"}]
[null,null,null,"CELKEM KUSŮ:",{"$f":"SUM(E19:E53)","v":0},"[ks]"]
[null,null,null,"CELKOVÁ HMOTNOST:",{"$f":"M55*N55","v":0},"[kg]",null,null,null,null,null,null,{"$f":"SUM(M19:M53)","v":0},{"$f":"VLOOKUP(N62,N63:O84,2,)","v":0}]
[]
[null,"Podstřiky a ostatní požadavky uvádějte do poznámky"]
[null,"OBJEDNÁVKY POUZE V ELEKTRONICKÉ PODOBĚ VYPLNĚNÉ V EXCELU"]
[]
[null,"KONTAKT: Objednávky - 724 555 691 nebo 541 241 832 "]
[null,null,null,null,"`"]
[null,null,null,null,null,null,null,null,null,null,null,null,null,{"$f":"C11","v":"Prosím vyberte ze seznamu"},"kg/m2"]
[null,null,null,null,null,null,null,null,null,null,null,null,null,"Prosím vyberte ze seznamu",0,null,null,"Prosím vyberte ze seznamu",null,"Prosím vyberte ze seznamu",null,"Prosím vyberte ze seznamu",null,"Prosím vyberte ze seznamu"]
[null,null,null,null,null,null,null,null,null,null,null,null,null,"MDFL3 jednostranně laminovaná",2.38,null,null,"Sražená hrana (fazeta 1x1mm)",null,"Sražená hrana/Sražená hrana",null,"Lesk",null,"Lesk/Mat"]
[null,null,null,null,null,null,null,null,null,null,null,null,null,"MDFL16 jednostranně laminovaná",12,null,null,"R1",null,"R1/R1",null,"Mat",null,"Lesk/Lesk"]
[null,null,null,null,null,null,null,null,null,null,null,null,null,"MDFL18 jednostranně laminovaná",13.86,null,null,"R2",null,"R2/R2",null,"Nanomat",null,"Lesk/Základ"]
[null,null,null,null,null,null,null,null,null,null,null,null,null,"MDFL22 jednostranně laminovaná",16.5,null,null,"R3",null,"R2/R1",null,"S-Mat",null,"Mat/Mat"]
[null,null,null,null,null,null,null,null,null,null,null,null,null,"MDF3 surová",2.38,null,null,"R6",null,"R3/R3",null,"Základ",null,"Mat/Základ"]
[null,null,null,null,null,null,null,null,null,null,null,null,null,"MDF4 surová",2.88,null,null,null,null,"R3/R1",null,null,null,"Nanomat/Nanomat"]
[null,null,null,null,null,null,null,null,null,null,null,null,null,"MDF6 surová",4.3099999999999996,null,null,null,null,"R6/R6",null,null,null,"Nanomat/Mat"]
[null,null,null,null,null,null,null,null,null,null,null,null,null,"MDF8 surová",6,null,null,null,null,"R6/R1",null,null,null,"Nanomat/Základ"]
[null,null,null,null,null,null,null,null,null,null,null,null,null,"MDF10 surová",7.9,null,null,null,null,null,null,null,null,"S-Mat/S-Mat"]
[null,null,null,null,null,null,null,null,null,null,null,null,null,"MDF12 surová",9.36,null,null,null,null,null,null,null,null,"S-Mat/Mat"]
[null,null,null,null,null,null,null,null,null,null,null,null,null,"MDF16 surová",12,null,null,null,null,null,null,null,null,"S-Mat/Základ"]
[null,null,null,null,null,null,null,null,null,null,null,null,null,"MDF18 surová",13.86]
[null,null,null,null,null,null,null,null,null,null,null,null,null,"MDF19 surová",14.25]
[null,null,null,null,null,null,null,null,null,null,null,null,null,"MDF22 surová",16.5]
[null,null,null,null,null,null,null,null,null,null,null,null,null,"MDF25 surová",18.75]
[null,null,null,null,null,null,null,null,null,null,null,null,null,"MDF28 surová",20.440000000000001]
[null,null,null,null,null,null,null,null,null,null,null,null,null,"MDF30 surová",21.9]
[null,null,null,null,null,null,null,null,null,null,null,null,null,"MDF32 surová",22.72]
[null,null,null,null,null,null,null,null,null,null,null,null,null,"MDF36 surová",24.48]
[null,null,null,null,null,null,null,null,null,null,null,null,null,"MDF38 surová",25.46]
[null,null,null,null,null,null,null,null,null,null,null,null,null,"MDF40 surová",26.79]

{"sheet":"DRAFT 2","index":1,"n_rows":84,"n_cols":24,"rows_kept":84,"cut":false,"hidden":false,"merged":[[15,7,16,7],[17,1,17,7],[55,1,55,7],[56,1,56,7],[57,1,58,7],[59,1,59,7],[15,1,16,1],[15,2,16,2],[15,3,16,3],[15,4,16,4],[15,5,16,5],[15,6,16,6],[7,2,7,5],[7,6,7,7],[8,2,8,5],[8,6,8,7],[9,1,9,7],[10,2,10,6],[10,7,13,7],[11,2,11,6],[12,2,12,6],[13,2,13,6],[1,1,1,7],[3,1,8,1],[3,2,3,5],[3,6,3,7],[4,2,4,5],[4,6,4,7],[5,2,5,5],[5,6,5,7],[6,2,6,5],[6,6,6,7]]}
[]
[null,"OBJEDNÁVKA LAKOVÁNÍ PLOŠNÝCH DÍLCŮ"]
[]
[null,null,"Zákazník:"]
[null,null,"Telefon:"]
[null,null,"Fakturační adresa:"]
[null,null,"IČO:"]
[null,null,"DIČ:"]
[null,null,"Dodací adresa:"]
[]
[null,"Materiál:","Prosím vyberte ze seznamu"]
[null,"Odstín (RAL,SAY,NCS):"]
[null,"Povrchová úprava:","Prosím vyberte ze seznamu"]
[null,"Opracování hran:","Prosím vyberte ze seznamu"]
[]
[null,"Název dílce:","Délka [mm]","Šířka [mm]","Počet kusů","Rám pro sklo","Úchytka","Poznámka"]
[]
[]
["1.",null,null,null,null,null,null,null,null,null,null,null,{"$f":"(((C19*D19))/1000000)*E19","v":0},{"$f":"C11","v":"Prosím vyberte ze seznamu"},{"$f":"C12","v":0},{"$f":"C13","v":"Prosím vyberte ze seznamu"},{"$f":"C14","v":"Prosím vyberte ze seznamu"}]
["2.",null,null,null,null,null,null,null,null,null,null,null,{"$f":"(((C20*D20))/1000000)*E20","v":0},{"$f":"C11","v":"Prosím vyberte ze seznamu"},{"$f":"C12","v":0},{"$f":"C13","v":"Prosím vyberte ze seznamu"},{"$f":"C14","v":"Prosím vyberte ze seznamu"}]
["3.",null,null,null,null,null,null,null,null,null,null,null,0,{"$f":"C11","v":"Prosím vyberte ze seznamu"},{"$f":"C12","v":0},{"$f":"C13","v":"Prosím vyberte ze seznamu"},{"$f":"C14","v":"Prosím vyberte ze seznamu"}]
["4.",null,null,null,null,null,null,null,null,null,null,null,0,{"$f":"C11","v":"Prosím vyberte ze seznamu"},{"$f":"C12","v":0},{"$f":"C13","v":"Prosím vyberte ze seznamu"},{"$f":"C14","v":"Prosím vyberte ze seznamu"}]
["5.",null,null,null,null,null,null,null,null,null,null,null,0,{"$f":"C11","v":"Prosím vyberte ze seznamu"},{"$f":"C12","v":0},{"$f":"C13","v":"Prosím vyberte ze seznamu"},{"$f":"C14","v":"Prosím vyberte ze seznamu"}]
["6.",null,null,null,null,null,null,null,null,null,null,null,0,{"$f":"C11","v":"Prosím vyberte ze seznamu"},{"$f":"C12","v":0},{"$f":"C13","v":"Prosím vyberte ze seznamu"},{"$f":"C14","v":"Prosím vyberte ze seznamu"}]
["7.",null,null,null,null,null,null,null,null,null,null,null,0,{"$f":"C11","v":"Prosím vyberte ze seznamu"},{"$f":"C12","v":0},{"$f":"C13","v":"Prosím vyberte ze seznamu"},{"$f":"C14","v":"Prosím vyberte ze seznamu"}]
["8.",null,null,null,null,null,null,null,null,null,null,null,0,{"$f":"C11","v":"Prosím vyberte ze seznamu"},{"$f":"C12","v":0},{"$f":"C13","v":"Prosím vyberte ze seznamu"},{"$f":"C14","v":"Prosím vyberte ze seznamu"}]
["9.",null,null,null,null,null,null,null,null,null,null,null,0,{"$f":"C11","v":"Prosím vyberte ze seznamu"},{"$f":"C12","v":0},{"$f":"C13","v":"Prosím vyberte ze seznamu"},{"$f":"C14","v":"Prosím vyberte ze seznamu"}]
["10.",null,null,null,null,null,null,null,null,null,null,null,0,{"$f":"C11","v":"Prosím vyberte ze seznamu"},{"$f":"C12","v":0},{"$f":"C13","v":"Prosím vyberte ze seznamu"},{"$f":"C14","v":"Prosím vyberte ze seznamu"}]
["11.",null,null,null,null,null,null,null,null,null,null,null,0,{"$f":"C11","v":"Prosím vyberte ze seznamu"},{"$f":"C12","v":0},{"$f":"C13","v":"Prosím vyberte ze seznamu"},{"$f":"C14","v":"Prosím vyberte ze seznamu"}]
["12.",null,null,null,null,null,null,null,null,null,null,null,0,{"$f":"C11","v":"Prosím vyberte ze seznamu"},{"$f":"C12","v":0},{"$f":"C13","v":"Prosím vyberte ze seznamu"},{"$f":"C14","v":"Prosím vyberte ze seznamu"}]
["13.",null,null,null,null,null,null,null,null,null,null,null,0,{"$f":"C11","v":"Prosím vyberte ze seznamu"},{"$f":"C12","v":0},{"$f":"C13","v":"Prosím vyberte ze seznamu"},{"$f":"C14","v":"Prosím vyberte ze seznamu"}]
["14.",null,null,null,null,null,null,null,null,null,null,null,0,{"$f":"C11","v":"Prosím vyberte ze seznamu"},{"$f":"C12","v":0},{"$f":"C13","v":"Prosím vyberte ze seznamu"},{"$f":"C14","v":"Prosím vyberte ze seznamu"}]
["15.",null,null,null,null,null,null,null,null,null,null,null,0,{"$f":"C11","v":"Prosím vyberte ze seznamu"},{"$f":"C12","v":0},{"$f":"C13","v":"Prosím vyberte ze seznamu"},{"$f":"C14","v":"Prosím vyberte ze seznamu"}]
["16.",null,null,null,null,null,null,null,null,null,null,null,0,{"$f":"C11","v":"Prosím vyberte ze seznamu"},{"$f":"C12","v":0},{"$f":"C13","v":"Prosím vyberte ze seznamu"},{"$f":"C14","v":"Prosím vyberte ze seznamu"}]
["17.",null,null,null,null,null,null,null,null,null,null,null,0,{"$f":"C11","v":"Prosím vyberte ze seznamu"},{"$f":"C12","v":0},{"$f":"C13","v":"Prosím vyberte ze seznamu"},{"$f":"C14","v":"Prosím vyberte ze seznamu"}]
["18.",null,null,null,null,null,null,null,null,null,null,null,0,{"$f":"C11","v":"Prosím vyberte ze seznamu"},{"$f":"C12","v":0},{"$f":"C13","v":"Prosím vyberte ze seznamu"},{"$f":"C14","v":"Prosím vyberte ze seznamu"}]
["19.",null,null,null,null,null,null,null,null,null,null,null,0,{"$f":"C11","v":"Prosím vyberte ze seznamu"},{"$f":"C12","v":0},{"$f":"C13","v":"Prosím vyberte ze seznamu"},{"$f":"C14","v":"Prosím vyberte ze seznamu"}]
["20.",null,null,null,null,null,null,null,null,null,null,null,0,{"$f":"C11","v":"Prosím vyberte ze seznamu"},{"$f":"C12","v":0},{"$f":"C13","v":"Prosím vyberte ze seznamu"},{"$f":"C14","v":"Prosím vyberte ze seznamu"}]
["21.",null,null,null,null,null,null,null,null,null,null,null,0,{"$f":"C11","v":"Prosím vyberte ze seznamu"},{"$f":"C12","v":0},{"$f":"C13","v":"Prosím vyberte ze seznamu"},{"$f":"C14","v":"Prosím vyberte ze seznamu"}]
["22.",null,null,null,null,null,null,null,null,null,null,null,0,{"$f":"C11","v":"Prosím vyberte ze seznamu"},{"$f":"C12","v":0},{"$f":"C13","v":"Prosím vyberte ze seznamu"},{"$f":"C14","v":"Prosím vyberte ze seznamu"}]
["23.",null,null,null,null,null,null,null,null,null,null,null,0,{"$f":"C11","v":"Prosím vyberte ze seznamu"},{"$f":"C12","v":0},{"$f":"C13","v":"Prosím vyberte ze seznamu"},{"$f":"C14","v":"Prosím vyberte ze seznamu"}]
["24.",null,null,null,null,null,null,null,null,null,null,null,0,{"$f":"C11","v":"Prosím vyberte ze seznamu"},{"$f":"C12","v":0},{"$f":"C13","v":"Prosím vyberte ze seznamu"},{"$f":"C14","v":"Prosím vyberte ze seznamu"}]
["25.",null,null,null,null,null,null,null,null,null,null,null,0,{"$f":"C11","v":"Prosím vyberte ze seznamu"},{"$f":"C12","v":0},{"$f":"C13","v":"Prosím vyberte ze seznamu"},{"$f":"C14","v":"Prosím vyberte ze seznamu"}]
["26.",null,null,null,null,null,null,null,null,null,null,null,0,{"$f":"C11","v":"Prosím vyberte ze seznamu"},{"$f":"C12","v":0},{"$f":"C13","v":"Prosím vyberte ze seznamu"},{"$f":"C14","v":"Prosím vyberte ze seznamu"}]
["27.",null,null,null,null,null,null,null,null,null,null,null,0,{"$f":"C11","v":"Prosím vyberte ze seznamu"},{"$f":"C12","v":0},{"$f":"C13","v":"Prosím vyberte ze seznamu"},{"$f":"C14","v":"Prosím vyberte ze seznamu"}]
["28.",null,null,null,null,null,null,null,null,null,null,null,0,{"$f":"C11","v":"Prosím vyberte ze seznamu"},{"$f":"C12","v":0},{"$f":"C13","v":"Prosím vyberte ze seznamu"},{"$f":"C14","v":"Prosím vyberte ze seznamu"}]
["29.",null,null,null,null,null,null,null,null,null,null,null,0,{"$f":"C11","v":"Prosím vyberte ze seznamu"},{"$f":"C12","v":0},{"$f":"C13","v":"Prosím vyberte ze seznamu"},{"$f":"C14","v":"Prosím vyberte ze seznamu"}]
["30.",null,null,null,null,null,null,null,null,null,null,null,0,{"$f":"C11","v":"Prosím vyberte ze seznamu"},{"$f":"C12","v":0},{"$f":"C13","v":"Prosím vyberte ze seznamu"},{"$f":"C14","v":"Prosím vyberte ze seznamu"}]
["31.",null,null,null,null,null,null,null,null,null,null,null,0,{"$f":"C11","v":"Prosím vyberte ze seznamu"},{"$f":"C12","v":0},{"$f":"C13","v":"Prosím vyberte ze seznamu"},{"$f":"C14","v":"Prosím vyberte ze seznamu"}]
["32.",null,null,null,null,null,null,null,null,null,null,null,0,{"$f":"C11","v":"Prosím vyberte ze seznamu"},{"$f":"C12","v":0},{"$f":"C13","v":"Prosím vyberte ze seznamu"},{"$f":"C14","v":"Prosím vyberte ze seznamu"}]
["33.",null,null,null,null,null,null,null,null,null,null,null,0,{"$f":"C11","v":"Prosím vyberte ze seznamu"},{"$f":"C12","v":0},{"$f":"C13","v":"Prosím vyberte ze seznamu"},{"$f":"C14","v":"Prosím vyberte ze seznamu"}]
["34.",null,null,null,null,null,null,null,null,null,null,null,0,{"$f":"C11","v":"Prosím vyberte ze seznamu"},{"$f":"C12","v":0},{"$f":"C13","v":"Prosím vyberte ze seznamu"},{"$f":"C14","v":"Prosím vyberte ze seznamu"}]
["35.",null,null,null,null,null,null,null,null,null,null,null,0,{"$f":"C11","v":"Prosím vyberte ze seznamu"},{"$f":"C12","v":0},{"$f":"C13","v":"Prosím vyberte ze seznamu"},{"$f":"C14","v":"Prosím vyberte ze seznamu"}]
[null,null,null,"CELKEM KUSŮ:",{"$f":"SUM(E19:E53)","v":0},"[ks]"]
[null,null,null,"CELKOVÁ HMOTNOST:",{"$f":"M55*N55","v":0},"[kg]",null,null,null,null,null,null,{"$f":"SUM(M19:M53)","v":0},{"$f":"VLOOKUP(N62,N63:O84,2,)","v":0}]
[]
[null,"Podstřiky a ostatní požadavky uvádějte do poznámky"]
[null,"OBJEDNÁVKY POUZE V ELEKTRONICKÉ PODOBĚ VYPLNĚNÉ V EXCELU"]
[]
[null,"KONTAKT: Objednávky - 724 555 691 nebo 541 241 832 "]
[null,null,null,null,"`"]
[null,null,null,null,null,null,null,null,null,null,null,null,null,{"$f":"C11","v":"Prosím vyberte ze seznamu"},"kg/m2"]
[null,null,null,null,null,null,null,null,null,null,null,null,null,"Prosím vyberte ze seznamu",0,null,null,"Prosím vyberte ze seznamu",null,"Prosím vyberte ze seznamu",null,"Prosím vyberte ze seznamu",null,"Prosím vyberte ze seznamu"]
[null,null,null,null,null,null,null,null,null,null,null,null,null,"MDFL3 jednostranně laminovaná",2.38,null,null,"Sražená hrana (fazeta 1x1mm)",null,"Sražená hrana/Sražená hrana",null,"Lesk",null,"Lesk/Mat"]
[null,null,null,null,null,null,null,null,null,null,null,null,null,"MDFL16 jednostranně laminovaná",12,null,null,"R1",null,"R1/R1",null,"Mat",null,"Lesk/Lesk"]
[null,null,null,null,null,null,null,null,null,null,null,null,null,"MDFL18 jednostranně laminovaná",13.86,null,null,"R2",null,"R2/R2",null,"Nanomat",null,"Lesk/Základ"]
[null,null,null,null,null,null,null,null,null,null,null,null,null,"MDFL22 jednostranně laminovaná",16.5,null,null,"R3",null,"R2/R1",null,"S-Mat",null,"Mat/Mat"]
[null,null,null,null,null,null,null,null,null,null,null,null,null,"MDF3 surová",2.38,null,null,"R6",null,"R3/R3",null,"Základ",null,"Mat/Základ"]
[null,null,null,null,null,null,null,null,null,null,null,null,null,"MDF4 surová",2.88,null,null,null,null,"R3/R1",null,null,null,"Nanomat/Nanomat"]
[null,null,null,null,null,null,null,null,null,null,null,null,null,"MDF6 surová",4.3099999999999996,null,null,null,null,"R6/R6",null,null,null,"Nanomat/Mat"]
[null,null,null,null,null,null,null,null,null,null,null,null,null,"MDF8 surová",6,null,null,null,null,"R6/R1",null,null,null,"Nanomat/Základ"]
[null,null,null,null,null,null,null,null,null,null,null,null,null,"MDF10 surová",7.9,null,null,null,null,null,null,null,null,"S-Mat/S-Mat"]
[null,null,null,null,null,null,null,null,null,null,null,null,null,"MDF12 surová",9.36,null,null,null,null,null,null,null,null,"S-Mat/Mat"]
[null,null,null,null,null,null,null,null,null,null,null,null,null,"MDF16 surová",12,null,null,null,null,null,null,null,null,"S-Mat/Základ"]
[null,null,null,null,null,null,null,null,null,null,null,null,null,"MDF18 surová",13.86]
[null,null,null,null,null,null,null,null,null,null,null,null,null,"MDF19 surová",14.25]
[null,null,null,null,null,null,null,null,null,null,null,null,null,"MDF22 surová",16.5]
[null,null,null,null,null,null,null,null,null,null,null,null,null,"MDF25 surová",18.75]
[null,null,null,null,null,null,null,null,null,null,null,null,null,"MDF28 surová",20.440000000000001]
[null,null,null,null,null,null,null,null,null,null,null,null,null,"MDF30 surová",21.9]
[null,null,null,null,null,null,null,null,null,null,null,null,null,"MDF32 surová",22.72]
[null,null,null,null,null,null,null,null,null,null,null,null,null,"MDF36 surová",24.48]
[null,null,null,null,null,null,null,null,null,null,null,null,null,"MDF38 surová",25.46]
[null,null,null,null,null,null,null,null,null,null,null,null,null,"MDF40 surová",26.79]

{"sheet":"DRAFT 3","index":2,"n_rows":84,"n_cols":24,"rows_kept":84,"cut":false,"hidden":false,"merged":[[15,7,16,7],[17,1,17,7],[55,1,55,7],[56,1,56,7],[57,1,58,7],[59,1,59,7],[15,1,16,1],[15,2,16,2],[15,3,16,3],[15,4,16,4],[15,5,16,5],[15,6,16,6],[7,2,7,5],[7,6,7,7],[8,2,8,5],[8,6,8,7],[9,1,9,7],[10,2,10,6],[10,7,13,7],[11,2,11,6],[12,2,12,6],[13,2,13,6],[1,1,1,7],[3,1,8,1],[3,2,3,5],[3,6,3,7],[4,2,4,5],[4,6,4,7],[5,2,5,5],[5,6,5,7],[6,2,6,5],[6,6,6,7]]}
[]
[null,"OBJEDNÁVKA LAKOVÁNÍ PLOŠNÝCH DÍLCŮ"]
[]
[null,null,"Zákazník:"]
[null,null,"Telefon:"]
[null,null,"Fakturační adresa:"]
[null,null,"IČO:"]
[null,null,"DIČ:"]
[null,null,"Dodací adresa:"]
[]
[null,"Materiál:","Prosím vyberte ze seznamu"]
[null,"Odstín (RAL,SAY,NCS):"]
[null,"Povrchová úprava:","Prosím vyberte ze seznamu"]
[null,"Opracování hran:","Prosím vyberte ze seznamu"]
[]
[null,"Název dílce:","Délka [mm]","Šířka [mm]","Počet kusů","Rám pro sklo","Úchytka","Poznámka"]
[]
[]
["1.",null,null,null,null,null,null,null,null,null,null,null,{"$f":"(((C19*D19))/1000000)*E19","v":0},{"$f":"C11","v":"Prosím vyberte ze seznamu"},{"$f":"C12","v":0},{"$f":"C13","v":"Prosím vyberte ze seznamu"},{"$f":"C14","v":"Prosím vyberte ze seznamu"}]
["2.",null,null,null,null,null,null,null,null,null,null,null,{"$f":"(((C20*D20))/1000000)*E20","v":0},{"$f":"C11","v":"Prosím vyberte ze seznamu"},{"$f":"C12","v":0},{"$f":"C13","v":"Prosím vyberte ze seznamu"},{"$f":"C14","v":"Prosím vyberte ze seznamu"}]
["3.",null,null,null,null,null,null,null,null,null,null,null,0,{"$f":"C11","v":"Prosím vyberte ze seznamu"},{"$f":"C12","v":0},{"$f":"C13","v":"Prosím vyberte ze seznamu"},{"$f":"C14","v":"Prosím vyberte ze seznamu"}]
["4.",null,null,null,null,null,null,null,null,null,null,null,0,{"$f":"C11","v":"Prosím vyberte ze seznamu"},{"$f":"C12","v":0},{"$f":"C13","v":"Prosím vyberte ze seznamu"},{"$f":"C14","v":"Prosím vyberte ze seznamu"}]
["5.",null,null,null,null,null,null,null,null,null,null,null,0,{"$f":"C11","v":"Prosím vyberte ze seznamu"},{"$f":"C12","v":0},{"$f":"C13","v":"Prosím vyberte ze seznamu"},{"$f":"C14","v":"Prosím vyberte ze seznamu"}]
["6.",null,null,null,null,null,null,null,null,null,null,null,0,{"$f":"C11","v":"Prosím vyberte ze seznamu"},{"$f":"C12","v":0},{"$f":"C13","v":"Prosím vyberte ze seznamu"},{"$f":"C14","v":"Prosím vyberte ze seznamu"}]
["7.",null,null,null,null,null,null,null,null,null,null,null,0,{"$f":"C11","v":"Prosím vyberte ze seznamu"},{"$f":"C12","v":0},{"$f":"C13","v":"Prosím vyberte ze seznamu"},{"$f":"C14","v":"Prosím vyberte ze seznamu"}]
["8.",null,null,null,null,null,null,null,null,null,null,null,0,{"$f":"C11","v":"Prosím vyberte ze seznamu"},{"$f":"C12","v":0},{"$f":"C13","v":"Prosím vyberte ze seznamu"},{"$f":"C14","v":"Prosím vyberte ze seznamu"}]
["9.",null,null,null,null,null,null,null,null,null,null,null,0,{"$f":"C11","v":"Prosím vyberte ze seznamu"},{"$f":"C12","v":0},{"$f":"C13","v":"Prosím vyberte ze seznamu"},{"$f":"C14","v":"Prosím vyberte ze seznamu"}]
["10.",null,null,null,null,null,null,null,null,null,null,null,0,{"$f":"C11","v":"Prosím vyberte ze seznamu"},{"$f":"C12","v":0},{"$f":"C13","v":"Prosím vyberte ze seznamu"},{"$f":"C14","v":"Prosím vyberte ze seznamu"}]
["11.",null,null,null,null,null,null,null,null,null,null,null,0,{"$f":"C11","v":"Prosím vyberte ze seznamu"},{"$f":"C12","v":0},{"$f":"C13","v":"Prosím vyberte ze seznamu"},{"$f":"C14","v":"Prosím vyberte ze seznamu"}]
["12.",null,null,null,null,null,null,null,null,null,null,null,0,{"$f":"C11","v":"Prosím vyberte ze seznamu"},{"$f":"C12","v":0},{"$f":"C13","v":"Prosím vyberte ze seznamu"},{"$f":"C14","v":"Prosím vyberte ze seznamu"}]
["13.",null,null,null,null,null,null,null,null,null,null,null,0,{"$f":"C11","v":"Prosím vyberte ze seznamu"},{"$f":"C12","v":0},{"$f":"C13","v":"Prosím vyberte ze seznamu"},{"$f":"C14","v":"Prosím vyberte ze seznamu"}]
["14.",null,null,null,null,null,null,null,null,null,null,null,0,{"$f":"C11","v":"Prosím vyberte ze seznamu"},{"$f":"C12","v":0},{"$f":"C13","v":"Prosím vyberte ze seznamu"},{"$f":"C14","v":"Prosím vyberte ze seznamu"}]
["15.",null,null,null,null,null,null,null,null,null,null,null,0,{"$f":"C11","v":"Prosím vyberte ze seznamu"},{"$f":"C12","v":0},{"$f":"C13","v":"Prosím vyberte ze seznamu"},{"$f":"C14","v":"Prosím vyberte ze seznamu"}]
["16.",null,null,null,null,null,null,null,null,null,null,null,0,{"$f":"C11","v":"Prosím vyberte ze seznamu"},{"$f":"C12","v":0},{"$f":"C13","v":"Prosím vyberte ze seznamu"},{"$f":"C14","v":"Prosím vyberte ze seznamu"}]
["17.",null,null,null,null,null,null,null,null,null,null,null,0,{"$f":"C11","v":"Prosím vyberte ze seznamu"},{"$f":"C12","v":0},{"$f":"C13","v":"Prosím vyberte ze seznamu"},{"$f":"C14","v":"Prosím vyberte ze seznamu"}]
["18.",null,null,null,null,null,null,null,null,null,null,null,0,{"$f":"C11","v":"Prosím vyberte ze seznamu"},{"$f":"C12","v":0},{"$f":"C13","v":"Prosím vyberte ze seznamu"},{"$f":"C14","v":"Prosím vyberte ze seznamu"}]
["19.",null,null,null,null,null,null,null,null,null,null,null,0,{"$f":"C11","v":"Prosím vyberte ze seznamu"},{"$f":"C12","v":0},{"$f":"C13","v":"Prosím vyberte ze seznamu"},{"$f":"C14","v":"Prosím vyberte ze seznamu"}]
["20.",null,null,null,null,null,null,null,null,null,null,null,0,{"$f":"C11","v":"Prosím vyberte ze seznamu"},{"$f":"C12","v":0},{"$f":"C13","v":"Prosím vyberte ze seznamu"},{"$f":"C14","v":"Prosím vyberte ze seznamu"}]
["21.",null,null,null,null,null,null,null,null,null,null,null,0,{"$f":"C11","v":"Prosím vyberte ze seznamu"},{"$f":"C12","v":0},{"$f":"C13","v":"Prosím vyberte ze seznamu"},{"$f":"C14","v":"Prosím vyberte ze seznamu"}]
["22.",null,null,null,null,null,null,null,null,null,null,null,0,{"$f":"C11","v":"Prosím vyberte ze seznamu"},{"$f":"C12","v":0},{"$f":"C13","v":"Prosím vyberte ze seznamu"},{"$f":"C14","v":"Prosím vyberte ze seznamu"}]
["23.",null,null,null,null,null,null,null,null,null,null,null,0,{"$f":"C11","v":"Prosím vyberte ze seznamu"},{"$f":"C12","v":0},{"$f":"C13","v":"Prosím vyberte ze seznamu"},{"$f":"C14","v":"Prosím vyberte ze seznamu"}]
["24.",null,null,null,null,null,null,null,null,null,null,null,0,{"$f":"C11","v":"Prosím vyberte ze seznamu"},{"$f":"C12","v":0},{"$f":"C13","v":"Prosím vyberte ze seznamu"},{"$f":"C14","v":"Prosím vyberte ze seznamu"}]
["25.",null,null,null,null,null,null,null,null,null,null,null,0,{"$f":"C11","v":"Prosím vyberte ze seznamu"},{"$f":"C12","v":0},{"$f":"C13","v":"Prosím vyberte ze seznamu"},{"$f":"C14","v":"Prosím vyberte ze seznamu"}]
["26.",null,null,null,null,null,null,null,null,null,null,null,0,{"$f":"C11","v":"Prosím vyberte ze seznamu"},{"$f":"C12","v":0},{"$f":"C13","v":"Prosím vyberte ze seznamu"},{"$f":"C14","v":"Prosím vyberte ze seznamu"}]
["27.",null,null,null,null,null,null,null,null,null,null,null,0,{"$f":"C11","v":"Prosím vyberte ze seznamu"},{"$f":"C12","v":0},{"$f":"C13","v":"Prosím vyberte ze seznamu"},{"$f":"C14","v":"Prosím vyberte ze seznamu"}]
["28.",null,null,null,null,null,null,null,null,null,null,null,0,{"$f":"C11","v":"Prosím vyberte ze seznamu"},{"$f":"C12","v":0},{"$f":"C13","v":"Prosím vyberte ze seznamu"},{"$f":"C14","v":"Prosím vyberte ze seznamu"}]
["29.",null,null,null,null,null,null,null,null,null,null,null,0,{"$f":"C11","v":"Prosím vyberte ze seznamu"},{"$f":"C12","v":0},{"$f":"C13","v":"Prosím vyberte ze seznamu"},{"$f":"C14","v":"Prosím vyberte ze seznamu"}]
["30.",null,null,null,null,null,null,null,null,null,null,null,0,{"$f":"C11","v":"Prosím vyberte ze seznamu"},{"$f":"C12","v":0},{"$f":"C13","v":"Prosím vyberte ze seznamu"},{"$f":"C14","v":"Prosím vyberte ze seznamu"}]
["31.",null,null,null,null,null,null,null,null,null,null,null,0,{"$f":"C11","v":"Prosím vyberte ze seznamu"},{"$f":"C12","v":0},{"$f":"C13","v":"Prosím vyberte ze seznamu"},{"$f":"C14","v":"Prosím vyberte ze seznamu"}]
["32.",null,null,null,null,null,null,null,null,null,null,null,0,{"$f":"C11","v":"Prosím vyberte ze seznamu"},{"$f":"C12","v":0},{"$f":"C13","v":"Prosím vyberte ze seznamu"},{"$f":"C14","v":"Prosím vyberte ze seznamu"}]
["33.",null,null,null,null,null,null,null,null,null,null,null,0,{"$f":"C11","v":"Prosím vyberte ze seznamu"},{"$f":"C12","v":0},{"$f":"C13","v":"Prosím vyberte ze seznamu"},{"$f":"C14","v":"Prosím vyberte ze seznamu"}]
["34.",null,null,null,null,null,null,null,null,null,null,null,0,{"$f":"C11","v":"Prosím vyberte ze seznamu"},{"$f":"C12","v":0},{"$f":"C13","v":"Prosím vyberte ze seznamu"},{"$f":"C14","v":"Prosím vyberte ze seznamu"}]
["35.",null,null,null,null,null,null,null,null,null,null,null,0,{"$f":"C11","v":"Prosím vyberte ze seznamu"},{"$f":"C12","v":0},{"$f":"C13","v":"Prosím vyberte ze seznamu"},{"$f":"C14","v":"Prosím vyberte ze seznamu"}]
[null,null,null,"CELKEM KUSŮ:",{"$f":"SUM(E19:E53)","v":0},"[ks]"]
[null,null,null,"CELKOVÁ HMOTNOST:",{"$f":"M55*N55","v":0},"[kg]",null,null,null,null,null,null,{"$f":"SUM(M19:M53)","v":0},{"$f":"VLOOKUP(N62,N63:O84,2,)","v":0}]
[]
[null,"Podstřiky a ostatní požadavky uvádějte do poznámky"]
[null,"OBJEDNÁVKY POUZE V ELEKTRONICKÉ PODOBĚ VYPLNĚNÉ V EXCELU"]
[]
[null,"KONTAKT: Objednávky - 724 555 691 nebo 541 241 832 "]
[null,null,null,null,"`"]
[null,null,null,null,null,null,null,null,null,null,null,null,null,{"$f":"C11","v":"Prosím vyberte ze seznamu"},"kg/m2"]
[null,null,null,null,null,null,null,null,null,null,null,null,null,"Prosím vyberte ze seznamu",0,null,null,"Prosím vyberte ze seznamu",null,"Prosím vyberte ze seznamu",null,"Prosím vyberte ze seznamu",null,"Prosím vyberte ze seznamu"]
[null,null,null,null,null,null,null,null,null,null,null,null,null,"MDFL3 jednostranně laminovaná",2.38,null,null,"Sražená hrana (fazeta 1x1mm)",null,"Sražená hrana/Sražená hrana",null,"Lesk",null,"Lesk/Mat"]
[null,null,null,null,null,null,null,null,null,null,null,null,null,"MDFL16 jednostranně laminovaná",12,null,null,"R1",null,"R1/R1",null,"Mat",null,"Lesk/Lesk"]
[null,null,null,null,null,null,null,null,null,null,null,null,null,"MDFL18 jednostranně laminovaná",13.86,null,null,"R2",null,"R2/R2",null,"Nanomat",null,"Lesk/Základ"]
[null,null,null,null,null,null,null,null,null,null,null,null,null,"MDFL22 jednostranně laminovaná",16.5,null,null,"R3",null,"R2/R1",null,"S-Mat",null,"Mat/Mat"]
[null,null,null,null,null,null,null,null,null,null,null,null,null,"MDF3 surová",2.38,null,null,"R6",null,"R3/R3",null,"Základ",null,"Mat/Základ"]
[null,null,null,null,null,null,null,null,null,null,null,null,null,"MDF4 surová",2.88,null,null,null,null,"R3/R1",null,null,null,"Nanomat/Nanomat"]
[null,null,null,null,null,null,null,null,null,null,null,null,null,"MDF6 surová",4.3099999999999996,null,null,null,null,"R6/R6",null,null,null,"Nanomat/Mat"]
[null,null,null,null,null,null,null,null,null,null,null,null,null,"MDF8 surová",6,null,null,null,null,"R6/R1",null,null,null,"Nanomat/Základ"]
[null,null,null,null,null,null,null,null,null,null,null,null,null,"MDF10 surová",7.9,null,null,null,null,null,null,null,null,"S-Mat/S-Mat"]
[null,null,null,null,null,null,null,null,null,null,null,null,null,"MDF12 surová",9.36,null,null,null,null,null,null,null,null,"S-Mat/Mat"]
[null,null,null,null,null,null,null,null,null,null,null,null,null,"MDF16 surová",12,null,null,null,null,null,null,null,null,"S-Mat/Základ"]
[null,null,null,null,null,null,null,null,null,null,null,null,null,"MDF18 surová",13.86]
[null,null,null,null,null,null,null,null,null,null,null,null,null,"MDF19 surová",14.25]
[null,null,null,null,null,null,null,null,null,null,null,null,null,"MDF22 surová",16.5]
[null,null,null,null,null,null,null,null,null,null,null,null,null,"MDF25 surová",18.75]
[null,null,null,null,null,null,null,null,null,null,null,null,null,"MDF28 surová",20.440000000000001]
[null,null,null,null,null,null,null,null,null,null,null,null,null,"MDF30 surová",21.9]
[null,null,null,null,null,null,null,null,null,null,null,null,null,"MDF32 surová",22.72]
[null,null,null,null,null,null,null,null,null,null,null,null,null,"MDF36 surová",24.48]
[null,null,null,null,null,null,null,null,null,null,null,null,null,"MDF38 surová",25.46]
[null,null,null,null,null,null,null,null,null,null,null,null,null,"MDF40 surová",26.79]

{"sheet":"DRAFT 4","index":3,"n_rows":84,"n_cols":24,"rows_kept":84,"cut":false,"hidden":false,"merged":[[15,7,16,7],[17,1,17,7],[55,1,55,7],[56,1,56,7],[57,1,58,7],[59,1,59,7],[15,1,16,1],[15,2,16,2],[15,3,16,3],[15,4,16,4],[15,5,16,5],[15,6,16,6],[7,2,7,5],[7,6,7,7],[8,2,8,5],[8,6,8,7],[9,1,9,7],[10,2,10,6],[10,7,13,7],[11,2,11,6],[12,2,12,6],[13,2,13,6],[1,1,1,7],[3,1,8,1],[3,2,3,5],[3,6,3,7],[4,2,4,5],[4,6,4,7],[5,2,5,5],[5,6,5,7],[6,2,6,5],[6,6,6,7]]}
[]
[null,"OBJEDNÁVKA LAKOVÁNÍ PLOŠNÝCH DÍLCŮ"]
[]
[null,null,"Zákazník:"]
[null,null,"Telefon:"]
[null,null,"Fakturační adresa:"]
[null,null,"IČO:"]
[null,null,"DIČ:"]
[null,null,"Dodací adresa:"]
[]
[null,"Materiál:","Prosím vyberte ze seznamu"]
[null,"Odstín (RAL,SAY,NCS):"]
[null,"Povrchová úprava:","Prosím vyberte ze seznamu"]
[null,"Opracování hran:","Prosím vyberte ze seznamu"]
[]
[null,"Název dílce:","Délka [mm]","Šířka [mm]","Počet kusů","Rám pro sklo","Úchytka","Poznámka"]
[]
[]
["1.",null,null,null,null,null,null,null,null,null,null,null,{"$f":"(((C19*D19))/1000000)*E19","v":0},{"$f":"C11","v":"Prosím vyberte ze seznamu"},{"$f":"C12","v":0},{"$f":"C13","v":"Prosím vyberte ze seznamu"},{"$f":"C14","v":"Prosím vyberte ze seznamu"}]
["2.",null,null,null,null,null,null,null,null,null,null,null,{"$f":"(((C20*D20))/1000000)*E20","v":0},{"$f":"C11","v":"Prosím vyberte ze seznamu"},{"$f":"C12","v":0},{"$f":"C13","v":"Prosím vyberte ze seznamu"},{"$f":"C14","v":"Prosím vyberte ze seznamu"}]
["3.",null,null,null,null,null,null,null,null,null,null,null,0,{"$f":"C11","v":"Prosím vyberte ze seznamu"},{"$f":"C12","v":0},{"$f":"C13","v":"Prosím vyberte ze seznamu"},{"$f":"C14","v":"Prosím vyberte ze seznamu"}]
["4.",null,null,null,null,null,null,null,null,null,null,null,0,{"$f":"C11","v":"Prosím vyberte ze seznamu"},{"$f":"C12","v":0},{"$f":"C13","v":"Prosím vyberte ze seznamu"},{"$f":"C14","v":"Prosím vyberte ze seznamu"}]
["5.",null,null,null,null,null,null,null,null,null,null,null,0,{"$f":"C11","v":"Prosím vyberte ze seznamu"},{"$f":"C12","v":0},{"$f":"C13","v":"Prosím vyberte ze seznamu"},{"$f":"C14","v":"Prosím vyberte ze seznamu"}]
["6.",null,null,null,null,null,null,null,null,null,null,null,0,{"$f":"C11","v":"Prosím vyberte ze seznamu"},{"$f":"C12","v":0},{"$f":"C13","v":"Prosím vyberte ze seznamu"},{"$f":"C14","v":"Prosím vyberte ze seznamu"}]
["7.",null,null,null,null,null,null,null,null,null,null,null,0,{"$f":"C11","v":"Prosím vyberte ze seznamu"},{"$f":"C12","v":0},{"$f":"C13","v":"Prosím vyberte ze seznamu"},{"$f":"C14","v":"Prosím vyberte ze seznamu"}]
["8.",null,null,null,null,null,null,null,null,null,null,null,0,{"$f":"C11","v":"Prosím vyberte ze seznamu"},{"$f":"C12","v":0},{"$f":"C13","v":"Prosím vyberte ze seznamu"},{"$f":"C14","v":"Prosím vyberte ze seznamu"}]
["9.",null,null,null,null,null,null,null,null,null,null,null,0,{"$f":"C11","v":"Prosím vyberte ze seznamu"},{"$f":"C12","v":0},{"$f":"C13","v":"Prosím vyberte ze seznamu"},{"$f":"C14","v":"Prosím vyberte ze seznamu"}]
["10.",null,null,null,null,null,null,null,null,null,null,null,0,{"$f":"C11","v":"Prosím vyberte ze seznamu"},{"$f":"C12","v":0},{"$f":"C13","v":"Prosím vyberte ze seznamu"},{"$f":"C14","v":"Prosím vyberte ze seznamu"}]
["11.",null,null,null,null,null,null,null,null,null,null,null,0,{"$f":"C11","v":"Prosím vyberte ze seznamu"},{"$f":"C12","v":0},{"$f":"C13","v":"Prosím vyberte ze seznamu"},{"$f":"C14","v":"Prosím vyberte ze seznamu"}]
["12.",null,null,null,null,null,null,null,null,null,null,null,0,{"$f":"C11","v":"Prosím vyberte ze seznamu"},{"$f":"C12","v":0},{"$f":"C13","v":"Prosím vyberte ze seznamu"},{"$f":"C14","v":"Prosím vyberte ze seznamu"}]
["13.",null,null,null,null,null,null,null,null,null,null,null,0,{"$f":"C11","v":"Prosím vyberte ze seznamu"},{"$f":"C12","v":0},{"$f":"C13","v":"Prosím vyberte ze seznamu"},{"$f":"C14","v":"Prosím vyberte ze seznamu"}]
["14.",null,null,null,null,null,null,null,null,null,null,null,0,{"$f":"C11","v":"Prosím vyberte ze seznamu"},{"$f":"C12","v":0},{"$f":"C13","v":"Prosím vyberte ze seznamu"},{"$f":"C14","v":"Prosím vyberte ze seznamu"}]
["15.",null,null,null,null,null,null,null,null,null,null,null,0,{"$f":"C11","v":"Prosím vyberte ze seznamu"},{"$f":"C12","v":0},{"$f":"C13","v":"Prosím vyberte ze seznamu"},{"$f":"C14","v":"Prosím vyberte ze seznamu"}]
["16.",null,null,null,null,null,null,null,null,null,null,null,0,{"$f":"C11","v":"Prosím vyberte ze seznamu"},{"$f":"C12","v":0},{"$f":"C13","v":"Prosím vyberte ze seznamu"},{"$f":"C14","v":"Prosím vyberte ze seznamu"}]
["17.",null,null,null,null,null,null,null,null,null,null,null,0,{"$f":"C11","v":"Prosím vyberte ze seznamu"},{"$f":"C12","v":0},{"$f":"C13","v":"Prosím vyberte ze seznamu"},{"$f":"C14","v":"Prosím vyberte ze seznamu"}]
["18.",null,null,null,null,null,null,null,null,null,null,null,0,{"$f":"C11","v":"Prosím vyberte ze seznamu"},{"$f":"C12","v":0},{"$f":"C13","v":"Prosím vyberte ze seznamu"},{"$f":"C14","v":"Prosím vyberte ze seznamu"}]
["19.",null,null,null,null,null,null,null,null,null,null,null,0,{"$f":"C11","v":"Prosím vyberte ze seznamu"},{"$f":"C12","v":0},{"$f":"C13","v":"Prosím vyberte ze seznamu"},{"$f":"C14","v":"Prosím vyberte ze seznamu"}]
["20.",null,null,null,null,null,null,null,null,null,null,null,0,{"$f":"C11","v":"Prosím vyberte ze seznamu"},{"$f":"C12","v":0},{"$f":"C13","v":"Prosím vyberte ze seznamu"},{"$f":"C14","v":"Prosím vyberte ze seznamu"}]
["21.",null,null,null,null,null,null,null,null,null,null,null,0,{"$f":"C11","v":"Prosím vyberte ze seznamu"},{"$f":"C12","v":0},{"$f":"C13","v":"Prosím vyberte ze seznamu"},{"$f":"C14","v":"Prosím vyberte ze seznamu"}]
["22.",null,null,null,null,null,null,null,null,null,null,null,0,{"$f":"C11","v":"Prosím vyberte ze seznamu"},{"$f":"C12","v":0},{"$f":"C13","v":"Prosím vyberte ze seznamu"},{"$f":"C14","v":"Prosím vyberte ze seznamu"}]
["23.",null,null,null,null,null,null,null,null,null,null,null,0,{"$f":"C11","v":"Prosím vyberte ze seznamu"},{"$f":"C12","v":0},{"$f":"C13","v":"Prosím vyberte ze seznamu"},{"$f":"C14","v":"Prosím vyberte ze seznamu"}]
["24.",null,null,null,null,null,null,null,null,null,null,null,0,{"$f":"C11","v":"Prosím vyberte ze seznamu"},{"$f":"C12","v":0},{"$f":"C13","v":"Prosím vyberte ze seznamu"},{"$f":"C14","v":"Prosím vyberte ze seznamu"}]
["25.",null,null,null,null,null,null,null,null,null,null,null,0,{"$f":"C11","v":"Prosím vyberte ze seznamu"},{"$f":"C12","v":0},{"$f":"C13","v":"Prosím vyberte ze seznamu"},{"$f":"C14","v":"Prosím vyberte ze seznamu"}]
["26.",null,null,null,null,null,null,null,null,null,null,null,0,{"$f":"C11","v":"Prosím vyberte ze seznamu"},{"$f":"C12","v":0},{"$f":"C13","v":"Prosím vyberte ze seznamu"},{"$f":"C14","v":"Prosím vyberte ze seznamu"}]
["27.",null,null,null,null,null,null,null,null,null,null,null,0,{"$f":"C11","v":"Prosím vyberte ze seznamu"},{"$f":"C12","v":0},{"$f":"C13","v":"Prosím vyberte ze seznamu"},{"$f":"C14","v":"Prosím vyberte ze seznamu"}]
["28.",null,null,null,null,null,null,null,null,null,null,null,0,{"$f":"C11","v":"Prosím vyberte ze seznamu"},{"$f":"C12","v":0},{"$f":"C13","v":"Prosím vyberte ze seznamu"},{"$f":"C14","v":"Prosím vyberte ze seznamu"}]
["29.",null,null,null,null,null,null,null,null,null,null,null,0,{"$f":"C11","v":"Prosím vyberte ze seznamu"},{"$f":"C12","v":0},{"$f":"C13","v":"Prosím vyberte ze seznamu"},{"$f":"C14","v":"Prosím vyberte ze seznamu"}]
["30.",null,null,null,null,null,null,null,null,null,null,null,0,{"$f":"C11","v":"Prosím vyberte ze seznamu"},{"$f":"C12","v":0},{"$f":"C13","v":"Prosím vyberte ze seznamu"},{"$f":"C14","v":"Prosím vyberte ze seznamu"}]
["31.",null,null,null,null,null,null,null,null,null,null,null,0,{"$f":"C11","v":"Prosím vyberte ze seznamu"},{"$f":"C12","v":0},{"$f":"C13","v":"Prosím vyberte ze seznamu"},{"$f":"C14","v":"Prosím vyberte ze seznamu"}]
["32.",null,null,null,null,null,null,null,null,null,null,null,0,{"$f":"C11","v":"Prosím vyberte ze seznamu"},{"$f":"C12","v":0},{"$f":"C13","v":"Prosím vyberte ze seznamu"},{"$f":"C14","v":"Prosím vyberte ze seznamu"}]
["33.",null,null,null,null,null,null,null,null,null,null,null,0,{"$f":"C11","v":"Prosím vyberte ze seznamu"},{"$f":"C12","v":0},{"$f":"C13","v":"Prosím vyberte ze seznamu"},{"$f":"C14","v":"Prosím vyberte ze seznamu"}]
["34.",null,null,null,null,null,null,null,null,null,null,null,0,{"$f":"C11","v":"Prosím vyberte ze seznamu"},{"$f":"C12","v":0},{"$f":"C13","v":"Prosím vyberte ze seznamu"},{"$f":"C14","v":"Prosím vyberte ze seznamu"}]
["35.",null,null,null,null,null,null,null,null,null,null,null,0,{"$f":"C11","v":"Prosím vyberte ze seznamu"},{"$f":"C12","v":0},{"$f":"C13","v":"Prosím vyberte ze seznamu"},{"$f":"C14","v":"Prosím vyberte ze seznamu"}]
[null,null,null,"CELKEM KUSŮ:",{"$f":"SUM(E19:E53)","v":0},"[ks]"]
[null,null,null,"CELKOVÁ HMOTNOST:",{"$f":"M55*N55","v":0},"[kg]",null,null,null,null,null,null,{"$f":"SUM(M19:M53)","v":0},{"$f":"VLOOKUP(N62,N63:O84,2,)","v":0}]
[]
[null,"Podstřiky a ostatní požadavky uvádějte do poznámky"]
[null,"OBJEDNÁVKY POUZE V ELEKTRONICKÉ PODOBĚ VYPLNĚNÉ V EXCELU"]
[]
[null,"KONTAKT: Objednávky - 724 555 691 nebo 541 241 832 "]
[null,null,null,null,"`"]
[null,null,null,null,null,null,null,null,null,null,null,null,null,{"$f":"C11","v":"Prosím vyberte ze seznamu"},"kg/m2"]
[null,null,null,null,null,null,null,null,null,null,null,null,null,"Prosím vyberte ze seznamu",0,null,null,"Prosím vyberte ze seznamu",null,"Prosím vyberte ze seznamu",null,"Prosím vyberte ze seznamu",null,"Prosím vyberte ze seznamu"]
[null,null,null,null,null,null,null,null,null,null,null,null,null,"MDFL3 jednostranně laminovaná",2.38,null,null,"Sražená hrana (fazeta 1x1mm)",null,"Sražená hrana/Sražená hrana",null,"Lesk",null,"Lesk/Mat"]
[null,null,null,null,null,null,null,null,null,null,null,null,null,"MDFL16 jednostranně laminovaná",12,null,null,"R1",null,"R1/R1",null,"Mat",null,"Lesk/Lesk"]
[null,null,null,null,null,null,null,null,null,null,null,null,null,"MDFL18 jednostranně laminovaná",13.86,null,null,"R2",null,"R2/R2",null,"Nanomat",null,"Lesk/Základ"]
[null,null,null,null,null,null,null,null,null,null,null,null,null,"MDFL22 jednostranně laminovaná",16.5,null,null,"R3",null,"R2/R1",null,"S-Mat",null,"Mat/Mat"]
[null,null,null,null,null,null,null,null,null,null,null,null,null,"MDF3 surová",2.38,null,null,"R6",null,"R3/R3",null,"Základ",null,"Mat/Základ"]
[null,null,null,null,null,null,null,null,null,null,null,null,null,"MDF4 surová",2.88,null,null,null,null,"R3/R1",null,null,null,"Nanomat/Nanomat"]
[null,null,null,null,null,null,null,null,null,null,null,null,null,"MDF6 surová",4.3099999999999996,null,null,null,null,"R6/R6",null,null,null,"Nanomat/Mat"]
[null,null,null,null,null,null,null,null,null,null,null,null,null,"MDF8 surová",6,null,null,null,null,"R6/R1",null,null,null,"Nanomat/Základ"]
[null,null,null,null,null,null,null,null,null,null,null,null,null,"MDF10 surová",7.9,null,null,null,null,null,null,null,null,"S-Mat/S-Mat"]
[null,null,null,null,null,null,null,null,null,null,null,null,null,"MDF12 surová",9.36,null,null,null,null,null,null,null,null,"S-Mat/Mat"]
[null,null,null,null,null,null,null,null,null,null,null,null,null,"MDF16 surová",12,null,null,null,null,null,null,null,null,"S-Mat/Základ"]
[null,null,null,null,null,null,null,null,null,null,null,null,null,"MDF18 surová",13.86]
[null,null,null,null,null,null,null,null,null,null,null,null,null,"MDF19 surová",14.25]
[null,null,null,null,null,null,null,null,null,null,null,null,null,"MDF22 surová",16.5]
[null,null,null,null,null,null,null,null,null,null,null,null,null,"MDF25 surová",18.75]
[null,null,null,null,null,null,null,null,null,null,null,null,null,"MDF28 surová",20.440000000000001]
[null,null,null,null,null,null,null,null,null,null,null,null,null,"MDF30 surová",21.9]
[null,null,null,null,null,null,null,null,null,null,null,null,null,"MDF32 surová",22.72]
[null,null,null,null,null,null,null,null,null,null,null,null,null,"MDF36 surová",24.48]
[null,null,null,null,null,null,null,null,null,null,null,null,null,"MDF38 surová",25.46]
[null,null,null,null,null,null,null,null,null,null,null,null,null,"MDF40 surová",26.79]

{"sheet":"DRAFT 5","index":4,"n_rows":84,"n_cols":24,"rows_kept":84,"cut":false,"hidden":false,"merged":[[15,7,16,7],[17,1,17,7],[55,1,55,7],[56,1,56,7],[57,1,58,7],[59,1,59,7],[15,1,16,1],[15,2,16,2],[15,3,16,3],[15,4,16,4],[15,5,16,5],[15,6,16,6],[7,2,7,5],[7,6,7,7],[8,2,8,5],[8,6,8,7],[9,1,9,7],[10,2,10,6],[10,7,13,7],[11,2,11,6],[12,2,12,6],[13,2,13,6],[1,1,1,7],[3,1,8,1],[3,2,3,5],[3,6,3,7],[4,2,4,5],[4,6,4,7],[5,2,5,5],[5,6,5,7],[6,2,6,5],[6,6,6,7]]}
[]
[null,"OBJEDNÁVKA LAKOVÁNÍ PLOŠNÝCH DÍLCŮ"]
[]
[null,null,"Zákazník:"]
[null,null,"Telefon:"]
[null,null,"Fakturační adresa:"]
[null,null,"IČO:"]
[null,null,"DIČ:"]
[null,null,"Dodací adresa:"]
[]
[null,"Materiál:","Prosím vyberte ze seznamu"]
[null,"Odstín (RAL,SAY,NCS):"]
[null,"Povrchová úprava:","Prosím vyberte ze seznamu"]
[null,"Opracování hran:","Prosím vyberte ze seznamu"]
[]
[null,"Název dílce:","Délka [mm]","Šířka [mm]","Počet kusů","Rám pro sklo","Úchytka","Poznámka"]
[]
[]
["1.",null,null,null,null,null,null,null,null,null,null,null,{"$f":"(((C19*D19))/1000000)*E19","v":0},{"$f":"C11","v":"Prosím vyberte ze seznamu"},{"$f":"C12","v":0},{"$f":"C13","v":"Prosím vyberte ze seznamu"},{"$f":"C14","v":"Prosím vyberte ze seznamu"}]
["2.",null,null,null,null,null,null,null,null,null,null,null,{"$f":"(((C20*D20))/1000000)*E20","v":0},{"$f":"C11","v":"Prosím vyberte ze seznamu"},{"$f":"C12","v":0},{"$f":"C13","v":"Prosím vyberte ze seznamu"},{"$f":"C14","v":"Prosím vyberte ze seznamu"}]
["3.",null,null,null,null,null,null,null,null,null,null,null,0,{"$f":"C11","v":"Prosím vyberte ze seznamu"},{"$f":"C12","v":0},{"$f":"C13","v":"Prosím vyberte ze seznamu"},{"$f":"C14","v":"Prosím vyberte ze seznamu"}]
["4.",null,null,null,null,null,null,null,null,null,null,null,0,{"$f":"C11","v":"Prosím vyberte ze seznamu"},{"$f":"C12","v":0},{"$f":"C13","v":"Prosím vyberte ze seznamu"},{"$f":"C14","v":"Prosím vyberte ze seznamu"}]
["5.",null,null,null,null,null,null,null,null,null,null,null,0,{"$f":"C11","v":"Prosím vyberte ze seznamu"},{"$f":"C12","v":0},{"$f":"C13","v":"Prosím vyberte ze seznamu"},{"$f":"C14","v":"Prosím vyberte ze seznamu"}]
["6.",null,null,null,null,null,null,null,null,null,null,null,0,{"$f":"C11","v":"Prosím vyberte ze seznamu"},{"$f":"C12","v":0},{"$f":"C13","v":"Prosím vyberte ze seznamu"},{"$f":"C14","v":"Prosím vyberte ze seznamu"}]
["7.",null,null,null,null,null,null,null,null,null,null,null,0,{"$f":"C11","v":"Prosím vyberte ze seznamu"},{"$f":"C12","v":0},{"$f":"C13","v":"Prosím vyberte ze seznamu"},{"$f":"C14","v":"Prosím vyberte ze seznamu"}]
["8.",null,null,null,null,null,null,null,null,null,null,null,0,{"$f":"C11","v":"Prosím vyberte ze seznamu"},{"$f":"C12","v":0},{"$f":"C13","v":"Prosím vyberte ze seznamu"},{"$f":"C14","v":"Prosím vyberte ze seznamu"}]
["9.",null,null,null,null,null,null,null,null,null,null,null,0,{"$f":"C11","v":"Prosím vyberte ze seznamu"},{"$f":"C12","v":0},{"$f":"C13","v":"Prosím vyberte ze seznamu"},{"$f":"C14","v":"Prosím vyberte ze seznamu"}]
["10.",null,null,null,null,null,null,null,null,null,null,null,0,{"$f":"C11","v":"Prosím vyberte ze seznamu"},{"$f":"C12","v":0},{"$f":"C13","v":"Prosím vyberte ze seznamu"},{"$f":"C14","v":"Prosím vyberte ze seznamu"}]
["11.",null,null,null,null,null,null,null,null,null,null,null,0,{"$f":"C11","v":"Prosím vyberte ze seznamu"},{"$f":"C12","v":0},{"$f":"C13","v":"Prosím vyberte ze seznamu"},{"$f":"C14","v":"Prosím vyberte ze seznamu"}]
["12.",null,null,null,null,null,null,null,null,null,null,null,0,{"$f":"C11","v":"Prosím vyberte ze seznamu"},{"$f":"C12","v":0},{"$f":"C13","v":"Prosím vyberte ze seznamu"},{"$f":"C14","v":"Prosím vyberte ze seznamu"}]
["13.",null,null,null,null,null,null,null,null,null,null,null,0,{"$f":"C11","v":"Prosím vyberte ze seznamu"},{"$f":"C12","v":0},{"$f":"C13","v":"Prosím vyberte ze seznamu"},{"$f":"C14","v":"Prosím vyberte ze seznamu"}]
["14.",null,null,null,null,null,null,null,null,null,null,null,0,{"$f":"C11","v":"Prosím vyberte ze seznamu"},{"$f":"C12","v":0},{"$f":"C13","v":"Prosím vyberte ze seznamu"},{"$f":"C14","v":"Prosím vyberte ze seznamu"}]
["15.",null,null,null,null,null,null,null,null,null,null,null,0,{"$f":"C11","v":"Prosím vyberte ze seznamu"},{"$f":"C12","v":0},{"$f":"C13","v":"Prosím vyberte ze seznamu"},{"$f":"C14","v":"Prosím vyberte ze seznamu"}]
["16.",null,null,null,null,null,null,null,null,null,null,null,0,{"$f":"C11","v":"Prosím vyberte ze seznamu"},{"$f":"C12","v":0},{"$f":"C13","v":"Prosím vyberte ze seznamu"},{"$f":"C14","v":"Prosím vyberte ze seznamu"}]
["17.",null,null,null,null,null,null,null,null,null,null,null,0,{"$f":"C11","v":"Prosím vyberte ze seznamu"},{"$f":"C12","v":0},{"$f":"C13","v":"Prosím vyberte ze seznamu"},{"$f":"C14","v":"Prosím vyberte ze seznamu"}]
["18.",null,null,null,null,null,null,null,null,null,null,null,0,{"$f":"C11","v":"Prosím vyberte ze seznamu"},{"$f":"C12","v":0},{"$f":"C13","v":"Prosím vyberte ze seznamu"},{"$f":"C14","v":"Prosím vyberte ze seznamu"}]
["19.",null,null,null,null,null,null,null,null,null,null,null,0,{"$f":"C11","v":"Prosím vyberte ze seznamu"},{"$f":"C12","v":0},{"$f":"C13","v":"Prosím vyberte ze seznamu"},{"$f":"C14","v":"Prosím vyberte ze seznamu"}]
["20.",null,null,null,null,null,null,null,null,null,null,null,0,{"$f":"C11","v":"Prosím vyberte ze seznamu"},{"$f":"C12","v":0},{"$f":"C13","v":"Prosím vyberte ze seznamu"},{"$f":"C14","v":"Prosím vyberte ze seznamu"}]
["21.",null,null,null,null,null,null,null,null,null,null,null,0,{"$f":"C11","v":"Prosím vyberte ze seznamu"},{"$f":"C12","v":0},{"$f":"C13","v":"Prosím vyberte ze seznamu"},{"$f":"C14","v":"Prosím vyberte ze seznamu"}]
["22.",null,null,null,null,null,null,null,null,null,null,null,0,{"$f":"C11","v":"Prosím vyberte ze seznamu"},{"$f":"C12","v":0},{"$f":"C13","v":"Prosím vyberte ze seznamu"},{"$f":"C14","v":"Prosím vyberte ze seznamu"}]
["23.",null,null,null,null,null,null,null,null,null,null,null,0,{"$f":"C11","v":"Prosím vyberte ze seznamu"},{"$f":"C12","v":0},{"$f":"C13","v":"Prosím vyberte ze seznamu"},{"$f":"C14","v":"Prosím vyberte ze seznamu"}]
["24.",null,null,null,null,null,null,null,null,null,null,null,0,{"$f":"C11","v":"Prosím vyberte ze seznamu"},{"$f":"C12","v":0},{"$f":"C13","v":"Prosím vyberte ze seznamu"},{"$f":"C14","v":"Prosím vyberte ze seznamu"}]
["25.",null,null,null,null,null,null,null,null,null,null,null,0,{"$f":"C11","v":"Prosím vyberte ze seznamu"},{"$f":"C12","v":0},{"$f":"C13","v":"Prosím vyberte ze seznamu"},{"$f":"C14","v":"Prosím vyberte ze seznamu"}]
["26.",null,null,null,null,null,null,null,null,null,null,null,0,{"$f":"C11","v":"Prosím vyberte ze seznamu"},{"$f":"C12","v":0},{"$f":"C13","v":"Prosím vyberte ze seznamu"},{"$f":"C14","v":"Prosím vyberte ze seznamu"}]
["27.",null,null,null,null,null,null,null,null,null,null,null,0,{"$f":"C11","v":"Prosím vyberte ze seznamu"},{"$f":"C12","v":0},{"$f":"C13","v":"Prosím vyberte ze seznamu"},{"$f":"C14","v":"Prosím vyberte ze seznamu"}]
["28.",null,null,null,null,null,null,null,null,null,null,null,0,{"$f":"C11","v":"Prosím vyberte ze seznamu"},{"$f":"C12","v":0},{"$f":"C13","v":"Prosím vyberte ze seznamu"},{"$f":"C14","v":"Prosím vyberte ze seznamu"}]
["29.",null,null,null,null,null,null,null,null,null,null,null,0,{"$f":"C11","v":"Prosím vyberte ze seznamu"},{"$f":"C12","v":0},{"$f":"C13","v":"Prosím vyberte ze seznamu"},{"$f":"C14","v":"Prosím vyberte ze seznamu"}]
["30.",null,null,null,null,null,null,null,null,null,null,null,0,{"$f":"C11","v":"Prosím vyberte ze seznamu"},{"$f":"C12","v":0},{"$f":"C13","v":"Prosím vyberte ze seznamu"},{"$f":"C14","v":"Prosím vyberte ze seznamu"}]
["31.",null,null,null,null,null,null,null,null,null,null,null,0,{"$f":"C11","v":"Prosím vyberte ze seznamu"},{"$f":"C12","v":0},{"$f":"C13","v":"Prosím vyberte ze seznamu"},{"$f":"C14","v":"Prosím vyberte ze seznamu"}]
["32.",null,null,null,null,null,null,null,null,null,null,null,0,{"$f":"C11","v":"Prosím vyberte ze seznamu"},{"$f":"C12","v":0},{"$f":"C13","v":"Prosím vyberte ze seznamu"},{"$f":"C14","v":"Prosím vyberte ze seznamu"}]
["33.",null,null,null,null,null,null,null,null,null,null,null,0,{"$f":"C11","v":"Prosím vyberte ze seznamu"},{"$f":"C12","v":0},{"$f":"C13","v":"Prosím vyberte ze seznamu"},{"$f":"C14","v":"Prosím vyberte ze seznamu"}]
["34.",null,null,null,null,null,null,null,null,null,null,null,0,{"$f":"C11","v":"Prosím vyberte ze seznamu"},{"$f":"C12","v":0},{"$f":"C13","v":"Prosím vyberte ze seznamu"},{"$f":"C14","v":"Prosím vyberte ze seznamu"}]
["35.",null,null,null,null,null,null,null,null,null,null,null,0,{"$f":"C11","v":"Prosím vyberte ze seznamu"},{"$f":"C12","v":0},{"$f":"C13","v":"Prosím vyberte ze seznamu"},{"$f":"C14","v":"Prosím vyberte ze seznamu"}]
[null,null,null,"CELKEM KUSŮ:",{"$f":"SUM(E19:E53)","v":0},"[ks]"]
[null,null,null,"CELKOVÁ HMOTNOST:",{"$f":"M55*N55","v":0},"[kg]",null,null,null,null,null,null,{"$f":"SUM(M19:M53)","v":0},{"$f":"VLOOKUP(N62,N63:O84,2,)","v":0}]
[]
[null,"Podstřiky a ostatní požadavky uvádějte do poznámky"]
[null,"OBJEDNÁVKY POUZE V ELEKTRONICKÉ PODOBĚ VYPLNĚNÉ V EXCELU"]
[]
[null,"KONTAKT: Objednávky - 724 555 691 nebo 541 241 832 "]
[null,null,null,null,"`"]
[null,null,null,null,null,null,null,null,null,null,null,null,null,{"$f":"C11","v":"Prosím vyberte ze seznamu"},"kg/m2"]
[null,null,null,null,null,null,null,null,null,null,null,null,null,"Prosím vyberte ze seznamu",0,null,null,"Prosím vyberte ze seznamu",null,"Prosím vyberte ze seznamu",null,"Prosím vyberte ze seznamu",null,"Prosím vyberte ze seznamu"]
[null,null,null,null,null,null,null,null,null,null,null,null,null,"MDFL3 jednostranně laminovaná",2.38,null,null,"Sražená hrana (fazeta 1x1mm)",null,"Sražená hrana/Sražená hrana",null,"Lesk",null,"Lesk/Mat"]
[null,null,null,null,null,null,null,null,null,null,null,null,null,"MDFL16 jednostranně laminovaná",12,null,null,"R1",null,"R1/R1",null,"Mat",null,"Lesk/Lesk"]
[null,null,null,null,null,null,null,null,null,null,null,null,null,"MDFL18 jednostranně laminovaná",13.86,null,null,"R2",null,"R2/R2",null,"Nanomat",null,"Lesk/Základ"]
[null,null,null,null,null,null,null,null,null,null,null,null,null,"MDFL22 jednostranně laminovaná",16.5,null,null,"R3",null,"R2/R1",null,"S-Mat",null,"Mat/Mat"]
[null,null,null,null,null,null,null,null,null,null,null,null,null,"MDF3 surová",2.38,null,null,"R6",null,"R3/R3",null,"Základ",null,"Mat/Základ"]
[null,null,null,null,null,null,null,null,null,null,null,null,null,"MDF4 surová",2.88,null,null,null,null,"R3/R1",null,null,null,"Nanomat/Nanomat"]
[null,null,null,null,null,null,null,null,null,null,null,null,null,"MDF6 surová",4.3099999999999996,null,null,null,null,"R6/R6",null,null,null,"Nanomat/Mat"]
[null,null,null,null,null,null,null,null,null,null,null,null,null,"MDF8 surová",6,null,null,null,null,"R6/R1",null,null,null,"Nanomat/Základ"]
[null,null,null,null,null,null,null,null,null,null,null,null,null,"MDF10 surová",7.9,null,null,null,null,null,null,null,null,"S-Mat/S-Mat"]
[null,null,null,null,null,null,null,null,null,null,null,null,null,"MDF12 surová",9.36,null,null,null,null,null,null,null,null,"S-Mat/Mat"]
[null,null,null,null,null,null,null,null,null,null,null,null,null,"MDF16 surová",12,null,null,null,null,null,null,null,null,"S-Mat/Základ"]
[null,null,null,null,null,null,null,null,null,null,null,null,null,"MDF18 surová",13.86]
[null,null,null,null,null,null,null,null,null,null,null,null,null,"MDF19 surová",14.25]
[null,null,null,null,null,null,null,null,null,null,null,null,null,"MDF22 surová",16.5]
[null,null,null,null,null,null,null,null,null,null,null,null,null,"MDF25 surová",18.75]
[null,null,null,null,null,null,null,null,null,null,null,null,null,"MDF28 surová",20.440000000000001]
[null,null,null,null,null,null,null,null,null,null,null,null,null,"MDF30 surová",21.9]
[null,null,null,null,null,null,null,null,null,null,null,null,null,"MDF32 surová",22.72]
[null,null,null,null,null,null,null,null,null,null,null,null,null,"MDF36 surová",24.48]
[null,null,null,null,null,null,null,null,null,null,null,null,null,"MDF38 surová",25.46]
[null,null,null,null,null,null,null,null,null,null,null,null,null,"MDF40 surová",26.79]

{"sheet":"DRAFT 6","index":5,"n_rows":84,"n_cols":24,"rows_kept":84,"cut":false,"hidden":false,"merged":[[15,7,16,7],[17,1,17,7],[55,1,55,7],[56,1,56,7],[57,1,58,7],[59,1,59,7],[15,1,16,1],[15,2,16,2],[15,3,16,3],[15,4,16,4],[15,5,16,5],[15,6,16,6],[7,2,7,5],[7,6,7,7],[8,2,8,5],[8,6,8,7],[9,1,9,7],[10,2,10,6],[10,7,13,7],[11,2,11,6],[12,2,12,6],[13,2,13,6],[1,1,1,7],[3,1,8,1],[3,2,3,5],[3,6,3,7],[4,2,4,5],[4,6,4,7],[5,2,5,5],[5,6,5,7],[6,2,6,5],[6,6,6,7]]}
[]
[null,"OBJEDNÁVKA LAKOVÁNÍ PLOŠNÝCH DÍLCŮ"]
[]
[null,null,"Zákazník:"]
[null,null,"Telefon:"]
[null,null,"Fakturační adresa:"]
[null,null,"IČO:"]
[null,null,"DIČ:"]
[null,null,"Dodací adresa:"]
[]
[null,"Materiál:","Prosím vyberte ze seznamu"]
[null,"Odstín (RAL,SAY,NCS):"]
[null,"Povrchová úprava:","Prosím vyberte ze seznamu"]
[null,"Opracování hran:","Prosím vyberte ze seznamu"]
[]
[null,"Název dílce:","Délka [mm]","Šířka [mm]","Počet kusů","Rám pro sklo","Úchytka","Poznámka"]
[]
[]
["1.",null,null,null,null,null,null,null,null,null,null,null,{"$f":"(((C19*D19))/1000000)*E19","v":0},{"$f":"C11","v":"Prosím vyberte ze seznamu"},{"$f":"C12","v":0},{"$f":"C13","v":"Prosím vyberte ze seznamu"},{"$f":"C14","v":"Prosím vyberte ze seznamu"}]
["2.",null,null,null,null,null,null,null,null,null,null,null,{"$f":"(((C20*D20))/1000000)*E20","v":0},{"$f":"C11","v":"Prosím vyberte ze seznamu"},{"$f":"C12","v":0},{"$f":"C13","v":"Prosím vyberte ze seznamu"},{"$f":"C14","v":"Prosím vyberte ze seznamu"}]
["3.",null,null,null,null,null,null,null,null,null,null,null,0,{"$f":"C11","v":"Prosím vyberte ze seznamu"},{"$f":"C12","v":0},{"$f":"C13","v":"Prosím vyberte ze seznamu"},{"$f":"C14","v":"Prosím vyberte ze seznamu"}]
["4.",null,null,null,null,null,null,null,null,null,null,null,0,{"$f":"C11","v":"Prosím vyberte ze seznamu"},{"$f":"C12","v":0},{"$f":"C13","v":"Prosím vyberte ze seznamu"},{"$f":"C14","v":"Prosím vyberte ze seznamu"}]
["5.",null,null,null,null,null,null,null,null,null,null,null,0,{"$f":"C11","v":"Prosím vyberte ze seznamu"},{"$f":"C12","v":0},{"$f":"C13","v":"Prosím vyberte ze seznamu"},{"$f":"C14","v":"Prosím vyberte ze seznamu"}]
["6.",null,null,null,null,null,null,null,null,null,null,null,0,{"$f":"C11","v":"Prosím vyberte ze seznamu"},{"$f":"C12","v":0},{"$f":"C13","v":"Prosím vyberte ze seznamu"},{"$f":"C14","v":"Prosím vyberte ze seznamu"}]
["7.",null,null,null,null,null,null,null,null,null,null,null,0,{"$f":"C11","v":"Prosím vyberte ze seznamu"},{"$f":"C12","v":0},{"$f":"C13","v":"Prosím vyberte ze seznamu"},{"$f":"C14","v":"Prosím vyberte ze seznamu"}]
["8.",null,null,null,null,null,null,null,null,null,null,null,0,{"$f":"C11","v":"Prosím vyberte ze seznamu"},{"$f":"C12","v":0},{"$f":"C13","v":"Prosím vyberte ze seznamu"},{"$f":"C14","v":"Prosím vyberte ze seznamu"}]
["9.",null,null,null,null,null,null,null,null,null,null,null,0,{"$f":"C11","v":"Prosím vyberte ze seznamu"},{"$f":"C12","v":0},{"$f":"C13","v":"Prosím vyberte ze seznamu"},{"$f":"C14","v":"Prosím vyberte ze seznamu"}]
["10.",null,null,null,null,null,null,null,null,null,null,null,0,{"$f":"C11","v":"Prosím vyberte ze seznamu"},{"$f":"C12","v":0},{"$f":"C13","v":"Prosím vyberte ze seznamu"},{"$f":"C14","v":"Prosím vyberte ze seznamu"}]
["11.",null,null,null,null,null,null,null,null,null,null,null,0,{"$f":"C11","v":"Prosím vyberte ze seznamu"},{"$f":"C12","v":0},{"$f":"C13","v":"Prosím vyberte ze seznamu"},{"$f":"C14","v":"Prosím vyberte ze seznamu"}]
["12.",null,null,null,null,null,null,null,null,null,null,null,0,{"$f":"C11","v":"Prosím vyberte ze seznamu"},{"$f":"C12","v":0},{"$f":"C13","v":"Prosím vyberte ze seznamu"},{"$f":"C14","v":"Prosím vyberte ze seznamu"}]
["13.",null,null,null,null,null,null,null,null,null,null,null,0,{"$f":"C11","v":"Prosím vyberte ze seznamu"},{"$f":"C12","v":0},{"$f":"C13","v":"Prosím vyberte ze seznamu"},{"$f":"C14","v":"Prosím vyberte ze seznamu"}]
["14.",null,null,null,null,null,null,null,null,null,null,null,0,{"$f":"C11","v":"Prosím vyberte ze seznamu"},{"$f":"C12","v":0},{"$f":"C13","v":"Prosím vyberte ze seznamu"},{"$f":"C14","v":"Prosím vyberte ze seznamu"}]
["15.",null,null,null,null,null,null,null,null,null,null,null,0,{"$f":"C11","v":"Prosím vyberte ze seznamu"},{"$f":"C12","v":0},{"$f":"C13","v":"Prosím vyberte ze seznamu"},{"$f":"C14","v":"Prosím vyberte ze seznamu"}]
["16.",null,null,null,null,null,null,null,null,null,null,null,0,{"$f":"C11","v":"Prosím vyberte ze seznamu"},{"$f":"C12","v":0},{"$f":"C13","v":"Prosím vyberte ze seznamu"},{"$f":"C14","v":"Prosím vyberte ze seznamu"}]
["17.",null,null,null,null,null,null,null,null,null,null,null,0,{"$f":"C11","v":"Prosím vyberte ze seznamu"},{"$f":"C12","v":0},{"$f":"C13","v":"Prosím vyberte ze seznamu"},{"$f":"C14","v":"Prosím vyberte ze seznamu"}]
["18.",null,null,null,null,null,null,null,null,null,null,null,0,{"$f":"C11","v":"Prosím vyberte ze seznamu"},{"$f":"C12","v":0},{"$f":"C13","v":"Prosím vyberte ze seznamu"},{"$f":"C14","v":"Prosím vyberte ze seznamu"}]
["19.",null,null,null,null,null,null,null,null,null,null,null,0,{"$f":"C11","v":"Prosím vyberte ze seznamu"},{"$f":"C12","v":0},{"$f":"C13","v":"Prosím vyberte ze seznamu"},{"$f":"C14","v":"Prosím vyberte ze seznamu"}]
["20.",null,null,null,null,null,null,null,null,null,null,null,0,{"$f":"C11","v":"Prosím vyberte ze seznamu"},{"$f":"C12","v":0},{"$f":"C13","v":"Prosím vyberte ze seznamu"},{"$f":"C14","v":"Prosím vyberte ze seznamu"}]
["21.",null,null,null,null,null,null,null,null,null,null,null,0,{"$f":"C11","v":"Prosím vyberte ze seznamu"},{"$f":"C12","v":0},{"$f":"C13","v":"Prosím vyberte ze seznamu"},{"$f":"C14","v":"Prosím vyberte ze seznamu"}]
["22.",null,null,null,null,null,null,null,null,null,null,null,0,{"$f":"C11","v":"Prosím vyberte ze seznamu"},{"$f":"C12","v":0},{"$f":"C13","v":"Prosím vyberte ze seznamu"},{"$f":"C14","v":"Prosím vyberte ze seznamu"}]
["23.",null,null,null,null,null,null,null,null,null,null,null,0,{"$f":"C11","v":"Prosím vyberte ze seznamu"},{"$f":"C12","v":0},{"$f":"C13","v":"Prosím vyberte ze seznamu"},{"$f":"C14","v":"Prosím vyberte ze seznamu"}]
["24.",null,null,null,null,null,null,null,null,null,null,null,0,{"$f":"C11","v":"Prosím vyberte ze seznamu"},{"$f":"C12","v":0},{"$f":"C13","v":"Prosím vyberte ze seznamu"},{"$f":"C14","v":"Prosím vyberte ze seznamu"}]
["25.",null,null,null,null,null,null,null,null,null,null,null,0,{"$f":"C11","v":"Prosím vyberte ze seznamu"},{"$f":"C12","v":0},{"$f":"C13","v":"Prosím vyberte ze seznamu"},{"$f":"C14","v":"Prosím vyberte ze seznamu"}]
["26.",null,null,null,null,null,null,null,null,null,null,null,0,{"$f":"C11","v":"Prosím vyberte ze seznamu"},{"$f":"C12","v":0},{"$f":"C13","v":"Prosím vyberte ze seznamu"},{"$f":"C14","v":"Prosím vyberte ze seznamu"}]
["27.",null,null,null,null,null,null,null,null,null,null,null,0,{"$f":"C11","v":"Prosím vyberte ze seznamu"},{"$f":"C12","v":0},{"$f":"C13","v":"Prosím vyberte ze seznamu"},{"$f":"C14","v":"Prosím vyberte ze seznamu"}]
["28.",null,null,null,null,null,null,null,null,null,null,null,0,{"$f":"C11","v":"Prosím vyberte ze seznamu"},{"$f":"C12","v":0},{"$f":"C13","v":"Prosím vyberte ze seznamu"},{"$f":"C14","v":"Prosím vyberte ze seznamu"}]
["29.",null,null,null,null,null,null,null,null,null,null,null,0,{"$f":"C11","v":"Prosím vyberte ze seznamu"},{"$f":"C12","v":0},{"$f":"C13","v":"Prosím vyberte ze seznamu"},{"$f":"C14","v":"Prosím vyberte ze seznamu"}]
["30.",null,null,null,null,null,null,null,null,null,null,null,0,{"$f":"C11","v":"Prosím vyberte ze seznamu"},{"$f":"C12","v":0},{"$f":"C13","v":"Prosím vyberte ze seznamu"},{"$f":"C14","v":"Prosím vyberte ze seznamu"}]
["31.",null,null,null,null,null,null,null,null,null,null,null,0,{"$f":"C11","v":"Prosím vyberte ze seznamu"},{"$f":"C12","v":0},{"$f":"C13","v":"Prosím vyberte ze seznamu"},{"$f":"C14","v":"Prosím vyberte ze seznamu"}]
["32.",null,null,null,null,null,null,null,null,null,null,null,0,{"$f":"C11","v":"Prosím vyberte ze seznamu"},{"$f":"C12","v":0},{"$f":"C13","v":"Prosím vyberte ze seznamu"},{"$f":"C14","v":"Prosím vyberte ze seznamu"}]
["33.",null,null,null,null,null,null,null,null,null,null,null,0,{"$f":"C11","v":"Prosím vyberte ze seznamu"},{"$f":"C12","v":0},{"$f":"C13","v":"Prosím vyberte ze seznamu"},{"$f":"C14","v":"Prosím vyberte ze seznamu"}]
["34.",null,null,null,null,null,null,null,null,null,null,null,0,{"$f":"C11","v":"Prosím vyberte ze seznamu"},{"$f":"C12","v":0},{"$f":"C13","v":"Prosím vyberte ze seznamu"},{"$f":"C14","v":"Prosím vyberte ze seznamu"}]
["35.",null,null,null,null,null,null,null,null,null,null,null,0,{"$f":"C11","v":"Prosím vyberte ze seznamu"},{"$f":"C12","v":0},{"$f":"C13","v":"Prosím vyberte ze seznamu"},{"$f":"C14","v":"Prosím vyberte ze seznamu"}]
[null,null,null,"CELKEM KUSŮ:",{"$f":"SUM(E19:E53)","v":0},"[ks]"]
[null,null,null,"CELKOVÁ HMOTNOST:",{"$f":"M55*N55","v":0},"[kg]",null,null,null,null,null,null,{"$f":"SUM(M19:M53)","v":0},{"$f":"VLOOKUP(N62,N63:O84,2,)","v":0}]
[]
[null,"Podstřiky a ostatní požadavky uvádějte do poznámky"]
[null,"OBJEDNÁVKY POUZE V ELEKTRONICKÉ PODOBĚ VYPLNĚNÉ V EXCELU"]
[]
[null,"KONTAKT: Objednávky - 724 555 691 nebo 541 241 832 "]
[null,null,null,null,"`"]
[null,null,null,null,null,null,null,null,null,null,null,null,null,{"$f":"C11","v":"Prosím vyberte ze seznamu"},"kg/m2"]
[null,null,null,null,null,null,null,null,null,null,null,null,null,"Prosím vyberte ze seznamu",0,null,null,"Prosím vyberte ze seznamu",null,"Prosím vyberte ze seznamu",null,"Prosím vyberte ze seznamu",null,"Prosím vyberte ze seznamu"]
[null,null,null,null,null,null,null,null,null,null,null,null,null,"MDFL3 jednostranně laminovaná",2.38,null,null,"Sražená hrana (fazeta 1x1mm)",null,"Sražená hrana/Sražená hrana",null,"Lesk",null,"Lesk/Mat"]
[null,null,null,null,null,null,null,null,null,null,null,null,null,"MDFL16 jednostranně laminovaná",12,null,null,"R1",null,"R1/R1",null,"Mat",null,"Lesk/Lesk"]
[null,null,null,null,null,null,null,null,null,null,null,null,null,"MDFL18 jednostranně laminovaná",13.86,null,null,"R2",null,"R2/R2",null,"Nanomat",null,"Lesk/Základ"]
[null,null,null,null,null,null,null,null,null,null,null,null,null,"MDFL22 jednostranně laminovaná",16.5,null,null,"R3",null,"R2/R1",null,"S-Mat",null,"Mat/Mat"]
[null,null,null,null,null,null,null,null,null,null,null,null,null,"MDF3 surová",2.38,null,null,"R6",null,"R3/R3",null,"Základ",null,"Mat/Základ"]
[null,null,null,null,null,null,null,null,null,null,null,null,null,"MDF4 surová",2.88,null,null,null,null,"R3/R1",null,null,null,"Nanomat/Nanomat"]
[null,null,null,null,null,null,null,null,null,null,null,null,null,"MDF6 surová",4.3099999999999996,null,null,null,null,"R6/R6",null,null,null,"Nanomat/Mat"]
[null,null,null,null,null,null,null,null,null,null,null,null,null,"MDF8 surová",6,null,null,null,null,"R6/R1",null,null,null,"Nanomat/Základ"]
[null,null,null,null,null,null,null,null,null,null,null,null,null,"MDF10 surová",7.9,null,null,null,null,null,null,null,null,"S-Mat/S-Mat"]
[null,null,null,null,null,null,null,null,null,null,null,null,null,"MDF12 surová",9.36,null,null,null,null,null,null,null,null,"S-Mat/Mat"]
[null,null,null,null,null,null,null,null,null,null,null,null,null,"MDF16 surová",12,null,null,null,null,null,null,null,null,"S-Mat/Základ"]
[null,null,null,null,null,null,null,null,null,null,null,null,null,"MDF18 surová",13.86]
[null,null,null,null,null,null,null,null,null,null,null,null,null,"MDF19 surová",14.25]
[null,null,null,null,null,null,null,null,null,null,null,null,null,"MDF22 surová",16.5]
[null,null,null,null,null,null,null,null,null,null,null,null,null,"MDF25 surová",18.75]
[null,null,null,null,null,null,null,null,null,null,null,null,null,"MDF28 surová",20.440000000000001]
[null,null,null,null,null,null,null,null,null,null,null,null,null,"MDF30 surová",21.9]
[null,null,null,null,null,null,null,null,null,null,null,null,null,"MDF32 surová",22.72]
[null,null,null,null,null,null,null,null,null,null,null,null,null,"MDF36 surová",24.48]
[null,null,null,null,null,null,null,null,null,null,null,null,null,"MDF38 surová",25.46]
[null,null,null,null,null,null,null,null,null,null,null,null,null,"MDF40 surová",26.79]

{"sheet":"DRAFT 7","index":6,"n_rows":84,"n_cols":24,"rows_kept":84,"cut":false,"hidden":false,"merged":[[15,7,16,7],[17,1,17,7],[55,1,55,7],[56,1,56,7],[57,1,58,7],[59,1,59,7],[15,1,16,1],[15,2,16,2],[15,3,16,3],[15,4,16,4],[15,5,16,5],[15,6,16,6],[7,2,7,5],[7,6,7,7],[8,2,8,5],[8,6,8,7],[9,1,9,7],[10,2,10,6],[10,7,13,7],[11,2,11,6],[12,2,12,6],[13,2,13,6],[1,1,1,7],[3,1,8,1],[3,2,3,5],[3,6,3,7],[4,2,4,5],[4,6,4,7],[5,2,5,5],[5,6,5,7],[6,2,6,5],[6,6,6,7]]}
[]
[null,"OBJEDNÁVKA LAKOVÁNÍ PLOŠNÝCH DÍLCŮ"]
[]
[null,null,"Zákazník:"]
[null,null,"Telefon:"]
[null,null,"Fakturační adresa:"]
[null,null,"IČO:"]
[null,null,"DIČ:"]
[null,null,"Dodací adresa:"]
[]
[null,"Materiál:","Prosím vyberte ze seznamu"]
[null,"Odstín (RAL,SAY,NCS):"]
[null,"Povrchová úprava:","Prosím vyberte ze seznamu"]
[null,"Opracování hran:","Prosím vyberte ze seznamu"]
[]
[null,"Název dílce:","Délka [mm]","Šířka [mm]","Počet kusů","Rám pro sklo","Úchytka","Poznámka"]
[]
[]
["1.",null,null,null,null,null,null,null,null,null,null,null,{"$f":"(((C19*D19))/1000000)*E19","v":0},{"$f":"C11","v":"Prosím vyberte ze seznamu"},{"$f":"C12","v":0},{"$f":"C13","v":"Prosím vyberte ze seznamu"},{"$f":"C14","v":"Prosím vyberte ze seznamu"}]
["2.",null,null,null,null,null,null,null,null,null,null,null,{"$f":"(((C20*D20))/1000000)*E20","v":0},{"$f":"C11","v":"Prosím vyberte ze seznamu"},{"$f":"C12","v":0},{"$f":"C13","v":"Prosím vyberte ze seznamu"},{"$f":"C14","v":"Prosím vyberte ze seznamu"}]
["3.",null,null,null,null,null,null,null,null,null,null,null,0,{"$f":"C11","v":"Prosím vyberte ze seznamu"},{"$f":"C12","v":0},{"$f":"C13","v":"Prosím vyberte ze seznamu"},{"$f":"C14","v":"Prosím vyberte ze seznamu"}]
["4.",null,null,null,null,null,null,null,null,null,null,null,0,{"$f":"C11","v":"Prosím vyberte ze seznamu"},{"$f":"C12","v":0},{"$f":"C13","v":"Prosím vyberte ze seznamu"},{"$f":"C14","v":"Prosím vyberte ze seznamu"}]
["5.",null,null,null,null,null,null,null,null,null,null,null,0,{"$f":"C11","v":"Prosím vyberte ze seznamu"},{"$f":"C12","v":0},{"$f":"C13","v":"Prosím vyberte ze seznamu"},{"$f":"C14","v":"Prosím vyberte ze seznamu"}]
["6.",null,null,null,null,null,null,null,null,null,null,null,0,{"$f":"C11","v":"Prosím vyberte ze seznamu"},{"$f":"C12","v":0},{"$f":"C13","v":"Prosím vyberte ze seznamu"},{"$f":"C14","v":"Prosím vyberte ze seznamu"}]
["7.",null,null,null,null,null,null,null,null,null,null,null,0,{"$f":"C11","v":"Prosím vyberte ze seznamu"},{"$f":"C12","v":0},{"$f":"C13","v":"Prosím vyberte ze seznamu"},{"$f":"C14","v":"Prosím vyberte ze seznamu"}]
["8.",null,null,null,null,null,null,null,null,null,null,null,0,{"$f":"C11","v":"Prosím vyberte ze seznamu"},{"$f":"C12","v":0},{"$f":"C13","v":"Prosím vyberte ze seznamu"},{"$f":"C14","v":"Prosím vyberte ze seznamu"}]
["9.",null,null,null,null,null,null,null,null,null,null,null,0,{"$f":"C11","v":"Prosím vyberte ze seznamu"},{"$f":"C12","v":0},{"$f":"C13","v":"Prosím vyberte ze seznamu"},{"$f":"C14","v":"Prosím vyberte ze seznamu"}]
["10.",null,null,null,null,null,null,null,null,null,null,null,0,{"$f":"C11","v":"Prosím vyberte ze seznamu"},{"$f":"C12","v":0},{"$f":"C13","v":"Prosím vyberte ze seznamu"},{"$f":"C14","v":"Prosím vyberte ze seznamu"}]
["11.",null,null,null,null,null,null,null,null,null,null,null,0,{"$f":"C11","v":"Prosím vyberte ze seznamu"},{"$f":"C12","v":0},{"$f":"C13","v":"Prosím vyberte ze seznamu"},{"$f":"C14","v":"Prosím vyberte ze seznamu"}]
["12.",null,null,null,null,null,null,null,null,null,null,null,0,{"$f":"C11","v":"Prosím vyberte ze seznamu"},{"$f":"C12","v":0},{"$f":"C13","v":"Prosím vyberte ze seznamu"},{"$f":"C14","v":"Prosím vyberte ze seznamu"}]
["13.",null,null,null,null,null,null,null,null,null,null,null,0,{"$f":"C11","v":"Prosím vyberte ze seznamu"},{"$f":"C12","v":0},{"$f":"C13","v":"Prosím vyberte ze seznamu"},{"$f":"C14","v":"Prosím vyberte ze seznamu"}]
["14.",null,null,null,null,null,null,null,null,null,null,null,0,{"$f":"C11","v":"Prosím vyberte ze seznamu"},{"$f":"C12","v":0},{"$f":"C13","v":"Prosím vyberte ze seznamu"},{"$f":"C14","v":"Prosím vyberte ze seznamu"}]
["15.",null,null,null,null,null,null,null,null,null,null,null,0,{"$f":"C11","v":"Prosím vyberte ze seznamu"},{"$f":"C12","v":0},{"$f":"C13","v":"Prosím vyberte ze seznamu"},{"$f":"C14","v":"Prosím vyberte ze seznamu"}]
["16.",null,null,null,null,null,null,null,null,null,null,null,0,{"$f":"C11","v":"Prosím vyberte ze seznamu"},{"$f":"C12","v":0},{"$f":"C13","v":"Prosím vyberte ze seznamu"},{"$f":"C14","v":"Prosím vyberte ze seznamu"}]
["17.",null,null,null,null,null,null,null,null,null,null,null,0,{"$f":"C11","v":"Prosím vyberte ze seznamu"},{"$f":"C12","v":0},{"$f":"C13","v":"Prosím vyberte ze seznamu"},{"$f":"C14","v":"Prosím vyberte ze seznamu"}]
["18.",null,null,null,null,null,null,null,null,null,null,null,0,{"$f":"C11","v":"Prosím vyberte ze seznamu"},{"$f":"C12","v":0},{"$f":"C13","v":"Prosím vyberte ze seznamu"},{"$f":"C14","v":"Prosím vyberte ze seznamu"}]
["19.",null,null,null,null,null,null,null,null,null,null,null,0,{"$f":"C11","v":"Prosím vyberte ze seznamu"},{"$f":"C12","v":0},{"$f":"C13","v":"Prosím vyberte ze seznamu"},{"$f":"C14","v":"Prosím vyberte ze seznamu"}]
["20.",null,null,null,null,null,null,null,null,null,null,null,0,{"$f":"C11","v":"Prosím vyberte ze seznamu"},{"$f":"C12","v":0},{"$f":"C13","v":"Prosím vyberte ze seznamu"},{"$f":"C14","v":"Prosím vyberte ze seznamu"}]
["21.",null,null,null,null,null,null,null,null,null,null,null,0,{"$f":"C11","v":"Prosím vyberte ze seznamu"},{"$f":"C12","v":0},{"$f":"C13","v":"Prosím vyberte ze seznamu"},{"$f":"C14","v":"Prosím vyberte ze seznamu"}]
["22.",null,null,null,null,null,null,null,null,null,null,null,0,{"$f":"C11","v":"Prosím vyberte ze seznamu"},{"$f":"C12","v":0},{"$f":"C13","v":"Prosím vyberte ze seznamu"},{"$f":"C14","v":"Prosím vyberte ze seznamu"}]
["23.",null,null,null,null,null,null,null,null,null,null,null,0,{"$f":"C11","v":"Prosím vyberte ze seznamu"},{"$f":"C12","v":0},{"$f":"C13","v":"Prosím vyberte ze seznamu"},{"$f":"C14","v":"Prosím vyberte ze seznamu"}]
["24.",null,null,null,null,null,null,null,null,null,null,null,0,{"$f":"C11","v":"Prosím vyberte ze seznamu"},{"$f":"C12","v":0},{"$f":"C13","v":"Prosím vyberte ze seznamu"},{"$f":"C14","v":"Prosím vyberte ze seznamu"}]
["25.",null,null,null,null,null,null,null,null,null,null,null,0,{"$f":"C11","v":"Prosím vyberte ze seznamu"},{"$f":"C12","v":0},{"$f":"C13","v":"Prosím vyberte ze seznamu"},{"$f":"C14","v":"Prosím vyberte ze seznamu"}]
["26.",null,null,null,null,null,null,null,null,null,null,null,0,{"$f":"C11","v":"Prosím vyberte ze seznamu"},{"$f":"C12","v":0},{"$f":"C13","v":"Prosím vyberte ze seznamu"},{"$f":"C14","v":"Prosím vyberte ze seznamu"}]
["27.",null,null,null,null,null,null,null,null,null,null,null,0,{"$f":"C11","v":"Prosím vyberte ze seznamu"},{"$f":"C12","v":0},{"$f":"C13","v":"Prosím vyberte ze seznamu"},{"$f":"C14","v":"Prosím vyberte ze seznamu"}]
["28.",null,null,null,null,null,null,null,null,null,null,null,0,{"$f":"C11","v":"Prosím vyberte ze seznamu"},{"$f":"C12","v":0},{"$f":"C13","v":"Prosím vyberte ze seznamu"},{"$f":"C14","v":"Prosím vyberte ze seznamu"}]
["29.",null,null,null,null,null,null,null,null,null,null,null,0,{"$f":"C11","v":"Prosím vyberte ze seznamu"},{"$f":"C12","v":0},{"$f":"C13","v":"Prosím vyberte ze seznamu"},{"$f":"C14","v":"Prosím vyberte ze seznamu"}]
["30.",null,null,null,null,null,null,null,null,null,null,null,0,{"$f":"C11","v":"Prosím vyberte ze seznamu"},{"$f":"C12","v":0},{"$f":"C13","v":"Prosím vyberte ze seznamu"},{"$f":"C14","v":"Prosím vyberte ze seznamu"}]
["31.",null,null,null,null,null,null,null,null,null,null,null,0,{"$f":"C11","v":"Prosím vyberte ze seznamu"},{"$f":"C12","v":0},{"$f":"C13","v":"Prosím vyberte ze seznamu"},{"$f":"C14","v":"Prosím vyberte ze seznamu"}]
["32.",null,null,null,null,null,null,null,null,null,null,null,0,{"$f":"C11","v":"Prosím vyberte ze seznamu"},{"$f":"C12","v":0},{"$f":"C13","v":"Prosím vyberte ze seznamu"},{"$f":"C14","v":"Prosím vyberte ze seznamu"}]
["33.",null,null,null,null,null,null,null,null,null,null,null,0,{"$f":"C11","v":"Prosím vyberte ze seznamu"},{"$f":"C12","v":0},{"$f":"C13","v":"Prosím vyberte ze seznamu"},{"$f":"C14","v":"Prosím vyberte ze seznamu"}]
["34.",null,null,null,null,null,null,null,null,null,null,null,0,{"$f":"C11","v":"Prosím vyberte ze seznamu"},{"$f":"C12","v":0},{"$f":"C13","v":"Prosím vyberte ze seznamu"},{"$f":"C14","v":"Prosím vyberte ze seznamu"}]
["35.",null,null,null,null,null,null,null,null,null,null,null,0,{"$f":"C11","v":"Prosím vyberte ze seznamu"},{"$f":"C12","v":0},{"$f":"C13","v":"Prosím vyberte ze seznamu"},{"$f":"C14","v":"Prosím vyberte ze seznamu"}]
[null,null,null,"CELKEM KUSŮ:",{"$f":"SUM(E19:E53)","v":0},"[ks]"]
[null,null,null,"CELKOVÁ HMOTNOST:",{"$f":"M55*N55","v":0},"[kg]",null,null,null,null,null,null,{"$f":"SUM(M19:M53)","v":0},{"$f":"VLOOKUP(N62,N63:O84,2,)","v":0}]
[]
[null,"Podstřiky a ostatní požadavky uvádějte do poznámky"]
[null,"OBJEDNÁVKY POUZE V ELEKTRONICKÉ PODOBĚ VYPLNĚNÉ V EXCELU"]
[]
[null,"KONTAKT: Objednávky - 724 555 691 nebo 541 241 832 "]
[null,null,null,null,"`"]
[null,null,null,null,null,null,null,null,null,null,null,null,null,{"$f":"C11","v":"Prosím vyberte ze seznamu"},"kg/m2"]
[null,null,null,null,null,null,null,null,null,null,null,null,null,"Prosím vyberte ze seznamu",0,null,null,"Prosím vyberte ze seznamu",null,"Prosím vyberte ze seznamu",null,"Prosím vyberte ze seznamu",null,"Prosím vyberte ze seznamu"]
[null,null,null,null,null,null,null,null,null,null,null,null,null,"MDFL3 jednostranně laminovaná",2.38,null,null,"Sražená hrana (fazeta 1x1mm)",null,"Sražená hrana/Sražená hrana",null,"Lesk",null,"Lesk/Mat"]
[null,null,null,null,null,null,null,null,null,null,null,null,null,"MDFL16 jednostranně laminovaná",12,null,null,"R1",null,"R1/R1",null,"Mat",null,"Lesk/Lesk"]
[null,null,null,null,null,null,null,null,null,null,null,null,null,"MDFL18 jednostranně laminovaná",13.86,null,null,"R2",null,"R2/R2",null,"Nanomat",null,"Lesk/Základ"]
[null,null,null,null,null,null,null,null,null,null,null,null,null,"MDFL22 jednostranně laminovaná",16.5,null,null,"R3",null,"R2/R1",null,"S-Mat",null,"Mat/Mat"]
[null,null,null,null,null,null,null,null,null,null,null,null,null,"MDF3 surová",2.38,null,null,"R6",null,"R3/R3",null,"Základ",null,"Mat/Základ"]
[null,null,null,null,null,null,null,null,null,null,null,null,null,"MDF4 surová",2.88,null,null,null,null,"R3/R1",null,null,null,"Nanomat/Nanomat"]
[null,null,null,null,null,null,null,null,null,null,null,null,null,"MDF6 surová",4.3099999999999996,null,null,null,null,"R6/R6",null,null,null,"Nanomat/Mat"]
[null,null,null,null,null,null,null,null,null,null,null,null,null,"MDF8 surová",6,null,null,null,null,"R6/R1",null,null,null,"Nanomat/Základ"]
[null,null,null,null,null,null,null,null,null,null,null,null,null,"MDF10 surová",7.9,null,null,null,null,null,null,null,null,"S-Mat/S-Mat"]
[null,null,null,null,null,null,null,null,null,null,null,null,null,"MDF12 surová",9.36,null,null,null,null,null,null,null,null,"S-Mat/Mat"]
[null,null,null,null,null,null,null,null,null,null,null,null,null,"MDF16 surová",12,null,null,null,null,null,null,null,null,"S-Mat/Základ"]
[null,null,null,null,null,null,null,null,null,null,null,null,null,"MDF18 surová",13.86]
[null,null,null,null,null,null,null,null,null,null,null,null,null,"MDF19 surová",14.25]
[null,null,null,null,null,null,null,null,null,null,null,null,null,"MDF22 surová",16.5]
[null,null,null,null,null,null,null,null,null,null,null,null,null,"MDF25 surová",18.75]
[null,null,null,null,null,null,null,null,null,null,null,null,null,"MDF28 surová",20.440000000000001]
[null,null,null,null,null,null,null,null,null,null,null,null,null,"MDF30 surová",21.9]
[null,null,null,null,null,null,null,null,null,null,null,null,null,"MDF32 surová",22.72]
[null,null,null,null,null,null,null,null,null,null,null,null,null,"MDF36 surová",24.48]
[null,null,null,null,null,null,null,null,null,null,null,null,null,"MDF38 surová",25.46]
[null,null,null,null,null,null,null,null,null,null,null,null,null,"MDF40 surová",26.79]

{"sheet":"DRAFT 8","index":7,"n_rows":84,"n_cols":24,"rows_kept":84,"cut":false,"hidden":false,"merged":[[15,7,16,7],[17,1,17,7],[55,1,55,7],[56,1,56,7],[57,1,58,7],[59,1,59,7],[15,1,16,1],[15,2,16,2],[15,3,16,3],[15,4,16,4],[15,5,16,5],[15,6,16,6],[7,2,7,5],[7,6,7,7],[8,2,8,5],[8,6,8,7],[9,1,9,7],[10,2,10,6],[10,7,13,7],[11,2,11,6],[12,2,12,6],[13,2,13,6],[1,1,1,7],[3,1,8,1],[3,2,3,5],[3,6,3,7],[4,2,4,5],[4,6,4,7],[5,2,5,5],[5,6,5,7],[6,2,6,5],[6,6,6,7]]}
[]
[null,"OBJEDNÁVKA LAKOVÁNÍ PLOŠNÝCH DÍLCŮ"]
[]
[null,null,"Zákazník:"]
[null,null,"Telefon:"]
[null,null,"Fakturační adresa:"]
[null,null,"IČO:"]
[null,null,"DIČ:"]
[null,null,"Dodací adresa:"]
[]
[null,"Materiál:","Prosím vyberte ze seznamu"]
[null,"Odstín (RAL,SAY,NCS):"]
[null,"Povrchová úprava:","Prosím vyberte ze seznamu"]
[null,"Opracování hran:","Prosím vyberte ze seznamu"]
[]
[null,"Název dílce:","Délka [mm]","Šířka [mm]","Počet kusů","Rám pro sklo","Úchytka","Poznámka"]
[]
[]
["1.",null,null,null,null,null,null,null,null,null,null,null,{"$f":"(((C19*D19))/1000000)*E19","v":0},{"$f":"C11","v":"Prosím vyberte ze seznamu"},{"$f":"C12","v":0},{"$f":"C13","v":"Prosím vyberte ze seznamu"},{"$f":"C14","v":"Prosím vyberte ze seznamu"}]
["2.",null,null,null,null,null,null,null,null,null,null,null,{"$f":"(((C20*D20))/1000000)*E20","v":0},{"$f":"C11","v":"Prosím vyberte ze seznamu"},{"$f":"C12","v":0},{"$f":"C13","v":"Prosím vyberte ze seznamu"},{"$f":"C14","v":"Prosím vyberte ze seznamu"}]
["3.",null,null,null,null,null,null,null,null,null,null,null,0,{"$f":"C11","v":"Prosím vyberte ze seznamu"},{"$f":"C12","v":0},{"$f":"C13","v":"Prosím vyberte ze seznamu"},{"$f":"C14","v":"Prosím vyberte ze seznamu"}]
["4.",null,null,null,null,null,null,null,null,null,null,null,0,{"$f":"C11","v":"Prosím vyberte ze seznamu"},{"$f":"C12","v":0},{"$f":"C13","v":"Prosím vyberte ze seznamu"},{"$f":"C14","v":"Prosím vyberte ze seznamu"}]
["5.",null,null,null,null,null,null,null,null,null,null,null,0,{"$f":"C11","v":"Prosím vyberte ze seznamu"},{"$f":"C12","v":0},{"$f":"C13","v":"Prosím vyberte ze seznamu"},{"$f":"C14","v":"Prosím vyberte ze seznamu"}]
["6.",null,null,null,null,null,null,null,null,null,null,null,0,{"$f":"C11","v":"Prosím vyberte ze seznamu"},{"$f":"C12","v":0},{"$f":"C13","v":"Prosím vyberte ze seznamu"},{"$f":"C14","v":"Prosím vyberte ze seznamu"}]
["7.",null,null,null,null,null,null,null,null,null,null,null,0,{"$f":"C11","v":"Prosím vyberte ze seznamu"},{"$f":"C12","v":0},{"$f":"C13","v":"Prosím vyberte ze seznamu"},{"$f":"C14","v":"Prosím vyberte ze seznamu"}]
["8.",null,null,null,null,null,null,null,null,null,null,null,0,{"$f":"C11","v":"Prosím vyberte ze seznamu"},{"$f":"C12","v":0},{"$f":"C13","v":"Prosím vyberte ze seznamu"},{"$f":"C14","v":"Prosím vyberte ze seznamu"}]
["9.",null,null,null,null,null,null,null,null,null,null,null,0,{"$f":"C11","v":"Prosím vyberte ze seznamu"},{"$f":"C12","v":0},{"$f":"C13","v":"Prosím vyberte ze seznamu"},{"$f":"C14","v":"Prosím vyberte ze seznamu"}]
["10.",null,null,null,null,null,null,null,null,null,null,null,0,{"$f":"C11","v":"Prosím vyberte ze seznamu"},{"$f":"C12","v":0},{"$f":"C13","v":"Prosím vyberte ze seznamu"},{"$f":"C14","v":"Prosím vyberte ze seznamu"}]
["11.",null,null,null,null,null,null,null,null,null,null,null,0,{"$f":"C11","v":"Prosím vyberte ze seznamu"},{"$f":"C12","v":0},{"$f":"C13","v":"Prosím vyberte ze seznamu"},{"$f":"C14","v":"Prosím vyberte ze seznamu"}]
["12.",null,null,null,null,null,null,null,null,null,null,null,0,{"$f":"C11","v":"Prosím vyberte ze seznamu"},{"$f":"C12","v":0},{"$f":"C13","v":"Prosím vyberte ze seznamu"},{"$f":"C14","v":"Prosím vyberte ze seznamu"}]
["13.",null,null,null,null,null,null,null,null,null,null,null,0,{"$f":"C11","v":"Prosím vyberte ze seznamu"},{"$f":"C12","v":0},{"$f":"C13","v":"Prosím vyberte ze seznamu"},{"$f":"C14","v":"Prosím vyberte ze seznamu"}]
["14.",null,null,null,null,null,null,null,null,null,null,null,0,{"$f":"C11","v":"Prosím vyberte ze seznamu"},{"$f":"C12","v":0},{"$f":"C13","v":"Prosím vyberte ze seznamu"},{"$f":"C14","v":"Prosím vyberte ze seznamu"}]
["15.",null,null,null,null,null,null,null,null,null,null,null,0,{"$f":"C11","v":"Prosím vyberte ze seznamu"},{"$f":"C12","v":0},{"$f":"C13","v":"Prosím vyberte ze seznamu"},{"$f":"C14","v":"Prosím vyberte ze seznamu"}]
["16.",null,null,null,null,null,null,null,null,null,null,null,0,{"$f":"C11","v":"Prosím vyberte ze seznamu"},{"$f":"C12","v":0},{"$f":"C13","v":"Prosím vyberte ze seznamu"},{"$f":"C14","v":"Prosím vyberte ze seznamu"}]
["17.",null,null,null,null,null,null,null,null,null,null,null,0,{"$f":"C11","v":"Prosím vyberte ze seznamu"},{"$f":"C12","v":0},{"$f":"C13","v":"Prosím vyberte ze seznamu"},{"$f":"C14","v":"Prosím vyberte ze seznamu"}]
["18.",null,null,null,null,null,null,null,null,null,null,null,0,{"$f":"C11","v":"Prosím vyberte ze seznamu"},{"$f":"C12","v":0},{"$f":"C13","v":"Prosím vyberte ze seznamu"},{"$f":"C14","v":"Prosím vyberte ze seznamu"}]
["19.",null,null,null,null,null,null,null,null,null,null,null,0,{"$f":"C11","v":"Prosím vyberte ze seznamu"},{"$f":"C12","v":0},{"$f":"C13","v":"Prosím vyberte ze seznamu"},{"$f":"C14","v":"Prosím vyberte ze seznamu"}]
["20.",null,null,null,null,null,null,null,null,null,null,null,0,{"$f":"C11","v":"Prosím vyberte ze seznamu"},{"$f":"C12","v":0},{"$f":"C13","v":"Prosím vyberte ze seznamu"},{"$f":"C14","v":"Prosím vyberte ze seznamu"}]
["21.",null,null,null,null,null,null,null,null,null,null,null,0,{"$f":"C11","v":"Prosím vyberte ze seznamu"},{"$f":"C12","v":0},{"$f":"C13","v":"Prosím vyberte ze seznamu"},{"$f":"C14","v":"Prosím vyberte ze seznamu"}]
["22.",null,null,null,null,null,null,null,null,null,null,null,0,{"$f":"C11","v":"Prosím vyberte ze seznamu"},{"$f":"C12","v":0},{"$f":"C13","v":"Prosím vyberte ze seznamu"},{"$f":"C14","v":"Prosím vyberte ze seznamu"}]
["23.",null,null,null,null,null,null,null,null,null,null,null,0,{"$f":"C11","v":"Prosím vyberte ze seznamu"},{"$f":"C12","v":0},{"$f":"C13","v":"Prosím vyberte ze seznamu"},{"$f":"C14","v":"Prosím vyberte ze seznamu"}]
["24.",null,null,null,null,null,null,null,null,null,null,null,0,{"$f":"C11","v":"Prosím vyberte ze seznamu"},{"$f":"C12","v":0},{"$f":"C13","v":"Prosím vyberte ze seznamu"},{"$f":"C14","v":"Prosím vyberte ze seznamu"}]
["25.",null,null,null,null,null,null,null,null,null,null,null,0,{"$f":"C11","v":"Prosím vyberte ze seznamu"},{"$f":"C12","v":0},{"$f":"C13","v":"Prosím vyberte ze seznamu"},{"$f":"C14","v":"Prosím vyberte ze seznamu"}]
["26.",null,null,null,null,null,null,null,null,null,null,null,0,{"$f":"C11","v":"Prosím vyberte ze seznamu"},{"$f":"C12","v":0},{"$f":"C13","v":"Prosím vyberte ze seznamu"},{"$f":"C14","v":"Prosím vyberte ze seznamu"}]
["27.",null,null,null,null,null,null,null,null,null,null,null,0,{"$f":"C11","v":"Prosím vyberte ze seznamu"},{"$f":"C12","v":0},{"$f":"C13","v":"Prosím vyberte ze seznamu"},{"$f":"C14","v":"Prosím vyberte ze seznamu"}]
["28.",null,null,null,null,null,null,null,null,null,null,null,0,{"$f":"C11","v":"Prosím vyberte ze seznamu"},{"$f":"C12","v":0},{"$f":"C13","v":"Prosím vyberte ze seznamu"},{"$f":"C14","v":"Prosím vyberte ze seznamu"}]
["29.",null,null,null,null,null,null,null,null,null,null,null,0,{"$f":"C11","v":"Prosím vyberte ze seznamu"},{"$f":"C12","v":0},{"$f":"C13","v":"Prosím vyberte ze seznamu"},{"$f":"C14","v":"Prosím vyberte ze seznamu"}]
["30.",null,null,null,null,null,null,null,null,null,null,null,0,{"$f":"C11","v":"Prosím vyberte ze seznamu"},{"$f":"C12","v":0},{"$f":"C13","v":"Prosím vyberte ze seznamu"},{"$f":"C14","v":"Prosím vyberte ze seznamu"}]
["31.",null,null,null,null,null,null,null,null,null,null,null,0,{"$f":"C11","v":"Prosím vyberte ze seznamu"},{"$f":"C12","v":0},{"$f":"C13","v":"Prosím vyberte ze seznamu"},{"$f":"C14","v":"Prosím vyberte ze seznamu"}]
["32.",null,null,null,null,null,null,null,null,null,null,null,0,{"$f":"C11","v":"Prosím vyberte ze seznamu"},{"$f":"C12","v":0},{"$f":"C13","v":"Prosím vyberte ze seznamu"},{"$f":"C14","v":"Prosím vyberte ze seznamu"}]
["33.",null,null,null,null,null,null,null,null,null,null,null,0,{"$f":"C11","v":"Prosím vyberte ze seznamu"},{"$f":"C12","v":0},{"$f":"C13","v":"Prosím vyberte ze seznamu"},{"$f":"C14","v":"Prosím vyberte ze seznamu"}]
["34.",null,null,null,null,null,null,null,null,null,null,null,0,{"$f":"C11","v":"Prosím vyberte ze seznamu"},{"$f":"C12","v":0},{"$f":"C13","v":"Prosím vyberte ze seznamu"},{"$f":"C14","v":"Prosím vyberte ze seznamu"}]
["35.",null,null,null,null,null,null,null,null,null,null,null,0,{"$f":"C11","v":"Prosím vyberte ze seznamu"},{"$f":"C12","v":0},{"$f":"C13","v":"Prosím vyberte ze seznamu"},{"$f":"C14","v":"Prosím vyberte ze seznamu"}]
[null,null,null,"CELKEM KUSŮ:",{"$f":"SUM(E19:E53)","v":0},"[ks]"]
[null,null,null,"CELKOVÁ HMOTNOST:",{"$f":"M55*N55","v":0},"[kg]",null,null,null,null,null,null,{"$f":"SUM(M19:M53)","v":0},{"$f":"VLOOKUP(N62,N63:O84,2,)","v":0}]
[]
[null,"Podstřiky a ostatní požadavky uvádějte do poznámky"]
[null,"OBJEDNÁVKY POUZE V ELEKTRONICKÉ PODOBĚ VYPLNĚNÉ V EXCELU"]
[]
[null,"KONTAKT: Objednávky - 724 555 691 nebo 541 241 832 "]
[null,null,null,null,"`"]
[null,null,null,null,null,null,null,null,null,null,null,null,null,{"$f":"C11","v":"Prosím vyberte ze seznamu"},"kg/m2"]
[null,null,null,null,null,null,null,null,null,null,null,null,null,"Prosím vyberte ze seznamu",0,null,null,"Prosím vyberte ze seznamu",null,"Prosím vyberte ze seznamu",null,"Prosím vyberte ze seznamu",null,"Prosím vyberte ze seznamu"]
[null,null,null,null,null,null,null,null,null,null,null,null,null,"MDFL3 jednostranně laminovaná",2.38,null,null,"Sražená hrana (fazeta 1x1mm)",null,"Sražená hrana/Sražená hrana",null,"Lesk",null,"Lesk/Mat"]
[null,null,null,null,null,null,null,null,null,null,null,null,null,"MDFL16 jednostranně laminovaná",12,null,null,"R1",null,"R1/R1",null,"Mat",null,"Lesk/Lesk"]
[null,null,null,null,null,null,null,null,null,null,null,null,null,"MDFL18 jednostranně laminovaná",13.86,null,null,"R2",null,"R2/R2",null,"Nanomat",null,"Lesk/Základ"]
[null,null,null,null,null,null,null,null,null,null,null,null,null,"MDFL22 jednostranně laminovaná",16.5,null,null,"R3",null,"R2/R1",null,"S-Mat",null,"Mat/Mat"]
[null,null,null,null,null,null,null,null,null,null,null,null,null,"MDF3 surová",2.38,null,null,"R6",null,"R3/R3",null,"Základ",null,"Mat/Základ"]
[null,null,null,null,null,null,null,null,null,null,null,null,null,"MDF4 surová",2.88,null,null,null,null,"R3/R1",null,null,null,"Nanomat/Nanomat"]
[null,null,null,null,null,null,null,null,null,null,null,null,null,"MDF6 surová",4.3099999999999996,null,null,null,null,"R6/R6",null,null,null,"Nanomat/Mat"]
[null,null,null,null,null,null,null,null,null,null,null,null,null,"MDF8 surová",6,null,null,null,null,"R6/R1",null,null,null,"Nanomat/Základ"]
[null,null,null,null,null,null,null,null,null,null,null,null,null,"MDF10 surová",7.9,null,null,null,null,null,null,null,null,"S-Mat/S-Mat"]
[null,null,null,null,null,null,null,null,null,null,null,null,null,"MDF12 surová",9.36,null,null,null,null,null,null,null,null,"S-Mat/Mat"]
[null,null,null,null,null,null,null,null,null,null,null,null,null,"MDF16 surová",12,null,null,null,null,null,null,null,null,"S-Mat/Základ"]
[null,null,null,null,null,null,null,null,null,null,null,null,null,"MDF18 surová",13.86]
[null,null,null,null,null,null,null,null,null,null,null,null,null,"MDF19 surová",14.25]
[null,null,null,null,null,null,null,null,null,null,null,null,null,"MDF22 surová",16.5]
[null,null,null,null,null,null,null,null,null,null,null,null,null,"MDF25 surová",18.75]
[null,null,null,null,null,null,null,null,null,null,null,null,null,"MDF28 surová",20.440000000000001]
[null,null,null,null,null,null,null,null,null,null,null,null,null,"MDF30 surová",21.9]
[null,null,null,null,null,null,null,null,null,null,null,null,null,"MDF32 surová",22.72]
[null,null,null,null,null,null,null,null,null,null,null,null,null,"MDF36 surová",24.48]
[null,null,null,null,null,null,null,null,null,null,null,null,null,"MDF38 surová",25.46]
[null,null,null,null,null,null,null,null,null,null,null,null,null,"MDF40 surová",26.79]

{"sheet":"DRAFT 9","index":8,"n_rows":84,"n_cols":24,"rows_kept":84,"cut":false,"hidden":false,"merged":[[15,7,16,7],[17,1,17,7],[55,1,55,7],[56,1,56,7],[57,1,58,7],[59,1,59,7],[15,1,16,1],[15,2,16,2],[15,3,16,3],[15,4,16,4],[15,5,16,5],[15,6,16,6],[7,2,7,5],[7,6,7,7],[8,2,8,5],[8,6,8,7],[9,1,9,7],[10,2,10,6],[10,7,13,7],[11,2,11,6],[12,2,12,6],[13,2,13,6],[1,1,1,7],[3,1,8,1],[3,2,3,5],[3,6,3,7],[4,2,4,5],[4,6,4,7],[5,2,5,5],[5,6,5,7],[6,2,6,5],[6,6,6,7]]}
[]
[null,"OBJEDNÁVKA LAKOVÁNÍ PLOŠNÝCH DÍLCŮ"]
[]
[null,null,"Zákazník:"]
[null,null,"Telefon:"]
[null,null,"Fakturační adresa:"]
[null,null,"IČO:"]
[null,null,"DIČ:"]
[null,null,"Dodací adresa:"]
[]
[null,"Materiál:","Prosím vyberte ze seznamu"]
[null,"Odstín (RAL,SAY,NCS):"]
[null,"Povrchová úprava:","Prosím vyberte ze seznamu"]
[null,"Opracování hran:","Prosím vyberte ze seznamu"]
[]
[null,"Název dílce:","Délka [mm]","Šířka [mm]","Počet kusů","Rám pro sklo","Úchytka","Poznámka"]
[]
[]
["1.",null,null,null,null,null,null,null,null,null,null,null,{"$f":"(((C19*D19))/1000000)*E19","v":0},{"$f":"C11","v":"Prosím vyberte ze seznamu"},{"$f":"C12","v":0},{"$f":"C13","v":"Prosím vyberte ze seznamu"},{"$f":"C14","v":"Prosím vyberte ze seznamu"}]
["2.",null,null,null,null,null,null,null,null,null,null,null,{"$f":"(((C20*D20))/1000000)*E20","v":0},{"$f":"C11","v":"Prosím vyberte ze seznamu"},{"$f":"C12","v":0},{"$f":"C13","v":"Prosím vyberte ze seznamu"},{"$f":"C14","v":"Prosím vyberte ze seznamu"}]
["3.",null,null,null,null,null,null,null,null,null,null,null,0,{"$f":"C11","v":"Prosím vyberte ze seznamu"},{"$f":"C12","v":0},{"$f":"C13","v":"Prosím vyberte ze seznamu"},{"$f":"C14","v":"Prosím vyberte ze seznamu"}]
["4.",null,null,null,null,null,null,null,null,null,null,null,0,{"$f":"C11","v":"Prosím vyberte ze seznamu"},{"$f":"C12","v":0},{"$f":"C13","v":"Prosím vyberte ze seznamu"},{"$f":"C14","v":"Prosím vyberte ze seznamu"}]
["5.",null,null,null,null,null,null,null,null,null,null,null,0,{"$f":"C11","v":"Prosím vyberte ze seznamu"},{"$f":"C12","v":0},{"$f":"C13","v":"Prosím vyberte ze seznamu"},{"$f":"C14","v":"Prosím vyberte ze seznamu"}]
["6.",null,null,null,null,null,null,null,null,null,null,null,0,{"$f":"C11","v":"Prosím vyberte ze seznamu"},{"$f":"C12","v":0},{"$f":"C13","v":"Prosím vyberte ze seznamu"},{"$f":"C14","v":"Prosím vyberte ze seznamu"}]
["7.",null,null,null,null,null,null,null,null,null,null,null,0,{"$f":"C11","v":"Prosím vyberte ze seznamu"},{"$f":"C12","v":0},{"$f":"C13","v":"Prosím vyberte ze seznamu"},{"$f":"C14","v":"Prosím vyberte ze seznamu"}]
["8.",null,null,null,null,null,null,null,null,null,null,null,0,{"$f":"C11","v":"Prosím vyberte ze seznamu"},{"$f":"C12","v":0},{"$f":"C13","v":"Prosím vyberte ze seznamu"},{"$f":"C14","v":"Prosím vyberte ze seznamu"}]
["9.",null,null,null,null,null,null,null,null,null,null,null,0,{"$f":"C11","v":"Prosím vyberte ze seznamu"},{"$f":"C12","v":0},{"$f":"C13","v":"Prosím vyberte ze seznamu"},{"$f":"C14","v":"Prosím vyberte ze seznamu"}]
["10.",null,null,null,null,null,null,null,null,null,null,null,0,{"$f":"C11","v":"Prosím vyberte ze seznamu"},{"$f":"C12","v":0},{"$f":"C13","v":"Prosím vyberte ze seznamu"},{"$f":"C14","v":"Prosím vyberte ze seznamu"}]
["11.",null,null,null,null,null,null,null,null,null,null,null,0,{"$f":"C11","v":"Prosím vyberte ze seznamu"},{"$f":"C12","v":0},{"$f":"C13","v":"Prosím vyberte ze seznamu"},{"$f":"C14","v":"Prosím vyberte ze seznamu"}]
["12.",null,null,null,null,null,null,null,null,null,null,null,0,{"$f":"C11","v":"Prosím vyberte ze seznamu"},{"$f":"C12","v":0},{"$f":"C13","v":"Prosím vyberte ze seznamu"},{"$f":"C14","v":"Prosím vyberte ze seznamu"}]
["13.",null,null,null,null,null,null,null,null,null,null,null,0,{"$f":"C11","v":"Prosím vyberte ze seznamu"},{"$f":"C12","v":0},{"$f":"C13","v":"Prosím vyberte ze seznamu"},{"$f":"C14","v":"Prosím vyberte ze seznamu"}]
["14.",null,null,null,null,null,null,null,null,null,null,null,0,{"$f":"C11","v":"Prosím vyberte ze seznamu"},{"$f":"C12","v":0},{"$f":"C13","v":"Prosím vyberte ze seznamu"},{"$f":"C14","v":"Prosím vyberte ze seznamu"}]
["15.",null,null,null,null,null,null,null,null,null,null,null,0,{"$f":"C11","v":"Prosím vyberte ze seznamu"},{"$f":"C12","v":0},{"$f":"C13","v":"Prosím vyberte ze seznamu"},{"$f":"C14","v":"Prosím vyberte ze seznamu"}]
["16.",null,null,null,null,null,null,null,null,null,null,null,0,{"$f":"C11","v":"Prosím vyberte ze seznamu"},{"$f":"C12","v":0},{"$f":"C13","v":"Prosím vyberte ze seznamu"},{"$f":"C14","v":"Prosím vyberte ze seznamu"}]
["17.",null,null,null,null,null,null,null,null,null,null,null,0,{"$f":"C11","v":"Prosím vyberte ze seznamu"},{"$f":"C12","v":0},{"$f":"C13","v":"Prosím vyberte ze seznamu"},{"$f":"C14","v":"Prosím vyberte ze seznamu"}]
["18.",null,null,null,null,null,null,null,null,null,null,null,0,{"$f":"C11","v":"Prosím vyberte ze seznamu"},{"$f":"C12","v":0},{"$f":"C13","v":"Prosím vyberte ze seznamu"},{"$f":"C14","v":"Prosím vyberte ze seznamu"}]
["19.",null,null,null,null,null,null,null,null,null,null,null,0,{"$f":"C11","v":"Prosím vyberte ze seznamu"},{"$f":"C12","v":0},{"$f":"C13","v":"Prosím vyberte ze seznamu"},{"$f":"C14","v":"Prosím vyberte ze seznamu"}]
["20.",null,null,null,null,null,null,null,null,null,null,null,0,{"$f":"C11","v":"Prosím vyberte ze seznamu"},{"$f":"C12","v":0},{"$f":"C13","v":"Prosím vyberte ze seznamu"},{"$f":"C14","v":"Prosím vyberte ze seznamu"}]
["21.",null,null,null,null,null,null,null,null,null,null,null,0,{"$f":"C11","v":"Prosím vyberte ze seznamu"},{"$f":"C12","v":0},{"$f":"C13","v":"Prosím vyberte ze seznamu"},{"$f":"C14","v":"Prosím vyberte ze seznamu"}]
["22.",null,null,null,null,null,null,null,null,null,null,null,0,{"$f":"C11","v":"Prosím vyberte ze seznamu"},{"$f":"C12","v":0},{"$f":"C13","v":"Prosím vyberte ze seznamu"},{"$f":"C14","v":"Prosím vyberte ze seznamu"}]
["23.",null,null,null,null,null,null,null,null,null,null,null,0,{"$f":"C11","v":"Prosím vyberte ze seznamu"},{"$f":"C12","v":0},{"$f":"C13","v":"Prosím vyberte ze seznamu"},{"$f":"C14","v":"Prosím vyberte ze seznamu"}]
["24.",null,null,null,null,null,null,null,null,null,null,null,0,{"$f":"C11","v":"Prosím vyberte ze seznamu"},{"$f":"C12","v":0},{"$f":"C13","v":"Prosím vyberte ze seznamu"},{"$f":"C14","v":"Prosím vyberte ze seznamu"}]
["25.",null,null,null,null,null,null,null,null,null,null,null,0,{"$f":"C11","v":"Prosím vyberte ze seznamu"},{"$f":"C12","v":0},{"$f":"C13","v":"Prosím vyberte ze seznamu"},{"$f":"C14","v":"Prosím vyberte ze seznamu"}]
["26.",null,null,null,null,null,null,null,null,null,null,null,0,{"$f":"C11","v":"Prosím vyberte ze seznamu"},{"$f":"C12","v":0},{"$f":"C13","v":"Prosím vyberte ze seznamu"},{"$f":"C14","v":"Prosím vyberte ze seznamu"}]
["27.",null,null,null,null,null,null,null,null,null,null,null,0,{"$f":"C11","v":"Prosím vyberte ze seznamu"},{"$f":"C12","v":0},{"$f":"C13","v":"Prosím vyberte ze seznamu"},{"$f":"C14","v":"Prosím vyberte ze seznamu"}]
["28.",null,null,null,null,null,null,null,null,null,null,null,0,{"$f":"C11","v":"Prosím vyberte ze seznamu"},{"$f":"C12","v":0},{"$f":"C13","v":"Prosím vyberte ze seznamu"},{"$f":"C14","v":"Prosím vyberte ze seznamu"}]
["29.",null,null,null,null,null,null,null,null,null,null,null,0,{"$f":"C11","v":"Prosím vyberte ze seznamu"},{"$f":"C12","v":0},{"$f":"C13","v":"Prosím vyberte ze seznamu"},{"$f":"C14","v":"Prosím vyberte ze seznamu"}]
["30.",null,null,null,null,null,null,null,null,null,null,null,0,{"$f":"C11","v":"Prosím vyberte ze seznamu"},{"$f":"C12","v":0},{"$f":"C13","v":"Prosím vyberte ze seznamu"},{"$f":"C14","v":"Prosím vyberte ze seznamu"}]
["31.",null,null,null,null,null,null,null,null,null,null,null,0,{"$f":"C11","v":"Prosím vyberte ze seznamu"},{"$f":"C12","v":0},{"$f":"C13","v":"Prosím vyberte ze seznamu"},{"$f":"C14","v":"Prosím vyberte ze seznamu"}]
["32.",null,null,null,null,null,null,null,null,null,null,null,0,{"$f":"C11","v":"Prosím vyberte ze seznamu"},{"$f":"C12","v":0},{"$f":"C13","v":"Prosím vyberte ze seznamu"},{"$f":"C14","v":"Prosím vyberte ze seznamu"}]
["33.",null,null,null,null,null,null,null,null,null,null,null,0,{"$f":"C11","v":"Prosím vyberte ze seznamu"},{"$f":"C12","v":0},{"$f":"C13","v":"Prosím vyberte ze seznamu"},{"$f":"C14","v":"Prosím vyberte ze seznamu"}]
["34.",null,null,null,null,null,null,null,null,null,null,null,0,{"$f":"C11","v":"Prosím vyberte ze seznamu"},{"$f":"C12","v":0},{"$f":"C13","v":"Prosím vyberte ze seznamu"},{"$f":"C14","v":"Prosím vyberte ze seznamu"}]
["35.",null,null,null,null,null,null,null,null,null,null,null,0,{"$f":"C11","v":"Prosím vyberte ze seznamu"},{"$f":"C12","v":0},{"$f":"C13","v":"Prosím vyberte ze seznamu"},{"$f":"C14","v":"Prosím vyberte ze seznamu"}]
[null,null,null,"CELKEM KUSŮ:",{"$f":"SUM(E19:E53)","v":0},"[ks]"]
[null,null,null,"CELKOVÁ HMOTNOST:",{"$f":"M55*N55","v":0},"[kg]",null,null,null,null,null,null,{"$f":"SUM(M19:M53)","v":0},{"$f":"VLOOKUP(N62,N63:O84,2,)","v":0}]
[]
[null,"Podstřiky a ostatní požadavky uvádějte do poznámky"]
[null,"OBJEDNÁVKY POUZE V ELEKTRONICKÉ PODOBĚ VYPLNĚNÉ V EXCELU"]
[]
[null,"KONTAKT: Objednávky - 724 555 691 nebo 541 241 832 "]
[null,null,null,null,"`"]
[null,null,null,null,null,null,null,null,null,null,null,null,null,{"$f":"C11","v":"Prosím vyberte ze seznamu"},"kg/m2"]
[null,null,null,null,null,null,null,null,null,null,null,null,null,"Prosím vyberte ze seznamu",0,null,null,"Prosím vyberte ze seznamu",null,"Prosím vyberte ze seznamu",null,"Prosím vyberte ze seznamu",null,"Prosím vyberte ze seznamu"]
[null,null,null,null,null,null,null,null,null,null,null,null,null,"MDFL3 jednostranně laminovaná",2.38,null,null,"Sražená hrana (fazeta 1x1mm)",null,"Sražená hrana/Sražená hrana",null,"Lesk",null,"Lesk/Mat"]
[null,null,null,null,null,null,null,null,null,null,null,null,null,"MDFL16 jednostranně laminovaná",12,null,null,"R1",null,"R1/R1",null,"Mat",null,"Lesk/Lesk"]
[null,null,null,null,null,null,null,null,null,null,null,null,null,"MDFL18 jednostranně laminovaná",13.86,null,null,"R2",null,"R2/R2",null,"Nanomat",null,"Lesk/Základ"]
[null,null,null,null,null,null,null,null,null,null,null,null,null,"MDFL22 jednostranně laminovaná",16.5,null,null,"R3",null,"R2/R1",null,"S-Mat",null,"Mat/Mat"]
[null,null,null,null,null,null,null,null,null,null,null,null,null,"MDF3 surová",2.38,null,null,"R6",null,"R3/R3",null,"Základ",null,"Mat/Základ"]
[null,null,null,null,null,null,null,null,null,null,null,null,null,"MDF4 surová",2.88,null,null,null,null,"R3/R1",null,null,null,"Nanomat/Nanomat"]
[null,null,null,null,null,null,null,null,null,null,null,null,null,"MDF6 surová",4.3099999999999996,null,null,null,null,"R6/R6",null,null,null,"Nanomat/Mat"]
[null,null,null,null,null,null,null,null,null,null,null,null,null,"MDF8 surová",6,null,null,null,null,"R6/R1",null,null,null,"Nanomat/Základ"]
[null,null,null,null,null,null,null,null,null,null,null,null,null,"MDF10 surová",7.9,null,null,null,null,null,null,null,null,"S-Mat/S-Mat"]
[null,null,null,null,null,null,null,null,null,null,null,null,null,"MDF12 surová",9.36,null,null,null,null,null,null,null,null,"S-Mat/Mat"]
[null,null,null,null,null,null,null,null,null,null,null,null,null,"MDF16 surová",12,null,null,null,null,null,null,null,null,"S-Mat/Základ"]
[null,null,null,null,null,null,null,null,null,null,null,null,null,"MDF18 surová",13.86]
[null,null,null,null,null,null,null,null,null,null,null,null,null,"MDF19 surová",14.25]
[null,null,null,null,null,null,null,null,null,null,null,null,null,"MDF22 surová",16.5]
[null,null,null,null,null,null,null,null,null,null,null,null,null,"MDF25 surová",18.75]
[null,null,null,null,null,null,null,null,null,null,null,null,null,"MDF28 surová",20.440000000000001]
[null,null,null,null,null,null,null,null,null,null,null,null,null,"MDF30 surová",21.9]
[null,null,null,null,null,null,null,null,null,null,null,null,null,"MDF32 surová",22.72]
[null,null,null,null,null,null,null,null,null,null,null,null,null,"MDF36 surová",24.48]
[null,null,null,null,null,null,null,null,null,null,null,null,null,"MDF38 surová",25.46]
[null,null,null,null,null,null,null,null,null,null,null,null,null,"MDF40 surová",26.79]

{"sheet":"DRAFT 10","index":9,"n_rows":84,"n_cols":24,"rows_kept":84,"cut":false,"hidden":false,"merged":[[15,7,16,7],[17,1,17,7],[55,1,55,7],[56,1,56,7],[57,1,58,7],[59,1,59,7],[15,1,16,1],[15,2,16,2],[15,3,16,3],[15,4,16,4],[15,5,16,5],[15,6,16,6],[7,2,7,5],[7,6,7,7],[8,2,8,5],[8,6,8,7],[9,1,9,7],[10,2,10,6],[10,7,13,7],[11,2,11,6],[12,2,12,6],[13,2,13,6],[1,1,1,7],[3,1,8,1],[3,2,3,5],[3,6,3,7],[4,2,4,5],[4,6,4,7],[5,2,5,5],[5,6,5,7],[6,2,6,5],[6,6,6,7]]}
[]
[null,"OBJEDNÁVKA LAKOVÁNÍ PLOŠNÝCH DÍLCŮ"]
[]
[null,null,"Zákazník:"]
[null,null,"Telefon:"]
[null,null,"Fakturační adresa:"]
[null,null,"IČO:"]
[null,null,"DIČ:"]
[null,null,"Dodací adresa:"]
[]
[null,"Materiál:","Prosím vyberte ze seznamu"]
[null,"Odstín (RAL,SAY,NCS):"]
[null,"Povrchová úprava:","Prosím vyberte ze seznamu"]
[null,"Opracování hran:","Prosím vyberte ze seznamu"]
[]
[null,"Název dílce:","Délka [mm]","Šířka [mm]","Počet kusů","Rám pro sklo","Úchytka","Poznámka"]
[]
[]
["1.",null,null,null,null,null,null,null,null,null,null,null,{"$f":"(((C19*D19))/1000000)*E19","v":0},{"$f":"C11","v":"Prosím vyberte ze seznamu"},{"$f":"C12","v":0},{"$f":"C13","v":"Prosím vyberte ze seznamu"},{"$f":"C14","v":"Prosím vyberte ze seznamu"}]
["2.",null,null,null,null,null,null,null,null,null,null,null,{"$f":"(((C20*D20))/1000000)*E20","v":0},{"$f":"C11","v":"Prosím vyberte ze seznamu"},{"$f":"C12","v":0},{"$f":"C13","v":"Prosím vyberte ze seznamu"},{"$f":"C14","v":"Prosím vyberte ze seznamu"}]
["3.",null,null,null,null,null,null,null,null,null,null,null,0,{"$f":"C11","v":"Prosím vyberte ze seznamu"},{"$f":"C12","v":0},{"$f":"C13","v":"Prosím vyberte ze seznamu"},{"$f":"C14","v":"Prosím vyberte ze seznamu"}]
["4.",null,null,null,null,null,null,null,null,null,null,null,0,{"$f":"C11","v":"Prosím vyberte ze seznamu"},{"$f":"C12","v":0},{"$f":"C13","v":"Prosím vyberte ze seznamu"},{"$f":"C14","v":"Prosím vyberte ze seznamu"}]
["5.",null,null,null,null,null,null,null,null,null,null,null,0,{"$f":"C11","v":"Prosím vyberte ze seznamu"},{"$f":"C12","v":0},{"$f":"C13","v":"Prosím vyberte ze seznamu"},{"$f":"C14","v":"Prosím vyberte ze seznamu"}]
["6.",null,null,null,null,null,null,null,null,null,null,null,0,{"$f":"C11","v":"Prosím vyberte ze seznamu"},{"$f":"C12","v":0},{"$f":"C13","v":"Prosím vyberte ze seznamu"},{"$f":"C14","v":"Prosím vyberte ze seznamu"}]
["7.",null,null,null,null,null,null,null,null,null,null,null,0,{"$f":"C11","v":"Prosím vyberte ze seznamu"},{"$f":"C12","v":0},{"$f":"C13","v":"Prosím vyberte ze seznamu"},{"$f":"C14","v":"Prosím vyberte ze seznamu"}]
["8.",null,null,null,null,null,null,null,null,null,null,null,0,{"$f":"C11","v":"Prosím vyberte ze seznamu"},{"$f":"C12","v":0},{"$f":"C13","v":"Prosím vyberte ze seznamu"},{"$f":"C14","v":"Prosím vyberte ze seznamu"}]
["9.",null,null,null,null,null,null,null,null,null,null,null,0,{"$f":"C11","v":"Prosím vyberte ze seznamu"},{"$f":"C12","v":0},{"$f":"C13","v":"Prosím vyberte ze seznamu"},{"$f":"C14","v":"Prosím vyberte ze seznamu"}]
["10.",null,null,null,null,null,null,null,null,null,null,null,0,{"$f":"C11","v":"Prosím vyberte ze seznamu"},{"$f":"C12","v":0},{"$f":"C13","v":"Prosím vyberte ze seznamu"},{"$f":"C14","v":"Prosím vyberte ze seznamu"}]
["11.",null,null,null,null,null,null,null,null,null,null,null,0,{"$f":"C11","v":"Prosím vyberte ze seznamu"},{"$f":"C12","v":0},{"$f":"C13","v":"Prosím vyberte ze seznamu"},{"$f":"C14","v":"Prosím vyberte ze seznamu"}]
["12.",null,null,null,null,null,null,null,null,null,null,null,0,{"$f":"C11","v":"Prosím vyberte ze seznamu"},{"$f":"C12","v":0},{"$f":"C13","v":"Prosím vyberte ze seznamu"},{"$f":"C14","v":"Prosím vyberte ze seznamu"}]
["13.",null,null,null,null,null,null,null,null,null,null,null,0,{"$f":"C11","v":"Prosím vyberte ze seznamu"},{"$f":"C12","v":0},{"$f":"C13","v":"Prosím vyberte ze seznamu"},{"$f":"C14","v":"Prosím vyberte ze seznamu"}]
["14.",null,null,null,null,null,null,null,null,null,null,null,0,{"$f":"C11","v":"Prosím vyberte ze seznamu"},{"$f":"C12","v":0},{"$f":"C13","v":"Prosím vyberte ze seznamu"},{"$f":"C14","v":"Prosím vyberte ze seznamu"}]
["15.",null,null,null,null,null,null,null,null,null,null,null,0,{"$f":"C11","v":"Prosím vyberte ze seznamu"},{"$f":"C12","v":0},{"$f":"C13","v":"Prosím vyberte ze seznamu"},{"$f":"C14","v":"Prosím vyberte ze seznamu"}]
["16.",null,null,null,null,null,null,null,null,null,null,null,0,{"$f":"C11","v":"Prosím vyberte ze seznamu"},{"$f":"C12","v":0},{"$f":"C13","v":"Prosím vyberte ze seznamu"},{"$f":"C14","v":"Prosím vyberte ze seznamu"}]
["17.",null,null,null,null,null,null,null,null,null,null,null,0,{"$f":"C11","v":"Prosím vyberte ze seznamu"},{"$f":"C12","v":0},{"$f":"C13","v":"Prosím vyberte ze seznamu"},{"$f":"C14","v":"Prosím vyberte ze seznamu"}]
["18.",null,null,null,null,null,null,null,null,null,null,null,0,{"$f":"C11","v":"Prosím vyberte ze seznamu"},{"$f":"C12","v":0},{"$f":"C13","v":"Prosím vyberte ze seznamu"},{"$f":"C14","v":"Prosím vyberte ze seznamu"}]
["19.",null,null,null,null,null,null,null,null,null,null,null,0,{"$f":"C11","v":"Prosím vyberte ze seznamu"},{"$f":"C12","v":0},{"$f":"C13","v":"Prosím vyberte ze seznamu"},{"$f":"C14","v":"Prosím vyberte ze seznamu"}]
["20.",null,null,null,null,null,null,null,null,null,null,null,0,{"$f":"C11","v":"Prosím vyberte ze seznamu"},{"$f":"C12","v":0},{"$f":"C13","v":"Prosím vyberte ze seznamu"},{"$f":"C14","v":"Prosím vyberte ze seznamu"}]
["21.",null,null,null,null,null,null,null,null,null,null,null,0,{"$f":"C11","v":"Prosím vyberte ze seznamu"},{"$f":"C12","v":0},{"$f":"C13","v":"Prosím vyberte ze seznamu"},{"$f":"C14","v":"Prosím vyberte ze seznamu"}]
["22.",null,null,null,null,null,null,null,null,null,null,null,0,{"$f":"C11","v":"Prosím vyberte ze seznamu"},{"$f":"C12","v":0},{"$f":"C13","v":"Prosím vyberte ze seznamu"},{"$f":"C14","v":"Prosím vyberte ze seznamu"}]
["23.",null,null,null,null,null,null,null,null,null,null,null,0,{"$f":"C11","v":"Prosím vyberte ze seznamu"},{"$f":"C12","v":0},{"$f":"C13","v":"Prosím vyberte ze seznamu"},{"$f":"C14","v":"Prosím vyberte ze seznamu"}]
["24.",null,null,null,null,null,null,null,null,null,null,null,0,{"$f":"C11","v":"Prosím vyberte ze seznamu"},{"$f":"C12","v":0},{"$f":"C13","v":"Prosím vyberte ze seznamu"},{"$f":"C14","v":"Prosím vyberte ze seznamu"}]
["25.",null,null,null,null,null,null,null,null,null,null,null,0,{"$f":"C11","v":"Prosím vyberte ze seznamu"},{"$f":"C12","v":0},{"$f":"C13","v":"Prosím vyberte ze seznamu"},{"$f":"C14","v":"Prosím vyberte ze seznamu"}]
["26.",null,null,null,null,null,null,null,null,null,null,null,0,{"$f":"C11","v":"Prosím vyberte ze seznamu"},{"$f":"C12","v":0},{"$f":"C13","v":"Prosím vyberte ze seznamu"},{"$f":"C14","v":"Prosím vyberte ze seznamu"}]
["27.",null,null,null,null,null,null,null,null,null,null,null,0,{"$f":"C11","v":"Prosím vyberte ze seznamu"},{"$f":"C12","v":0},{"$f":"C13","v":"Prosím vyberte ze seznamu"},{"$f":"C14","v":"Prosím vyberte ze seznamu"}]
["28.",null,null,null,null,null,null,null,null,null,null,null,0,{"$f":"C11","v":"Prosím vyberte ze seznamu"},{"$f":"C12","v":0},{"$f":"C13","v":"Prosím vyberte ze seznamu"},{"$f":"C14","v":"Prosím vyberte ze seznamu"}]
["29.",null,null,null,null,null,null,null,null,null,null,null,0,{"$f":"C11","v":"Prosím vyberte ze seznamu"},{"$f":"C12","v":0},{"$f":"C13","v":"Prosím vyberte ze seznamu"},{"$f":"C14","v":"Prosím vyberte ze seznamu"}]
["30.",null,null,null,null,null,null,null,null,null,null,null,0,{"$f":"C11","v":"Prosím vyberte ze seznamu"},{"$f":"C12","v":0},{"$f":"C13","v":"Prosím vyberte ze seznamu"},{"$f":"C14","v":"Prosím vyberte ze seznamu"}]
["31.",null,null,null,null,null,null,null,null,null,null,null,0,{"$f":"C11","v":"Prosím vyberte ze seznamu"},{"$f":"C12","v":0},{"$f":"C13","v":"Prosím vyberte ze seznamu"},{"$f":"C14","v":"Prosím vyberte ze seznamu"}]
["32.",null,null,null,null,null,null,null,null,null,null,null,0,{"$f":"C11","v":"Prosím vyberte ze seznamu"},{"$f":"C12","v":0},{"$f":"C13","v":"Prosím vyberte ze seznamu"},{"$f":"C14","v":"Prosím vyberte ze seznamu"}]
["33.",null,null,null,null,null,null,null,null,null,null,null,0,{"$f":"C11","v":"Prosím vyberte ze seznamu"},{"$f":"C12","v":0},{"$f":"C13","v":"Prosím vyberte ze seznamu"},{"$f":"C14","v":"Prosím vyberte ze seznamu"}]
["34.",null,null,null,null,null,null,null,null,null,null,null,0,{"$f":"C11","v":"Prosím vyberte ze seznamu"},{"$f":"C12","v":0},{"$f":"C13","v":"Prosím vyberte ze seznamu"},{"$f":"C14","v":"Prosím vyberte ze seznamu"}]
["35.",null,null,null,null,null,null,null,null,null,null,null,0,{"$f":"C11","v":"Prosím vyberte ze seznamu"},{"$f":"C12","v":0},{"$f":"C13","v":"Prosím vyberte ze seznamu"},{"$f":"C14","v":"Prosím vyberte ze seznamu"}]
[null,null,null,"CELKEM KUSŮ:",{"$f":"SUM(E19:E53)","v":0},"[ks]"]
[null,null,null,"CELKOVÁ HMOTNOST:",{"$f":"M55*N55","v":0},"[kg]",null,null,null,null,null,null,{"$f":"SUM(M19:M53)","v":0},{"$f":"VLOOKUP(N62,N63:O84,2,)","v":0}]
[]
[null,"Podstřiky a ostatní požadavky uvádějte do poznámky"]
[null,"OBJEDNÁVKY POUZE V ELEKTRONICKÉ PODOBĚ VYPLNĚNÉ V EXCELU"]
[]
[null,"KONTAKT: Objednávky - 724 555 691 nebo 541 241 832 "]
[null,null,null,null,"`"]
[null,null,null,null,null,null,null,null,null,null,null,null,null,{"$f":"C11","v":"Prosím vyberte ze seznamu"},"kg/m2"]
[null,null,null,null,null,null,null,null,null,null,null,null,null,"Prosím vyberte ze seznamu",0,null,null,"Prosím vyberte ze seznamu",null,"Prosím vyberte ze seznamu",null,"Prosím vyberte ze seznamu",null,"Prosím vyberte ze seznamu"]
[null,null,null,null,null,null,null,null,null,null,null,null,null,"MDFL3 jednostranně laminovaná",2.38,null,null,"Sražená hrana (fazeta 1x1mm)",null,"Sražená hrana/Sražená hrana",null,"Lesk",null,"Lesk/Mat"]
[null,null,null,null,null,null,null,null,null,null,null,null,null,"MDFL16 jednostranně laminovaná",12,null,null,"R1",null,"R1/R1",null,"Mat",null,"Lesk/Lesk"]
[null,null,null,null,null,null,null,null,null,null,null,null,null,"MDFL18 jednostranně laminovaná",13.86,null,null,"R2",null,"R2/R2",null,"Nanomat",null,"Lesk/Základ"]
[null,null,null,null,null,null,null,null,null,null,null,null,null,"MDFL22 jednostranně laminovaná",16.5,null,null,"R3",null,"R2/R1",null,"S-Mat",null,"Mat/Mat"]
[null,null,null,null,null,null,null,null,null,null,null,null,null,"MDF3 surová",2.38,null,null,"R6",null,"R3/R3",null,"Základ",null,"Mat/Základ"]
[null,null,null,null,null,null,null,null,null,null,null,null,null,"MDF4 surová",2.88,null,null,null,null,"R3/R1",null,null,null,"Nanomat/Nanomat"]
[null,null,null,null,null,null,null,null,null,null,null,null,null,"MDF6 surová",4.3099999999999996,null,null,null,null,"R6/R6",null,null,null,"Nanomat/Mat"]
[null,null,null,null,null,null,null,null,null,null,null,null,null,"MDF8 surová",6,null,null,null,null,"R6/R1",null,null,null,"Nanomat/Základ"]
[null,null,null,null,null,null,null,null,null,null,null,null,null,"MDF10 surová",7.9,null,null,null,null,null,null,null,null,"S-Mat/S-Mat"]
[null,null,null,null,null,null,null,null,null,null,null,null,null,"MDF12 surová",9.36,null,null,null,null,null,null,null,null,"S-Mat/Mat"]
[null,null,null,null,null,null,null,null,null,null,null,null,null,"MDF16 surová",12,null,null,null,null,null,null,null,null,"S-Mat/Základ"]
[null,null,null,null,null,null,null,null,null,null,null,null,null,"MDF18 surová",13.86]
[null,null,null,null,null,null,null,null,null,null,null,null,null,"MDF19 surová",14.25]
[null,null,null,null,null,null,null,null,null,null,null,null,null,"MDF22 surová",16.5]
[null,null,null,null,null,null,null,null,null,null,null,null,null,"MDF25 surová",18.75]
[null,null,null,null,null,null,null,null,null,null,null,null,null,"MDF28 surová",20.440000000000001]
[null,null,null,null,null,null,null,null,null,null,null,null,null,"MDF30 surová",21.9]
[null,null,null,null,null,null,null,null,null,null,null,null,null,"MDF32 surová",22.72]
[null,null,null,null,null,null,null,null,null,null,null,null,null,"MDF36 surová",24.48]
[null,null,null,null,null,null,null,null,null,null,null,null,null,"MDF38 surová",25.46]
[null,null,null,null,null,null,null,null,null,null,null,null,null,"MDF40 surová",26.79]

{"sheet":"Export","index":10,"n_rows":251,"n_cols":11,"rows_kept":251,"cut":false,"hidden":true,"merged":[]}
["nazev","x","y","pocet","x1","x2","y1","y2","hraneni","poznamka","obj. cislo"]
[{"$f":"IF(ISTEXT(DataAll!A2),RemoveAccent(DataAll!A2),\"\")","v":""},{"$f":"IF(DataAll!B2=0,\"\",DataAll!B2)","v":{"$error":"#REF!"}},{"$f":"IF(DataAll!D2=0,\"\",DataAll!D2)","v":{"$error":"#REF!"}},{"$f":"IF(DataAll!F2=0,\"\",DataAll!F2)","v":{"$error":"#REF!"}},{"$f":"IF(DataAll!K2=0,\"\",DataAll!K2)","v":{"$error":"#REF!"}},{"$f":"IF(DataAll!L2=0,\"\",DataAll!L2)","v":{"$error":"#REF!"}},{"$f":"IF(DataAll!M2=0,\"\",DataAll!M2)","v":{"$error":"#REF!"}},{"$f":"IF(DataAll!N2=0,\"\",DataAll!N2)","v":{"$error":"#REF!"}},{"$f":"GrafikaHrany(E2,F2,G2,H2,DataAll!O2)","v":{"$error":"#VALUE!"}},{"$f":"IF(ISTEXT(DataAll!P2),DataAll!P2,\"\")","v":""},{"$f":"IF(AND(OR(ISTEXT(DataAll!Q2),DataAll!Q2<>0),A2<>\"\"),DataAll!Q2,\"\")","v":{"$error":"#REF!"}}]
[{"$f":"IF(ISTEXT(DataAll!A3),RemoveAccent(DataAll!A3),\"\")","v":""},{"$f":"IF(DataAll!B3=0,\"\",DataAll!B3)","v":{"$error":"#REF!"}},{"$f":"IF(DataAll!D3=0,\"\",DataAll!D3)","v":{"$error":"#REF!"}},{"$f":"IF(DataAll!F3=0,\"\",DataAll!F3)","v":{"$error":"#REF!"}},{"$f":"IF(DataAll!K3=0,\"\",DataAll!K3)","v":{"$error":"#REF!"}},{"$f":"IF(DataAll!L3=0,\"\",DataAll!L3)","v":{"$error":"#REF!"}},{"$f":"IF(DataAll!M3=0,\"\",DataAll!M3)","v":{"$error":"#REF!"}},{"$f":"IF(DataAll!N3=0,\"\",DataAll!N3)","v":{"$error":"#REF!"}},{"$f":"GrafikaHrany(E3,F3,G3,H3,DataAll!O3)","v":{"$error":"#VALUE!"}},{"$f":"IF(ISTEXT(DataAll!P3),DataAll!P3,\"\")","v":""},{"$f":"IF(AND(OR(ISTEXT(DataAll!Q3),DataAll!Q3<>0),A3<>\"\"),DataAll!Q3,\"\")","v":{"$error":"#REF!"}}]
[{"$f":"IF(ISTEXT(DataAll!A4),RemoveAccent(DataAll!A4),\"\")","v":""},{"$f":"IF(DataAll!B4=0,\"\",DataAll!B4)","v":{"$error":"#REF!"}},{"$f":"IF(DataAll!D4=0,\"\",DataAll!D4)","v":{"$error":"#REF!"}},{"$f":"IF(DataAll!F4=0,\"\",DataAll!F4)","v":{"$error":"#REF!"}},{"$f":"IF(DataAll!K4=0,\"\",DataAll!K4)","v":{"$error":"#REF!"}},{"$f":"IF(DataAll!L4=0,\"\",DataAll!L4)","v":{"$error":"#REF!"}},{"$f":"IF(DataAll!M4=0,\"\",DataAll!M4)","v":{"$error":"#REF!"}},{"$f":"IF(DataAll!N4=0,\"\",DataAll!N4)","v":{"$error":"#REF!"}},{"$f":"GrafikaHrany(E4,F4,G4,H4,DataAll!O4)","v":{"$error":"#VALUE!"}},{"$f":"IF(ISTEXT(DataAll!P4),DataAll!P4,\"\")","v":""},{"$f":"IF(AND(OR(ISTEXT(DataAll!Q4),DataAll!Q4<>0),A4<>\"\"),DataAll!Q4,\"\")","v":{"$error":"#REF!"}}]
[{"$f":"IF(ISTEXT(DataAll!A5),RemoveAccent(DataAll!A5),\"\")","v":""},{"$f":"IF(DataAll!B5=0,\"\",DataAll!B5)","v":{"$error":"#REF!"}},{"$f":"IF(DataAll!D5=0,\"\",DataAll!D5)","v":{"$error":"#REF!"}},{"$f":"IF(DataAll!F5=0,\"\",DataAll!F5)","v":{"$error":"#REF!"}},{"$f":"IF(DataAll!K5=0,\"\",DataAll!K5)","v":{"$error":"#REF!"}},{"$f":"IF(DataAll!L5=0,\"\",DataAll!L5)","v":{"$error":"#REF!"}},{"$f":"IF(DataAll!M5=0,\"\",DataAll!M5)","v":{"$error":"#REF!"}},{"$f":"IF(DataAll!N5=0,\"\",DataAll!N5)","v":{"$error":"#REF!"}},{"$f":"GrafikaHrany(E5,F5,G5,H5,DataAll!O5)","v":{"$error":"#VALUE!"}},{"$f":"IF(ISTEXT(DataAll!P5),DataAll!P5,\"\")","v":""},{"$f":"IF(AND(OR(ISTEXT(DataAll!Q5),DataAll!Q5<>0),A5<>\"\"),DataAll!Q5,\"\")","v":{"$error":"#REF!"}}]
[{"$f":"IF(ISTEXT(DataAll!A6),RemoveAccent(DataAll!A6),\"\")","v":""},{"$f":"IF(DataAll!B6=0,\"\",DataAll!B6)","v":{"$error":"#REF!"}},{"$f":"IF(DataAll!D6=0,\"\",DataAll!D6)","v":{"$error":"#REF!"}},{"$f":"IF(DataAll!F6=0,\"\",DataAll!F6)","v":{"$error":"#REF!"}},{"$f":"IF(DataAll!K6=0,\"\",DataAll!K6)","v":{"$error":"#REF!"}},{"$f":"IF(DataAll!L6=0,\"\",DataAll!L6)","v":{"$error":"#REF!"}},{"$f":"IF(DataAll!M6=0,\"\",DataAll!M6)","v":{"$error":"#REF!"}},{"$f":"IF(DataAll!N6=0,\"\",DataAll!N6)","v":{"$error":"#REF!"}},{"$f":"GrafikaHrany(E6,F6,G6,H6,DataAll!O6)","v":{"$error":"#VALUE!"}},{"$f":"IF(ISTEXT(DataAll!P6),DataAll!P6,\"\")","v":""},{"$f":"IF(AND(OR(ISTEXT(DataAll!Q6),DataAll!Q6<>0),A6<>\"\"),DataAll!Q6,\"\")","v":{"$error":"#REF!"}}]
[{"$f":"IF(ISTEXT(DataAll!A7),RemoveAccent(DataAll!A7),\"\")","v":""},{"$f":"IF(DataAll!B7=0,\"\",DataAll!B7)","v":{"$error":"#REF!"}},{"$f":"IF(DataAll!D7=0,\"\",DataAll!D7)","v":{"$error":"#REF!"}},{"$f":"IF(DataAll!F7=0,\"\",DataAll!F7)","v":{"$error":"#REF!"}},{"$f":"IF(DataAll!K7=0,\"\",DataAll!K7)","v":{"$error":"#REF!"}},{"$f":"IF(DataAll!L7=0,\"\",DataAll!L7)","v":{"$error":"#REF!"}},{"$f":"IF(DataAll!M7=0,\"\",DataAll!M7)","v":{"$error":"#REF!"}},{"$f":"IF(DataAll!N7=0,\"\",DataAll!N7)","v":{"$error":"#REF!"}},{"$f":"GrafikaHrany(E7,F7,G7,H7,DataAll!O7)","v":{"$error":"#VALUE!"}},{"$f":"IF(ISTEXT(DataAll!P7),DataAll!P7,\"\")","v":""},{"$f":"IF(AND(OR(ISTEXT(DataAll!Q7),DataAll!Q7<>0),A7<>\"\"),DataAll!Q7,\"\")","v":{"$error":"#REF!"}}]
[{"$f":"IF(ISTEXT(DataAll!A8),RemoveAccent(DataAll!A8),\"\")","v":""},{"$f":"IF(DataAll!B8=0,\"\",DataAll!B8)","v":{"$error":"#REF!"}},{"$f":"IF(DataAll!D8=0,\"\",DataAll!D8)","v":{"$error":"#REF!"}},{"$f":"IF(DataAll!F8=0,\"\",DataAll!F8)","v":{"$error":"#REF!"}},{"$f":"IF(DataAll!K8=0,\"\",DataAll!K8)","v":{"$error":"#REF!"}},{"$f":"IF(DataAll!L8=0,\"\",DataAll!L8)","v":{"$error":"#REF!"}},{"$f":"IF(DataAll!M8=0,\"\",DataAll!M8)","v":{"$error":"#REF!"}},{"$f":"IF(DataAll!N8=0,\"\",DataAll!N8)","v":{"$error":"#REF!"}},{"$f":"GrafikaHrany(E8,F8,G8,H8,DataAll!O8)","v":{"$error":"#VALUE!"}},{"$f":"IF(ISTEXT(DataAll!P8),DataAll!P8,\"\")","v":""},{"$f":"IF(AND(OR(ISTEXT(DataAll!Q8),DataAll!Q8<>0),A8<>\"\"),DataAll!Q8,\"\")","v":{"$error":"#REF!"}}]
[{"$f":"IF(ISTEXT(DataAll!A9),RemoveAccent(DataAll!A9),\"\")","v":""},{"$f":"IF(DataAll!B9=0,\"\",DataAll!B9)","v":{"$error":"#REF!"}},{"$f":"IF(DataAll!D9=0,\"\",DataAll!D9)","v":{"$error":"#REF!"}},{"$f":"IF(DataAll!F9=0,\"\",DataAll!F9)","v":{"$error":"#REF!"}},{"$f":"IF(DataAll!K9=0,\"\",DataAll!K9)","v":{"$error":"#REF!"}},{"$f":"IF(DataAll!L9=0,\"\",DataAll!L9)","v":{"$error":"#REF!"}},{"$f":"IF(DataAll!M9=0,\"\",DataAll!M9)","v":{"$error":"#REF!"}},{"$f":"IF(DataAll!N9=0,\"\",DataAll!N9)","v":{"$error":"#REF!"}},{"$f":"GrafikaHrany(E9,F9,G9,H9,DataAll!O9)","v":{"$error":"#VALUE!"}},{"$f":"IF(ISTEXT(DataAll!P9),DataAll!P9,\"\")","v":""},{"$f":"IF(AND(OR(ISTEXT(DataAll!Q9),DataAll!Q9<>0),A9<>\"\"),DataAll!Q9,\"\")","v":{"$error":"#REF!"}}]
[{"$f":"IF(ISTEXT(DataAll!A10),RemoveAccent(DataAll!A10),\"\")","v":""},{"$f":"IF(DataAll!B10=0,\"\",DataAll!B10)","v":{"$error":"#REF!"}},{"$f":"IF(DataAll!D10=0,\"\",DataAll!D10)","v":{"$error":"#REF!"}},{"$f":"IF(DataAll!F10=0,\"\",DataAll!F10)","v":{"$error":"#REF!"}},{"$f":"IF(DataAll!K10=0,\"\",DataAll!K10)","v":{"$error":"#REF!"}},{"$f":"IF(DataAll!L10=0,\"\",DataAll!L10)","v":{"$error":"#REF!"}},{"$f":"IF(DataAll!M10=0,\"\",DataAll!M10)","v":{"$error":"#REF!"}},{"$f":"IF(DataAll!N10=0,\"\",DataAll!N10)","v":{"$error":"#REF!"}},{"$f":"GrafikaHrany(E10,F10,G10,H10,DataAll!O10)","v":{"$error":"#VALUE!"}},{"$f":"IF(ISTEXT(DataAll!P10),DataAll!P10,\"\")","v":""},{"$f":"IF(AND(OR(ISTEXT(DataAll!Q10),DataAll!Q10<>0),A10<>\"\"),DataAll!Q10,\"\")","v":{"$error":"#REF!"}}]
[{"$f":"IF(ISTEXT(DataAll!A11),RemoveAccent(DataAll!A11),\"\")","v":""},{"$f":"IF(DataAll!B11=0,\"\",DataAll!B11)","v":{"$error":"#REF!"}},{"$f":"IF(DataAll!D11=0,\"\",DataAll!D11)","v":{"$error":"#REF!"}},{"$f":"IF(DataAll!F11=0,\"\",DataAll!F11)","v":{"$error":"#REF!"}},{"$f":"IF(DataAll!K11=0,\"\",DataAll!K11)","v":{"$error":"#REF!"}},{"$f":"IF(DataAll!L11=0,\"\",DataAll!L11)","v":{"$error":"#REF!"}},{"$f":"IF(DataAll!M11=0,\"\",DataAll!M11)","v":{"$error":"#REF!"}},{"$f":"IF(DataAll!N11=0,\"\",DataAll!N11)","v":{"$error":"#REF!"}},{"$f":"GrafikaHrany(E11,F11,G11,H11,DataAll!O11)","v":{"$error":"#VALUE!"}},{"$f":"IF(ISTEXT(DataAll!P11),DataAll!P11,\"\")","v":""},{"$f":"IF(AND(OR(ISTEXT(DataAll!Q11),DataAll!Q11<>0),A11<>\"\"),DataAll!Q11,\"\")","v":{"$error":"#REF!"}}]
[{"$f":"IF(ISTEXT(DataAll!A12),RemoveAccent(DataAll!A12),\"\")","v":""},{"$f":"IF(DataAll!B12=0,\"\",DataAll!B12)","v":{"$error":"#REF!"}},{"$f":"IF(DataAll!D12=0,\"\",DataAll!D12)","v":{"$error":"#REF!"}},{"$f":"IF(DataAll!F12=0,\"\",DataAll!F12)","v":{"$error":"#REF!"}},{"$f":"IF(DataAll!K12=0,\"\",DataAll!K12)","v":{"$error":"#REF!"}},{"$f":"IF(DataAll!L12=0,\"\",DataAll!L12)","v":{"$error":"#REF!"}},{"$f":"IF(DataAll!M12=0,\"\",DataAll!M12)","v":{"$error":"#REF!"}},{"$f":"IF(DataAll!N12=0,\"\",DataAll!N12)","v":{"$error":"#REF!"}},{"$f":"GrafikaHrany(E12,F12,G12,H12,DataAll!O12)","v":{"$error":"#VALUE!"}},{"$f":"IF(ISTEXT(DataAll!P12),DataAll!P12,\"\")","v":""},{"$f":"IF(AND(OR(ISTEXT(DataAll!Q12),DataAll!Q12<>0),A12<>\"\"),DataAll!Q12,\"\")","v":{"$error":"#REF!"}}]
[{"$f":"IF(ISTEXT(DataAll!A13),RemoveAccent(DataAll!A13),\"\")","v":""},{"$f":"IF(DataAll!B13=0,\"\",DataAll!B13)","v":{"$error":"#REF!"}},{"$f":"IF(DataAll!D13=0,\"\",DataAll!D13)","v":{"$error":"#REF!"}},{"$f":"IF(DataAll!F13=0,\"\",DataAll!F13)","v":{"$error":"#REF!"}},{"$f":"IF(DataAll!K13=0,\"\",DataAll!K13)","v":{"$error":"#REF!"}},{"$f":"IF(DataAll!L13=0,\"\",DataAll!L13)","v":{"$error":"#REF!"}},{"$f":"IF(DataAll!M13=0,\"\",DataAll!M13)","v":{"$error":"#REF!"}},{"$f":"IF(DataAll!N13=0,\"\",DataAll!N13)","v":{"$error":"#REF!"}},{"$f":"GrafikaHrany(E13,F13,G13,H13,DataAll!O13)","v":{"$error":"#VALUE!"}},{"$f":"IF(ISTEXT(DataAll!P13),DataAll!P13,\"\")","v":""},{"$f":"IF(AND(OR(ISTEXT(DataAll!Q13),DataAll!Q13<>0),A13<>\"\"),DataAll!Q13,\"\")","v":{"$error":"#REF!"}}]
[{"$f":"IF(ISTEXT(DataAll!A14),RemoveAccent(DataAll!A14),\"\")","v":""},{"$f":"IF(DataAll!B14=0,\"\",DataAll!B14)","v":{"$error":"#REF!"}},{"$f":"IF(DataAll!D14=0,\"\",DataAll!D14)","v":{"$error":"#REF!"}},{"$f":"IF(DataAll!F14=0,\"\",DataAll!F14)","v":{"$error":"#REF!"}},{"$f":"IF(DataAll!K14=0,\"\",DataAll!K14)","v":{"$error":"#REF!"}},{"$f":"IF(DataAll!L14=0,\"\",DataAll!L14)","v":{"$error":"#REF!"}},{"$f":"IF(DataAll!M14=0,\"\",DataAll!M14)","v":{"$error":"#REF!"}},{"$f":"IF(DataAll!N14=0,\"\",DataAll!N14)","v":{"$error":"#REF!"}},{"$f":"GrafikaHrany(E14,F14,G14,H14,DataAll!O14)","v":{"$error":"#VALUE!"}},{"$f":"IF(ISTEXT(DataAll!P14),DataAll!P14,\"\")","v":""},{"$f":"IF(AND(OR(ISTEXT(DataAll!Q14),DataAll!Q14<>0),A14<>\"\"),DataAll!Q14,\"\")","v":{"$error":"#REF!"}}]
[{"$f":"IF(ISTEXT(DataAll!A15),RemoveAccent(DataAll!A15),\"\")","v":""},{"$f":"IF(DataAll!B15=0,\"\",DataAll!B15)","v":{"$error":"#REF!"}},{"$f":"IF(DataAll!D15=0,\"\",DataAll!D15)","v":{"$error":"#REF!"}},{"$f":"IF(DataAll!F15=0,\"\",DataAll!F15)","v":{"$error":"#REF!"}},{"$f":"IF(DataAll!K15=0,\"\",DataAll!K15)","v":{"$error":"#REF!"}},{"$f":"IF(DataAll!L15=0,\"\",DataAll!L15)","v":{"$error":"#REF!"}},{"$f":"IF(DataAll!M15=0,\"\",DataAll!M15)","v":{"$error":"#REF!"}},{"$f":"IF(DataAll!N15=0,\"\",DataAll!N15)","v":{"$error":"#REF!"}},{"$f":"GrafikaHrany(E15,F15,G15,H15,DataAll!O15)","v":{"$error":"#VALUE!"}},{"$f":"IF(ISTEXT(DataAll!P15),DataAll!P15,\"\")","v":""},{"$f":"IF(AND(OR(ISTEXT(DataAll!Q15),DataAll!Q15<>0),A15<>\"\"),DataAll!Q15,\"\")","v":{"$error":"#REF!"}}]
[{"$f":"IF(ISTEXT(DataAll!A16),RemoveAccent(DataAll!A16),\"\")","v":""},{"$f":"IF(DataAll!B16=0,\"\",DataAll!B16)","v":{"$error":"#REF!"}},{"$f":"IF(DataAll!D16=0,\"\",DataAll!D16)","v":{"$error":"#REF!"}},{"$f":"IF(DataAll!F16=0,\"\",DataAll!F16)","v":{"$error":"#REF!"}},{"$f":"IF(DataAll!K16=0,\"\",DataAll!K16)","v":{"$error":"#REF!"}},{"$f":"IF(DataAll!L16=0,\"\",DataAll!L16)","v":{"$error":"#REF!"}},{"$f":"IF(DataAll!M16=0,\"\",DataAll!M16)","v":{"$error":"#REF!"}},{"$f":"IF(DataAll!N16=0,\"\",DataAll!N16)","v":{"$error":"#REF!"}},{"$f":"GrafikaHrany(E16,F16,G16,H16,DataAll!O16)","v":{"$error":"#VALUE!"}},{"$f":"IF(ISTEXT(DataAll!P16),DataAll!P16,\"\")","v":""},{"$f":"IF(AND(OR(ISTEXT(DataAll!Q16),DataAll!Q16<>0),A16<>\"\"),DataAll!Q16,\"\")","v":{"$error":"#REF!"}}]
[{"$f":"IF(ISTEXT(DataAll!A17),RemoveAccent(DataAll!A17),\"\")","v":""},{"$f":"IF(DataAll!B17=0,\"\",DataAll!B17)","v":{"$error":"#REF!"}},{"$f":"IF(DataAll!D17=0,\"\",DataAll!D17)","v":{"$error":"#REF!"}},{"$f":"IF(DataAll!F17=0,\"\",DataAll!F17)","v":{"$error":"#REF!"}},{"$f":"IF(DataAll!K17=0,\"\",DataAll!K17)","v":{"$error":"#REF!"}},{"$f":"IF(DataAll!L17=0,\"\",DataAll!L17)","v":{"$error":"#REF!"}},{"$f":"IF(DataAll!M17=0,\"\",DataAll!M17)","v":{"$error":"#REF!"}},{"$f":"IF(DataAll!N17=0,\"\",DataAll!N17)","v":{"$error":"#REF!"}},{"$f":"GrafikaHrany(E17,F17,G17,H17,DataAll!O17)","v":{"$error":"#VALUE!"}},{"$f":"IF(ISTEXT(DataAll!P17),DataAll!P17,\"\")","v":""},{"$f":"IF(AND(OR(ISTEXT(DataAll!Q17),DataAll!Q17<>0),A17<>\"\"),DataAll!Q17,\"\")","v":{"$error":"#REF!"}}]
[{"$f":"IF(ISTEXT(DataAll!A18),RemoveAccent(DataAll!A18),\"\")","v":""},{"$f":"IF(DataAll!B18=0,\"\",DataAll!B18)","v":{"$error":"#REF!"}},{"$f":"IF(DataAll!D18=0,\"\",DataAll!D18)","v":{"$error":"#REF!"}},{"$f":"IF(DataAll!F18=0,\"\",DataAll!F18)","v":{"$error":"#REF!"}},{"$f":"IF(DataAll!K18=0,\"\",DataAll!K18)","v":{"$error":"#REF!"}},{"$f":"IF(DataAll!L18=0,\"\",DataAll!L18)","v":{"$error":"#REF!"}},{"$f":"IF(DataAll!M18=0,\"\",DataAll!M18)","v":{"$error":"#REF!"}},{"$f":"IF(DataAll!N18=0,\"\",DataAll!N18)","v":{"$error":"#REF!"}},{"$f":"GrafikaHrany(E18,F18,G18,H18,DataAll!O18)","v":{"$error":"#VALUE!"}},{"$f":"IF(ISTEXT(DataAll!P18),DataAll!P18,\"\")","v":""},{"$f":"IF(AND(OR(ISTEXT(DataAll!Q18),DataAll!Q18<>0),A18<>\"\"),DataAll!Q18,\"\")","v":{"$error":"#REF!"}}]
[{"$f":"IF(ISTEXT(DataAll!A19),RemoveAccent(DataAll!A19),\"\")","v":""},{"$f":"IF(DataAll!B19=0,\"\",DataAll!B19)","v":{"$error":"#REF!"}},{"$f":"IF(DataAll!D19=0,\"\",DataAll!D19)","v":{"$error":"#REF!"}},{"$f":"IF(DataAll!F19=0,\"\",DataAll!F19)","v":{"$error":"#REF!"}},{"$f":"IF(DataAll!K19=0,\"\",DataAll!K19)","v":{"$error":"#REF!"}},{"$f":"IF(DataAll!L19=0,\"\",DataAll!L19)","v":{"$error":"#REF!"}},{"$f":"IF(DataAll!M19=0,\"\",DataAll!M19)","v":{"$error":"#REF!"}},{"$f":"IF(DataAll!N19=0,\"\",DataAll!N19)","v":{"$error":"#REF!"}},{"$f":"GrafikaHrany(E19,F19,G19,H19,DataAll!O19)","v":{"$error":"#VALUE!"}},{"$f":"IF(ISTEXT(DataAll!P19),DataAll!P19,\"\")","v":""},{"$f":"IF(AND(OR(ISTEXT(DataAll!Q19),DataAll!Q19<>0),A19<>\"\"),DataAll!Q19,\"\")","v":{"$error":"#REF!"}}]
[{"$f":"IF(ISTEXT(DataAll!A20),RemoveAccent(DataAll!A20),\"\")","v":""},{"$f":"IF(DataAll!B20=0,\"\",DataAll!B20)","v":{"$error":"#REF!"}},{"$f":"IF(DataAll!D20=0,\"\",DataAll!D20)","v":{"$error":"#REF!"}},{"$f":"IF(DataAll!F20=0,\"\",DataAll!F20)","v":{"$error":"#REF!"}},{"$f":"IF(DataAll!K20=0,\"\",DataAll!K20)","v":{"$error":"#REF!"}},{"$f":"IF(DataAll!L20=0,\"\",DataAll!L20)","v":{"$error":"#REF!"}},{"$f":"IF(DataAll!M20=0,\"\",DataAll!M20)","v":{"$error":"#REF!"}},{"$f":"IF(DataAll!N20=0,\"\",DataAll!N20)","v":{"$error":"#REF!"}},{"$f":"GrafikaHrany(E20,F20,G20,H20,DataAll!O20)","v":{"$error":"#VALUE!"}},{"$f":"IF(ISTEXT(DataAll!P20),DataAll!P20,\"\")","v":""},{"$f":"IF(AND(OR(ISTEXT(DataAll!Q20),DataAll!Q20<>0),A20<>\"\"),DataAll!Q20,\"\")","v":{"$error":"#REF!"}}]
[{"$f":"IF(ISTEXT(DataAll!A21),RemoveAccent(DataAll!A21),\"\")","v":""},{"$f":"IF(DataAll!B21=0,\"\",DataAll!B21)","v":{"$error":"#REF!"}},{"$f":"IF(DataAll!D21=0,\"\",DataAll!D21)","v":{"$error":"#REF!"}},{"$f":"IF(DataAll!F21=0,\"\",DataAll!F21)","v":{"$error":"#REF!"}},{"$f":"IF(DataAll!K21=0,\"\",DataAll!K21)","v":{"$error":"#REF!"}},{"$f":"IF(DataAll!L21=0,\"\",DataAll!L21)","v":{"$error":"#REF!"}},{"$f":"IF(DataAll!M21=0,\"\",DataAll!M21)","v":{"$error":"#REF!"}},{"$f":"IF(DataAll!N21=0,\"\",DataAll!N21)","v":{"$error":"#REF!"}},{"$f":"GrafikaHrany(E21,F21,G21,H21,DataAll!O21)","v":{"$error":"#VALUE!"}},{"$f":"IF(ISTEXT(DataAll!P21),DataAll!P21,\"\")","v":""},{"$f":"IF(AND(OR(ISTEXT(DataAll!Q21),DataAll!Q21<>0),A21<>\"\"),DataAll!Q21,\"\")","v":{"$error":"#REF!"}}]
[{"$f":"IF(ISTEXT(DataAll!A22),RemoveAccent(DataAll!A22),\"\")","v":""},{"$f":"IF(DataAll!B22=0,\"\",DataAll!B22)","v":{"$error":"#REF!"}},{"$f":"IF(DataAll!D22=0,\"\",DataAll!D22)","v":{"$error":"#REF!"}},{"$f":"IF(DataAll!F22=0,\"\",DataAll!F22)","v":{"$error":"#REF!"}},{"$f":"IF(DataAll!K22=0,\"\",DataAll!K22)","v":{"$error":"#REF!"}},{"$f":"IF(DataAll!L22=0,\"\",DataAll!L22)","v":{"$error":"#REF!"}},{"$f":"IF(DataAll!M22=0,\"\",DataAll!M22)","v":{"$error":"#REF!"}},{"$f":"IF(DataAll!N22=0,\"\",DataAll!N22)","v":{"$error":"#REF!"}},{"$f":"GrafikaHrany(E22,F22,G22,H22,DataAll!O22)","v":{"$error":"#VALUE!"}},{"$f":"IF(ISTEXT(DataAll!P22),DataAll!P22,\"\")","v":""},{"$f":"IF(AND(OR(ISTEXT(DataAll!Q22),DataAll!Q22<>0),A22<>\"\"),DataAll!Q22,\"\")","v":{"$error":"#REF!"}}]
[{"$f":"IF(ISTEXT(DataAll!A23),RemoveAccent(DataAll!A23),\"\")","v":""},{"$f":"IF(DataAll!B23=0,\"\",DataAll!B23)","v":{"$error":"#REF!"}},{"$f":"IF(DataAll!D23=0,\"\",DataAll!D23)","v":{"$error":"#REF!"}},{"$f":"IF(DataAll!F23=0,\"\",DataAll!F23)","v":{"$error":"#REF!"}},{"$f":"IF(DataAll!K23=0,\"\",DataAll!K23)","v":{"$error":"#REF!"}},{"$f":"IF(DataAll!L23=0,\"\",DataAll!L23)","v":{"$error":"#REF!"}},{"$f":"IF(DataAll!M23=0,\"\",DataAll!M23)","v":{"$error":"#REF!"}},{"$f":"IF(DataAll!N23=0,\"\",DataAll!N23)","v":{"$error":"#REF!"}},{"$f":"GrafikaHrany(E23,F23,G23,H23,DataAll!O23)","v":{"$error":"#VALUE!"}},{"$f":"IF(ISTEXT(DataAll!P23),DataAll!P23,\"\")","v":""},{"$f":"IF(AND(OR(ISTEXT(DataAll!Q23),DataAll!Q23<>0),A23<>\"\"),DataAll!Q23,\"\")","v":{"$error":"#REF!"}}]
[{"$f":"IF(ISTEXT(DataAll!A24),RemoveAccent(DataAll!A24),\"\")","v":""},{"$f":"IF(DataAll!B24=0,\"\",DataAll!B24)","v":{"$error":"#REF!"}},{"$f":"IF(DataAll!D24=0,\"\",DataAll!D24)","v":{"$error":"#REF!"}},{"$f":"IF(DataAll!F24=0,\"\",DataAll!F24)","v":{"$error":"#REF!"}},{"$f":"IF(DataAll!K24=0,\"\",DataAll!K24)","v":{"$error":"#REF!"}},{"$f":"IF(DataAll!L24=0,\"\",DataAll!L24)","v":{"$error":"#REF!"}},{"$f":"IF(DataAll!M24=0,\"\",DataAll!M24)","v":{"$error":"#REF!"}},{"$f":"IF(DataAll!N24=0,\"\",DataAll!N24)","v":{"$error":"#REF!"}},{"$f":"GrafikaHrany(E24,F24,G24,H24,DataAll!O24)","v":{"$error":"#VALUE!"}},{"$f":"IF(ISTEXT(DataAll!P24),DataAll!P24,\"\")","v":""},{"$f":"IF(AND(OR(ISTEXT(DataAll!Q24),DataAll!Q24<>0),A24<>\"\"),DataAll!Q24,\"\")","v":{"$error":"#REF!"}}]
[{"$f":"IF(ISTEXT(DataAll!A25),RemoveAccent(DataAll!A25),\"\")","v":""},{"$f":"IF(DataAll!B25=0,\"\",DataAll!B25)","v":{"$error":"#REF!"}},{"$f":"IF(DataAll!D25=0,\"\",DataAll!D25)","v":{"$error":"#REF!"}},{"$f":"IF(DataAll!F25=0,\"\",DataAll!F25)","v":{"$error":"#REF!"}},{"$f":"IF(DataAll!K25=0,\"\",DataAll!K25)","v":{"$error":"#REF!"}},{"$f":"IF(DataAll!L25=0,\"\",DataAll!L25)","v":{"$error":"#REF!"}},{"$f":"IF(DataAll!M25=0,\"\",DataAll!M25)","v":{"$error":"#REF!"}},{"$f":"IF(DataAll!N25=0,\"\",DataAll!N25)","v":{"$error":"#REF!"}},{"$f":"GrafikaHrany(E25,F25,G25,H25,DataAll!O25)","v":{"$error":"#VALUE!"}},{"$f":"IF(ISTEXT(DataAll!P25),DataAll!P25,\"\")","v":""},{"$f":"IF(AND(OR(ISTEXT(DataAll!Q25),DataAll!Q25<>0),A25<>\"\"),DataAll!Q25,\"\")","v":{"$error":"#REF!"}}]
[{"$f":"IF(ISTEXT(DataAll!A26),RemoveAccent(DataAll!A26),\"\")","v":""},{"$f":"IF(DataAll!B26=0,\"\",DataAll!B26)","v":{"$error":"#REF!"}},{"$f":"IF(DataAll!D26=0,\"\",DataAll!D26)","v":{"$error":"#REF!"}},{"$f":"IF(DataAll!F26=0,\"\",DataAll!F26)","v":{"$error":"#REF!"}},{"$f":"IF(DataAll!K26=0,\"\",DataAll!K26)","v":{"$error":"#REF!"}},{"$f":"IF(DataAll!L26=0,\"\",DataAll!L26)","v":{"$error":"#REF!"}},{"$f":"IF(DataAll!M26=0,\"\",DataAll!M26)","v":{"$error":"#REF!"}},{"$f":"IF(DataAll!N26=0,\"\",DataAll!N26)","v":{"$error":"#REF!"}},{"$f":"GrafikaHrany(E26,F26,G26,H26,DataAll!O26)","v":{"$error":"#VALUE!"}},{"$f":"IF(ISTEXT(DataAll!P26),DataAll!P26,\"\")","v":""},{"$f":"IF(AND(OR(ISTEXT(DataAll!Q26),DataAll!Q26<>0),A26<>\"\"),DataAll!Q26,\"\")","v":{"$error":"#REF!"}}]
[{"$f":"IF(ISTEXT(DataAll!A27),RemoveAccent(DataAll!A27),\"\")","v":""},{"$f":"IF(DataAll!B27=0,\"\",DataAll!B27)","v":{"$error":"#REF!"}},{"$f":"IF(DataAll!D27=0,\"\",DataAll!D27)","v":{"$error":"#REF!"}},{"$f":"IF(DataAll!F27=0,\"\",DataAll!F27)","v":{"$error":"#REF!"}},{"$f":"IF(DataAll!K27=0,\"\",DataAll!K27)","v":{"$error":"#REF!"}},{"$f":"IF(DataAll!L27=0,\"\",DataAll!L27)","v":{"$error":"#REF!"}},{"$f":"IF(DataAll!M27=0,\"\",DataAll!M27)","v":{"$error":"#REF!"}},{"$f":"IF(DataAll!N27=0,\"\",DataAll!N27)","v":{"$error":"#REF!"}},{"$f":"GrafikaHrany(E27,F27,G27,H27,DataAll!O27)","v":{"$error":"#VALUE!"}},{"$f":"IF(ISTEXT(DataAll!P27),DataAll!P27,\"\")","v":""},{"$f":"IF(AND(OR(ISTEXT(DataAll!Q27),DataAll!Q27<>0),A27<>\"\"),DataAll!Q27,\"\")","v":{"$error":"#REF!"}}]
[{"$f":"IF(ISTEXT(DataAll!A28),RemoveAccent(DataAll!A28),\"\")","v":""},{"$f":"IF(DataAll!B28=0,\"\",DataAll!B28)","v":{"$error":"#REF!"}},{"$f":"IF(DataAll!D28=0,\"\",DataAll!D28)","v":{"$error":"#REF!"}},{"$f":"IF(DataAll!F28=0,\"\",DataAll!F28)","v":{"$error":"#REF!"}},{"$f":"IF(DataAll!K28=0,\"\",DataAll!K28)","v":{"$error":"#REF!"}},{"$f":"IF(DataAll!L28=0,\"\",DataAll!L28)","v":{"$error":"#REF!"}},{"$f":"IF(DataAll!M28=0,\"\",DataAll!M28)","v":{"$error":"#REF!"}},{"$f":"IF(DataAll!N28=0,\"\",DataAll!N28)","v":{"$error":"#REF!"}},{"$f":"GrafikaHrany(E28,F28,G28,H28,DataAll!O28)","v":{"$error":"#VALUE!"}},{"$f":"IF(ISTEXT(DataAll!P28),DataAll!P28,\"\")","v":""},{"$f":"IF(AND(OR(ISTEXT(DataAll!Q28),DataAll!Q28<>0),A28<>\"\"),DataAll!Q28,\"\")","v":{"$error":"#REF!"}}]
[{"$f":"IF(ISTEXT(DataAll!A29),RemoveAccent(DataAll!A29),\"\")","v":""},{"$f":"IF(DataAll!B29=0,\"\",DataAll!B29)","v":{"$error":"#REF!"}},{"$f":"IF(DataAll!D29=0,\"\",DataAll!D29)","v":{"$error":"#REF!"}},{"$f":"IF(DataAll!F29=0,\"\",DataAll!F29)","v":{"$error":"#REF!"}},{"$f":"IF(DataAll!K29=0,\"\",DataAll!K29)","v":{"$error":"#REF!"}},{"$f":"IF(DataAll!L29=0,\"\",DataAll!L29)","v":{"$error":"#REF!"}},{"$f":"IF(DataAll!M29=0,\"\",DataAll!M29)","v":{"$error":"#REF!"}},{"$f":"IF(DataAll!N29=0,\"\",DataAll!N29)","v":{"$error":"#REF!"}},{"$f":"GrafikaHrany(E29,F29,G29,H29,DataAll!O29)","v":{"$error":"#VALUE!"}},{"$f":"IF(ISTEXT(DataAll!P29),DataAll!P29,\"\")","v":""},{"$f":"IF(AND(OR(ISTEXT(DataAll!Q29),DataAll!Q29<>0),A29<>\"\"),DataAll!Q29,\"\")","v":{"$error":"#REF!"}}]
[{"$f":"IF(ISTEXT(DataAll!A30),RemoveAccent(DataAll!A30),\"\")","v":""},{"$f":"IF(DataAll!B30=0,\"\",DataAll!B30)","v":{"$error":"#REF!"}},{"$f":"IF(DataAll!D30=0,\"\",DataAll!D30)","v":{"$error":"#REF!"}},{"$f":"IF(DataAll!F30=0,\"\",DataAll!F30)","v":{"$error":"#REF!"}},{"$f":"IF(DataAll!K30=0,\"\",DataAll!K30)","v":{"$error":"#REF!"}},{"$f":"IF(DataAll!L30=0,\"\",DataAll!L30)","v":{"$error":"#REF!"}},{"$f":"IF(DataAll!M30=0,\"\",DataAll!M30)","v":{"$error":"#REF!"}},{"$f":"IF(DataAll!N30=0,\"\",DataAll!N30)","v":{"$error":"#REF!"}},{"$f":"GrafikaHrany(E30,F30,G30,H30,DataAll!O30)","v":{"$error":"#VALUE!"}},{"$f":"IF(ISTEXT(DataAll!P30),DataAll!P30,\"\")","v":""},{"$f":"IF(AND(OR(ISTEXT(DataAll!Q30),DataAll!Q30<>0),A30<>\"\"),DataAll!Q30,\"\")","v":{"$error":"#REF!"}}]
[{"$f":"IF(ISTEXT(DataAll!A31),RemoveAccent(DataAll!A31),\"\")","v":""},{"$f":"IF(DataAll!B31=0,\"\",DataAll!B31)","v":{"$error":"#REF!"}},{"$f":"IF(DataAll!D31=0,\"\",DataAll!D31)","v":{"$error":"#REF!"}},{"$f":"IF(DataAll!F31=0,\"\",DataAll!F31)","v":{"$error":"#REF!"}},{"$f":"IF(DataAll!K31=0,\"\",DataAll!K31)","v":{"$error":"#REF!"}},{"$f":"IF(DataAll!L31=0,\"\",DataAll!L31)","v":{"$error":"#REF!"}},{"$f":"IF(DataAll!M31=0,\"\",DataAll!M31)","v":{"$error":"#REF!"}},{"$f":"IF(DataAll!N31=0,\"\",DataAll!N31)","v":{"$error":"#REF!"}},{"$f":"GrafikaHrany(E31,F31,G31,H31,DataAll!O31)","v":{"$error":"#VALUE!"}},{"$f":"IF(ISTEXT(DataAll!P31),DataAll!P31,\"\")","v":""},{"$f":"IF(AND(OR(ISTEXT(DataAll!Q31),DataAll!Q31<>0),A31<>\"\"),DataAll!Q31,\"\")","v":{"$error":"#REF!"}}]
[{"$f":"IF(ISTEXT(DataAll!A32),RemoveAccent(DataAll!A32),\"\")","v":""},{"$f":"IF(DataAll!B32=0,\"\",DataAll!B32)","v":{"$error":"#REF!"}},{"$f":"IF(DataAll!D32=0,\"\",DataAll!D32)","v":{"$error":"#REF!"}},{"$f":"IF(DataAll!F32=0,\"\",DataAll!F32)","v":{"$error":"#REF!"}},{"$f":"IF(DataAll!K32=0,\"\",DataAll!K32)","v":{"$error":"#REF!"}},{"$f":"IF(DataAll!L32=0,\"\",DataAll!L32)","v":{"$error":"#REF!"}},{"$f":"IF(DataAll!M32=0,\"\",DataAll!M32)","v":{"$error":"#REF!"}},{"$f":"IF(DataAll!N32=0,\"\",DataAll!N32)","v":{"$error":"#REF!"}},{"$f":"GrafikaHrany(E32,F32,G32,H32,DataAll!O32)","v":{"$error":"#VALUE!"}},{"$f":"IF(ISTEXT(DataAll!P32),DataAll!P32,\"\")","v":""},{"$f":"IF(AND(OR(ISTEXT(DataAll!Q32),DataAll!Q32<>0),A32<>\"\"),DataAll!Q32,\"\")","v":{"$error":"#REF!"}}]
[{"$f":"IF(ISTEXT(DataAll!A33),RemoveAccent(DataAll!A33),\"\")","v":""},{"$f":"IF(DataAll!B33=0,\"\",DataAll!B33)","v":{"$error":"#REF!"}},{"$f":"IF(DataAll!D33=0,\"\",DataAll!D33)","v":{"$error":"#REF!"}},{"$f":"IF(DataAll!F33=0,\"\",DataAll!F33)","v":{"$error":"#REF!"}},{"$f":"IF(DataAll!K33=0,\"\",DataAll!K33)","v":{"$error":"#REF!"}},{"$f":"IF(DataAll!L33=0,\"\",DataAll!L33)","v":{"$error":"#REF!"}},{"$f":"IF(DataAll!M33=0,\"\",DataAll!M33)","v":{"$error":"#REF!"}},{"$f":"IF(DataAll!N33=0,\"\",DataAll!N33)","v":{"$error":"#REF!"}},{"$f":"GrafikaHrany(E33,F33,G33,H33,DataAll!O33)","v":{"$error":"#VALUE!"}},{"$f":"IF(ISTEXT(DataAll!P33),DataAll!P33,\"\")","v":""},{"$f":"IF(AND(OR(ISTEXT(DataAll!Q33),DataAll!Q33<>0),A33<>\"\"),DataAll!Q33,\"\")","v":{"$error":"#REF!"}}]
[{"$f":"IF(ISTEXT(DataAll!A34),RemoveAccent(DataAll!A34),\"\")","v":""},{"$f":"IF(DataAll!B34=0,\"\",DataAll!B34)","v":{"$error":"#REF!"}},{"$f":"IF(DataAll!D34=0,\"\",DataAll!D34)","v":{"$error":"#REF!"}},{"$f":"IF(DataAll!F34=0,\"\",DataAll!F34)","v":{"$error":"#REF!"}},{"$f":"IF(DataAll!K34=0,\"\",DataAll!K34)","v":{"$error":"#REF!"}},{"$f":"IF(DataAll!L34=0,\"\",DataAll!L34)","v":{"$error":"#REF!"}},{"$f":"IF(DataAll!M34=0,\"\",DataAll!M34)","v":{"$error":"#REF!"}},{"$f":"IF(DataAll!N34=0,\"\",DataAll!N34)","v":{"$error":"#REF!"}},{"$f":"GrafikaHrany(E34,F34,G34,H34,DataAll!O34)","v":{"$error":"#VALUE!"}},{"$f":"IF(ISTEXT(DataAll!P34),DataAll!P34,\"\")","v":""},{"$f":"IF(AND(OR(ISTEXT(DataAll!Q34),DataAll!Q34<>0),A34<>\"\"),DataAll!Q34,\"\")","v":{"$error":"#REF!"}}]
[{"$f":"IF(ISTEXT(DataAll!A35),RemoveAccent(DataAll!A35),\"\")","v":""},{"$f":"IF(DataAll!B35=0,\"\",DataAll!B35)","v":{"$error":"#REF!"}},{"$f":"IF(DataAll!D35=0,\"\",DataAll!D35)","v":{"$error":"#REF!"}},{"$f":"IF(DataAll!F35=0,\"\",DataAll!F35)","v":{"$error":"#REF!"}},{"$f":"IF(DataAll!K35=0,\"\",DataAll!K35)","v":{"$error":"#REF!"}},{"$f":"IF(DataAll!L35=0,\"\",DataAll!L35)","v":{"$error":"#REF!"}},{"$f":"IF(DataAll!M35=0,\"\",DataAll!M35)","v":{"$error":"#REF!"}},{"$f":"IF(DataAll!N35=0,\"\",DataAll!N35)","v":{"$error":"#REF!"}},{"$f":"GrafikaHrany(E35,F35,G35,H35,DataAll!O35)","v":{"$error":"#VALUE!"}},{"$f":"IF(ISTEXT(DataAll!P35),DataAll!P35,\"\")","v":""},{"$f":"IF(AND(OR(ISTEXT(DataAll!Q35),DataAll!Q35<>0),A35<>\"\"),DataAll!Q35,\"\")","v":{"$error":"#REF!"}}]
[{"$f":"IF(ISTEXT(DataAll!A36),RemoveAccent(DataAll!A36),\"\")","v":""},{"$f":"IF(DataAll!B36=0,\"\",DataAll!B36)","v":{"$error":"#REF!"}},{"$f":"IF(DataAll!D36=0,\"\",DataAll!D36)","v":{"$error":"#REF!"}},{"$f":"IF(DataAll!F36=0,\"\",DataAll!F36)","v":{"$error":"#REF!"}},{"$f":"IF(DataAll!K36=0,\"\",DataAll!K36)","v":{"$error":"#REF!"}},{"$f":"IF(DataAll!L36=0,\"\",DataAll!L36)","v":{"$error":"#REF!"}},{"$f":"IF(DataAll!M36=0,\"\",DataAll!M36)","v":{"$error":"#REF!"}},{"$f":"IF(DataAll!N36=0,\"\",DataAll!N36)","v":{"$error":"#REF!"}},{"$f":"GrafikaHrany(E36,F36,G36,H36,DataAll!O36)","v":{"$error":"#VALUE!"}},{"$f":"IF(ISTEXT(DataAll!P36),DataAll!P36,\"\")","v":""},{"$f":"IF(AND(OR(ISTEXT(DataAll!Q36),DataAll!Q36<>0),A36<>\"\"),DataAll!Q36,\"\")","v":{"$error":"#REF!"}}]
[{"$f":"IF(ISTEXT(DataAll!A37),RemoveAccent(DataAll!A37),\"\")","v":""},{"$f":"IF(DataAll!B37=0,\"\",DataAll!B37)","v":{"$error":"#REF!"}},{"$f":"IF(DataAll!D37=0,\"\",DataAll!D37)","v":{"$error":"#REF!"}},{"$f":"IF(DataAll!F37=0,\"\",DataAll!F37)","v":{"$error":"#REF!"}},{"$f":"IF(DataAll!K37=0,\"\",DataAll!K37)","v":{"$error":"#REF!"}},{"$f":"IF(DataAll!L37=0,\"\",DataAll!L37)","v":{"$error":"#REF!"}},{"$f":"IF(DataAll!M37=0,\"\",DataAll!M37)","v":{"$error":"#REF!"}},{"$f":"IF(DataAll!N37=0,\"\",DataAll!N37)","v":{"$error":"#REF!"}},{"$f":"GrafikaHrany(E37,F37,G37,H37,DataAll!O37)","v":{"$error":"#VALUE!"}},{"$f":"IF(ISTEXT(DataAll!P37),DataAll!P37,\"\")","v":""},{"$f":"IF(AND(OR(ISTEXT(DataAll!Q37),DataAll!Q37<>0),A37<>\"\"),DataAll!Q37,\"\")","v":{"$error":"#REF!"}}]
[{"$f":"IF(ISTEXT(DataAll!A38),RemoveAccent(DataAll!A38),\"\")","v":""},{"$f":"IF(DataAll!B38=0,\"\",DataAll!B38)","v":{"$error":"#REF!"}},{"$f":"IF(DataAll!D38=0,\"\",DataAll!D38)","v":{"$error":"#REF!"}},{"$f":"IF(DataAll!F38=0,\"\",DataAll!F38)","v":{"$error":"#REF!"}},{"$f":"IF(DataAll!K38=0,\"\",DataAll!K38)","v":{"$error":"#REF!"}},{"$f":"IF(DataAll!L38=0,\"\",DataAll!L38)","v":{"$error":"#REF!"}},{"$f":"IF(DataAll!M38=0,\"\",DataAll!M38)","v":{"$error":"#REF!"}},{"$f":"IF(DataAll!N38=0,\"\",DataAll!N38)","v":{"$error":"#REF!"}},{"$f":"GrafikaHrany(E38,F38,G38,H38,DataAll!O38)","v":{"$error":"#VALUE!"}},{"$f":"IF(ISTEXT(DataAll!P38),DataAll!P38,\"\")","v":""},{"$f":"IF(AND(OR(ISTEXT(DataAll!Q38),DataAll!Q38<>0),A38<>\"\"),DataAll!Q38,\"\")","v":{"$error":"#REF!"}}]
[{"$f":"IF(ISTEXT(DataAll!A39),RemoveAccent(DataAll!A39),\"\")","v":""},{"$f":"IF(DataAll!B39=0,\"\",DataAll!B39)","v":{"$error":"#REF!"}},{"$f":"IF(DataAll!D39=0,\"\",DataAll!D39)","v":{"$error":"#REF!"}},{"$f":"IF(DataAll!F39=0,\"\",DataAll!F39)","v":{"$error":"#REF!"}},{"$f":"IF(DataAll!K39=0,\"\",DataAll!K39)","v":{"$error":"#REF!"}},{"$f":"IF(DataAll!L39=0,\"\",DataAll!L39)","v":{"$error":"#REF!"}},{"$f":"IF(DataAll!M39=0,\"\",DataAll!M39)","v":{"$error":"#REF!"}},{"$f":"IF(DataAll!N39=0,\"\",DataAll!N39)","v":{"$error":"#REF!"}},{"$f":"GrafikaHrany(E39,F39,G39,H39,DataAll!O39)","v":{"$error":"#VALUE!"}},{"$f":"IF(ISTEXT(DataAll!P39),DataAll!P39,\"\")","v":""},{"$f":"IF(AND(OR(ISTEXT(DataAll!Q39),DataAll!Q39<>0),A39<>\"\"),DataAll!Q39,\"\")","v":{"$error":"#REF!"}}]
[{"$f":"IF(ISTEXT(DataAll!A40),RemoveAccent(DataAll!A40),\"\")","v":""},{"$f":"IF(DataAll!B40=0,\"\",DataAll!B40)","v":{"$error":"#REF!"}},{"$f":"IF(DataAll!D40=0,\"\",DataAll!D40)","v":{"$error":"#REF!"}},{"$f":"IF(DataAll!F40=0,\"\",DataAll!F40)","v":{"$error":"#REF!"}},{"$f":"IF(DataAll!K40=0,\"\",DataAll!K40)","v":{"$error":"#REF!"}},{"$f":"IF(DataAll!L40=0,\"\",DataAll!L40)","v":{"$error":"#REF!"}},{"$f":"IF(DataAll!M40=0,\"\",DataAll!M40)","v":{"$error":"#REF!"}},{"$f":"IF(DataAll!N40=0,\"\",DataAll!N40)","v":{"$error":"#REF!"}},{"$f":"GrafikaHrany(E40,F40,G40,H40,DataAll!O40)","v":{"$error":"#VALUE!"}},{"$f":"IF(ISTEXT(DataAll!P40),DataAll!P40,\"\")","v":""},{"$f":"IF(AND(OR(ISTEXT(DataAll!Q40),DataAll!Q40<>0),A40<>\"\"),DataAll!Q40,\"\")","v":{"$error":"#REF!"}}]
[{"$f":"IF(ISTEXT(DataAll!A41),RemoveAccent(DataAll!A41),\"\")","v":""},{"$f":"IF(DataAll!B41=0,\"\",DataAll!B41)","v":{"$error":"#REF!"}},{"$f":"IF(DataAll!D41=0,\"\",DataAll!D41)","v":{"$error":"#REF!"}},{"$f":"IF(DataAll!F41=0,\"\",DataAll!F41)","v":{"$error":"#REF!"}},{"$f":"IF(DataAll!K41=0,\"\",DataAll!K41)","v":{"$error":"#REF!"}},{"$f":"IF(DataAll!L41=0,\"\",DataAll!L41)","v":{"$error":"#REF!"}},{"$f":"IF(DataAll!M41=0,\"\",DataAll!M41)","v":{"$error":"#REF!"}},{"$f":"IF(DataAll!N41=0,\"\",DataAll!N41)","v":{"$error":"#REF!"}},{"$f":"GrafikaHrany(E41,F41,G41,H41,DataAll!O41)","v":{"$error":"#VALUE!"}},{"$f":"IF(ISTEXT(DataAll!P41),DataAll!P41,\"\")","v":""},{"$f":"IF(AND(OR(ISTEXT(DataAll!Q41),DataAll!Q41<>0),A41<>\"\"),DataAll!Q41,\"\")","v":{"$error":"#REF!"}}]
[{"$f":"IF(ISTEXT(DataAll!A42),RemoveAccent(DataAll!A42),\"\")","v":""},{"$f":"IF(DataAll!B42=0,\"\",DataAll!B42)","v":{"$error":"#REF!"}},{"$f":"IF(DataAll!D42=0,\"\",DataAll!D42)","v":{"$error":"#REF!"}},{"$f":"IF(DataAll!F42=0,\"\",DataAll!F42)","v":{"$error":"#REF!"}},{"$f":"IF(DataAll!K42=0,\"\",DataAll!K42)","v":{"$error":"#REF!"}},{"$f":"IF(DataAll!L42=0,\"\",DataAll!L42)","v":{"$error":"#REF!"}},{"$f":"IF(DataAll!M42=0,\"\",DataAll!M42)","v":{"$error":"#REF!"}},{"$f":"IF(DataAll!N42=0,\"\",DataAll!N42)","v":{"$error":"#REF!"}},{"$f":"GrafikaHrany(E42,F42,G42,H42,DataAll!O42)","v":{"$error":"#VALUE!"}},{"$f":"IF(ISTEXT(DataAll!P42),DataAll!P42,\"\")","v":""},{"$f":"IF(AND(OR(ISTEXT(DataAll!Q42),DataAll!Q42<>0),A42<>\"\"),DataAll!Q42,\"\")","v":{"$error":"#REF!"}}]
[{"$f":"IF(ISTEXT(DataAll!A43),RemoveAccent(DataAll!A43),\"\")","v":""},{"$f":"IF(DataAll!B43=0,\"\",DataAll!B43)","v":{"$error":"#REF!"}},{"$f":"IF(DataAll!D43=0,\"\",DataAll!D43)","v":{"$error":"#REF!"}},{"$f":"IF(DataAll!F43=0,\"\",DataAll!F43)","v":{"$error":"#REF!"}},{"$f":"IF(DataAll!K43=0,\"\",DataAll!K43)","v":{"$error":"#REF!"}},{"$f":"IF(DataAll!L43=0,\"\",DataAll!L43)","v":{"$error":"#REF!"}},{"$f":"IF(DataAll!M43=0,\"\",DataAll!M43)","v":{"$error":"#REF!"}},{"$f":"IF(DataAll!N43=0,\"\",DataAll!N43)","v":{"$error":"#REF!"}},{"$f":"GrafikaHrany(E43,F43,G43,H43,DataAll!O43)","v":{"$error":"#VALUE!"}},{"$f":"IF(ISTEXT(DataAll!P43),DataAll!P43,\"\")","v":""},{"$f":"IF(AND(OR(ISTEXT(DataAll!Q43),DataAll!Q43<>0),A43<>\"\"),DataAll!Q43,\"\")","v":{"$error":"#REF!"}}]
[{"$f":"IF(ISTEXT(DataAll!A44),RemoveAccent(DataAll!A44),\"\")","v":""},{"$f":"IF(DataAll!B44=0,\"\",DataAll!B44)","v":{"$error":"#REF!"}},{"$f":"IF(DataAll!D44=0,\"\",DataAll!D44)","v":{"$error":"#REF!"}},{"$f":"IF(DataAll!F44=0,\"\",DataAll!F44)","v":{"$error":"#REF!"}},{"$f":"IF(DataAll!K44=0,\"\",DataAll!K44)","v":{"$error":"#REF!"}},{"$f":"IF(DataAll!L44=0,\"\",DataAll!L44)","v":{"$error":"#REF!"}},{"$f":"IF(DataAll!M44=0,\"\",DataAll!M44)","v":{"$error":"#REF!"}},{"$f":"IF(DataAll!N44=0,\"\",DataAll!N44)","v":{"$error":"#REF!"}},{"$f":"GrafikaHrany(E44,F44,G44,H44,DataAll!O44)","v":{"$error":"#VALUE!"}},{"$f":"IF(ISTEXT(DataAll!P44),DataAll!P44,\"\")","v":""},{"$f":"IF(AND(OR(ISTEXT(DataAll!Q44),DataAll!Q44<>0),A44<>\"\"),DataAll!Q44,\"\")","v":{"$error":"#REF!"}}]
[{"$f":"IF(ISTEXT(DataAll!A45),RemoveAccent(DataAll!A45),\"\")","v":""},{"$f":"IF(DataAll!B45=0,\"\",DataAll!B45)","v":{"$error":"#REF!"}},{"$f":"IF(DataAll!D45=0,\"\",DataAll!D45)","v":{"$error":"#REF!"}},{"$f":"IF(DataAll!F45=0,\"\",DataAll!F45)","v":{"$error":"#REF!"}},{"$f":"IF(DataAll!K45=0,\"\",DataAll!K45)","v":{"$error":"#REF!"}},{"$f":"IF(DataAll!L45=0,\"\",DataAll!L45)","v":{"$error":"#REF!"}},{"$f":"IF(DataAll!M45=0,\"\",DataAll!M45)","v":{"$error":"#REF!"}},{"$f":"IF(DataAll!N45=0,\"\",DataAll!N45)","v":{"$error":"#REF!"}},{"$f":"GrafikaHrany(E45,F45,G45,H45,DataAll!O45)","v":{"$error":"#VALUE!"}},{"$f":"IF(ISTEXT(DataAll!P45),DataAll!P45,\"\")","v":""},{"$f":"IF(AND(OR(ISTEXT(DataAll!Q45),DataAll!Q45<>0),A45<>\"\"),DataAll!Q45,\"\")","v":{"$error":"#REF!"}}]
[{"$f":"IF(ISTEXT(DataAll!A46),RemoveAccent(DataAll!A46),\"\")","v":""},{"$f":"IF(DataAll!B46=0,\"\",DataAll!B46)","v":{"$error":"#REF!"}},{"$f":"IF(DataAll!D46=0,\"\",DataAll!D46)","v":{"$error":"#REF!"}},{"$f":"IF(DataAll!F46=0,\"\",DataAll!F46)","v":{"$error":"#REF!"}},{"$f":"IF(DataAll!K46=0,\"\",DataAll!K46)","v":{"$error":"#REF!"}},{"$f":"IF(DataAll!L46=0,\"\",DataAll!L46)","v":{"$error":"#REF!"}},{"$f":"IF(DataAll!M46=0,\"\",DataAll!M46)","v":{"$error":"#REF!"}},{"$f":"IF(DataAll!N46=0,\"\",DataAll!N46)","v":{"$error":"#REF!"}},{"$f":"GrafikaHrany(E46,F46,G46,H46,DataAll!O46)","v":{"$error":"#VALUE!"}},{"$f":"IF(ISTEXT(DataAll!P46),DataAll!P46,\"\")","v":""},{"$f":"IF(AND(OR(ISTEXT(DataAll!Q46),DataAll!Q46<>0),A46<>\"\"),DataAll!Q46,\"\")","v":{"$error":"#REF!"}}]
[{"$f":"IF(ISTEXT(DataAll!A47),RemoveAccent(DataAll!A47),\"\")","v":""},{"$f":"IF(DataAll!B47=0,\"\",DataAll!B47)","v":{"$error":"#REF!"}},{"$f":"IF(DataAll!D47=0,\"\",DataAll!D47)","v":{"$error":"#REF!"}},{"$f":"IF(DataAll!F47=0,\"\",DataAll!F47)","v":{"$error":"#REF!"}},{"$f":"IF(DataAll!K47=0,\"\",DataAll!K47)","v":{"$error":"#REF!"}},{"$f":"IF(DataAll!L47=0,\"\",DataAll!L47)","v":{"$error":"#REF!"}},{"$f":"IF(DataAll!M47=0,\"\",DataAll!M47)","v":{"$error":"#REF!"}},{"$f":"IF(DataAll!N47=0,\"\",DataAll!N47)","v":{"$error":"#REF!"}},{"$f":"GrafikaHrany(E47,F47,G47,H47,DataAll!O47)","v":{"$error":"#VALUE!"}},{"$f":"IF(ISTEXT(DataAll!P47),DataAll!P47,\"\")","v":""},{"$f":"IF(AND(OR(ISTEXT(DataAll!Q47),DataAll!Q47<>0),A47<>\"\"),DataAll!Q47,\"\")","v":{"$error":"#REF!"}}]
[{"$f":"IF(ISTEXT(DataAll!A48),RemoveAccent(DataAll!A48),\"\")","v":""},{"$f":"IF(DataAll!B48=0,\"\",DataAll!B48)","v":{"$error":"#REF!"}},{"$f":"IF(DataAll!D48=0,\"\",DataAll!D48)","v":{"$error":"#REF!"}},{"$f":"IF(DataAll!F48=0,\"\",DataAll!F48)","v":{"$error":"#REF!"}},{"$f":"IF(DataAll!K48=0,\"\",DataAll!K48)","v":{"$error":"#REF!"}},{"$f":"IF(DataAll!L48=0,\"\",DataAll!L48)","v":{"$error":"#REF!"}},{"$f":"IF(DataAll!M48=0,\"\",DataAll!M48)","v":{"$error":"#REF!"}},{"$f":"IF(DataAll!N48=0,\"\",DataAll!N48)","v":{"$error":"#REF!"}},{"$f":"GrafikaHrany(E48,F48,G48,H48,DataAll!O48)","v":{"$error":"#VALUE!"}},{"$f":"IF(ISTEXT(DataAll!P48),DataAll!P48,\"\")","v":""},{"$f":"IF(AND(OR(ISTEXT(DataAll!Q48),DataAll!Q48<>0),A48<>\"\"),DataAll!Q48,\"\")","v":{"$error":"#REF!"}}]
[{"$f":"IF(ISTEXT(DataAll!A49),RemoveAccent(DataAll!A49),\"\")","v":""},{"$f":"IF(DataAll!B49=0,\"\",DataAll!B49)","v":{"$error":"#REF!"}},{"$f":"IF(DataAll!D49=0,\"\",DataAll!D49)","v":{"$error":"#REF!"}},{"$f":"IF(DataAll!F49=0,\"\",DataAll!F49)","v":{"$error":"#REF!"}},{"$f":"IF(DataAll!K49=0,\"\",DataAll!K49)","v":{"$error":"#REF!"}},{"$f":"IF(DataAll!L49=0,\"\",DataAll!L49)","v":{"$error":"#REF!"}},{"$f":"IF(DataAll!M49=0,\"\",DataAll!M49)","v":{"$error":"#REF!"}},{"$f":"IF(DataAll!N49=0,\"\",DataAll!N49)","v":{"$error":"#REF!"}},{"$f":"GrafikaHrany(E49,F49,G49,H49,DataAll!O49)","v":{"$error":"#VALUE!"}},{"$f":"IF(ISTEXT(DataAll!P49),DataAll!P49,\"\")","v":""},{"$f":"IF(AND(OR(ISTEXT(DataAll!Q49),DataAll!Q49<>0),A49<>\"\"),DataAll!Q49,\"\")","v":{"$error":"#REF!"}}]
[{"$f":"IF(ISTEXT(DataAll!A50),RemoveAccent(DataAll!A50),\"\")","v":""},{"$f":"IF(DataAll!B50=0,\"\",DataAll!B50)","v":{"$error":"#REF!"}},{"$f":"IF(DataAll!D50=0,\"\",DataAll!D50)","v":{"$error":"#REF!"}},{"$f":"IF(DataAll!F50=0,\"\",DataAll!F50)","v":{"$error":"#REF!"}},{"$f":"IF(DataAll!K50=0,\"\",DataAll!K50)","v":{"$error":"#REF!"}},{"$f":"IF(DataAll!L50=0,\"\",DataAll!L50)","v":{"$error":"#REF!"}},{"$f":"IF(DataAll!M50=0,\"\",DataAll!M50)","v":{"$error":"#REF!"}},{"$f":"IF(DataAll!N50=0,\"\",DataAll!N50)","v":{"$error":"#REF!"}},{"$f":"GrafikaHrany(E50,F50,G50,H50,DataAll!O50)","v":{"$error":"#VALUE!"}},{"$f":"IF(ISTEXT(DataAll!P50),DataAll!P50,\"\")","v":""},{"$f":"IF(AND(OR(ISTEXT(DataAll!Q50),DataAll!Q50<>0),A50<>\"\"),DataAll!Q50,\"\")","v":{"$error":"#REF!"}}]
[{"$f":"IF(ISTEXT(DataAll!A51),RemoveAccent(DataAll!A51),\"\")","v":""},{"$f":"IF(DataAll!B51=0,\"\",DataAll!B51)","v":{"$error":"#REF!"}},{"$f":"IF(DataAll!D51=0,\"\",DataAll!D51)","v":{"$error":"#REF!"}},{"$f":"IF(DataAll!F51=0,\"\",DataAll!F51)","v":{"$error":"#REF!"}},{"$f":"IF(DataAll!K51=0,\"\",DataAll!K51)","v":{"$error":"#REF!"}},{"$f":"IF(DataAll!L51=0,\"\",DataAll!L51)","v":{"$error":"#REF!"}},{"$f":"IF(DataAll!M51=0,\"\",DataAll!M51)","v":{"$error":"#REF!"}},{"$f":"IF(DataAll!N51=0,\"\",DataAll!N51)","v":{"$error":"#REF!"}},{"$f":"GrafikaHrany(E51,F51,G51,H51,DataAll!O51)","v":{"$error":"#VALUE!"}},{"$f":"IF(ISTEXT(DataAll!P51),DataAll!P51,\"\")","v":""},{"$f":"IF(AND(OR(ISTEXT(DataAll!Q51),DataAll!Q51<>0),A51<>\"\"),DataAll!Q51,\"\")","v":{"$error":"#REF!"}}]
[{"$f":"IF(ISTEXT(DataAll!A52),RemoveAccent(DataAll!A52),\"\")","v":""},{"$f":"IF(DataAll!B52=0,\"\",DataAll!B52)","v":{"$error":"#REF!"}},{"$f":"IF(DataAll!D52=0,\"\",DataAll!D52)","v":{"$error":"#REF!"}},{"$f":"IF(DataAll!F52=0,\"\",DataAll!F52)","v":{"$error":"#REF!"}},{"$f":"IF(DataAll!K52=0,\"\",DataAll!K52)","v":{"$error":"#REF!"}},{"$f":"IF(DataAll!L52=0,\"\",DataAll!L52)","v":{"$error":"#REF!"}},{"$f":"IF(DataAll!M52=0,\"\",DataAll!M52)","v":{"$error":"#REF!"}},{"$f":"IF(DataAll!N52=0,\"\",DataAll!N52)","v":{"$error":"#REF!"}},{"$f":"GrafikaHrany(E52,F52,G52,H52,DataAll!O52)","v":{"$error":"#VALUE!"}},{"$f":"IF(ISTEXT(DataAll!P52),DataAll!P52,\"\")","v":""},{"$f":"IF(AND(OR(ISTEXT(DataAll!Q52),DataAll!Q52<>0),A52<>\"\"),DataAll!Q52,\"\")","v":{"$error":"#REF!"}}]
[{"$f":"IF(ISTEXT(DataAll!A53),RemoveAccent(DataAll!A53),\"\")","v":""},{"$f":"IF(DataAll!B53=0,\"\",DataAll!B53)","v":{"$error":"#REF!"}},{"$f":"IF(DataAll!D53=0,\"\",DataAll!D53)","v":{"$error":"#REF!"}},{"$f":"IF(DataAll!F53=0,\"\",DataAll!F53)","v":{"$error":"#REF!"}},{"$f":"IF(DataAll!K53=0,\"\",DataAll!K53)","v":{"$error":"#REF!"}},{"$f":"IF(DataAll!L53=0,\"\",DataAll!L53)","v":{"$error":"#REF!"}},{"$f":"IF(DataAll!M53=0,\"\",DataAll!M53)","v":{"$error":"#REF!"}},{"$f":"IF(DataAll!N53=0,\"\",DataAll!N53)","v":{"$error":"#REF!"}},{"$f":"GrafikaHrany(E53,F53,G53,H53,DataAll!O53)","v":{"$error":"#VALUE!"}},{"$f":"IF(ISTEXT(DataAll!P53),DataAll!P53,\"\")","v":""},{"$f":"IF(AND(OR(ISTEXT(DataAll!Q53),DataAll!Q53<>0),A53<>\"\"),DataAll!Q53,\"\")","v":{"$error":"#REF!"}}]
[{"$f":"IF(ISTEXT(DataAll!A54),RemoveAccent(DataAll!A54),\"\")","v":""},{"$f":"IF(DataAll!B54=0,\"\",DataAll!B54)","v":{"$error":"#REF!"}},{"$f":"IF(DataAll!D54=0,\"\",DataAll!D54)","v":{"$error":"#REF!"}},{"$f":"IF(DataAll!F54=0,\"\",DataAll!F54)","v":{"$error":"#REF!"}},{"$f":"IF(DataAll!K54=0,\"\",DataAll!K54)","v":{"$error":"#REF!"}},{"$f":"IF(DataAll!L54=0,\"\",DataAll!L54)","v":{"$error":"#REF!"}},{"$f":"IF(DataAll!M54=0,\"\",DataAll!M54)","v":{"$error":"#REF!"}},{"$f":"IF(DataAll!N54=0,\"\",DataAll!N54)","v":{"$error":"#REF!"}},{"$f":"GrafikaHrany(E54,F54,G54,H54,DataAll!O54)","v":{"$error":"#VALUE!"}},{"$f":"IF(ISTEXT(DataAll!P54),DataAll!P54,\"\")","v":""},{"$f":"IF(AND(OR(ISTEXT(DataAll!Q54),DataAll!Q54<>0),A54<>\"\"),DataAll!Q54,\"\")","v":{"$error":"#REF!"}}]
[{"$f":"IF(ISTEXT(DataAll!A55),RemoveAccent(DataAll!A55),\"\")","v":""},{"$f":"IF(DataAll!B55=0,\"\",DataAll!B55)","v":{"$error":"#REF!"}},{"$f":"IF(DataAll!D55=0,\"\",DataAll!D55)","v":{"$error":"#REF!"}},{"$f":"IF(DataAll!F55=0,\"\",DataAll!F55)","v":{"$error":"#REF!"}},{"$f":"IF(DataAll!K55=0,\"\",DataAll!K55)","v":{"$error":"#REF!"}},{"$f":"IF(DataAll!L55=0,\"\",DataAll!L55)","v":{"$error":"#REF!"}},{"$f":"IF(DataAll!M55=0,\"\",DataAll!M55)","v":{"$error":"#REF!"}},{"$f":"IF(DataAll!N55=0,\"\",DataAll!N55)","v":{"$error":"#REF!"}},{"$f":"GrafikaHrany(E55,F55,G55,H55,DataAll!O55)","v":{"$error":"#VALUE!"}},{"$f":"IF(ISTEXT(DataAll!P55),DataAll!P55,\"\")","v":""},{"$f":"IF(AND(OR(ISTEXT(DataAll!Q55),DataAll!Q55<>0),A55<>\"\"),DataAll!Q55,\"\")","v":{"$error":"#REF!"}}]
[{"$f":"IF(ISTEXT(DataAll!A56),RemoveAccent(DataAll!A56),\"\")","v":""},{"$f":"IF(DataAll!B56=0,\"\",DataAll!B56)","v":{"$error":"#REF!"}},{"$f":"IF(DataAll!D56=0,\"\",DataAll!D56)","v":{"$error":"#REF!"}},{"$f":"IF(DataAll!F56=0,\"\",DataAll!F56)","v":{"$error":"#REF!"}},{"$f":"IF(DataAll!K56=0,\"\",DataAll!K56)","v":{"$error":"#REF!"}},{"$f":"IF(DataAll!L56=0,\"\",DataAll!L56)","v":{"$error":"#REF!"}},{"$f":"IF(DataAll!M56=0,\"\",DataAll!M56)","v":{"$error":"#REF!"}},{"$f":"IF(DataAll!N56=0,\"\",DataAll!N56)","v":{"$error":"#REF!"}},{"$f":"GrafikaHrany(E56,F56,G56,H56,DataAll!O56)","v":{"$error":"#VALUE!"}},{"$f":"IF(ISTEXT(DataAll!P56),DataAll!P56,\"\")","v":""},{"$f":"IF(AND(OR(ISTEXT(DataAll!Q56),DataAll!Q56<>0),A56<>\"\"),DataAll!Q56,\"\")","v":{"$error":"#REF!"}}]
[{"$f":"IF(ISTEXT(DataAll!A57),RemoveAccent(DataAll!A57),\"\")","v":""},{"$f":"IF(DataAll!B57=0,\"\",DataAll!B57)","v":{"$error":"#REF!"}},{"$f":"IF(DataAll!D57=0,\"\",DataAll!D57)","v":{"$error":"#REF!"}},{"$f":"IF(DataAll!F57=0,\"\",DataAll!F57)","v":{"$error":"#REF!"}},{"$f":"IF(DataAll!K57=0,\"\",DataAll!K57)","v":{"$error":"#REF!"}},{"$f":"IF(DataAll!L57=0,\"\",DataAll!L57)","v":{"$error":"#REF!"}},{"$f":"IF(DataAll!M57=0,\"\",DataAll!M57)","v":{"$error":"#REF!"}},{"$f":"IF(DataAll!N57=0,\"\",DataAll!N57)","v":{"$error":"#REF!"}},{"$f":"GrafikaHrany(E57,F57,G57,H57,DataAll!O57)","v":{"$error":"#VALUE!"}},{"$f":"IF(ISTEXT(DataAll!P57),DataAll!P57,\"\")","v":""},{"$f":"IF(AND(OR(ISTEXT(DataAll!Q57),DataAll!Q57<>0),A57<>\"\"),DataAll!Q57,\"\")","v":{"$error":"#REF!"}}]
[{"$f":"IF(ISTEXT(DataAll!A58),RemoveAccent(DataAll!A58),\"\")","v":""},{"$f":"IF(DataAll!B58=0,\"\",DataAll!B58)","v":{"$error":"#REF!"}},{"$f":"IF(DataAll!D58=0,\"\",DataAll!D58)","v":{"$error":"#REF!"}},{"$f":"IF(DataAll!F58=0,\"\",DataAll!F58)","v":{"$error":"#REF!"}},{"$f":"IF(DataAll!K58=0,\"\",DataAll!K58)","v":{"$error":"#REF!"}},{"$f":"IF(DataAll!L58=0,\"\",DataAll!L58)","v":{"$error":"#REF!"}},{"$f":"IF(DataAll!M58=0,\"\",DataAll!M58)","v":{"$error":"#REF!"}},{"$f":"IF(DataAll!N58=0,\"\",DataAll!N58)","v":{"$error":"#REF!"}},{"$f":"GrafikaHrany(E58,F58,G58,H58,DataAll!O58)","v":{"$error":"#VALUE!"}},{"$f":"IF(ISTEXT(DataAll!P58),DataAll!P58,\"\")","v":""},{"$f":"IF(AND(OR(ISTEXT(DataAll!Q58),DataAll!Q58<>0),A58<>\"\"),DataAll!Q58,\"\")","v":{"$error":"#REF!"}}]
[{"$f":"IF(ISTEXT(DataAll!A59),RemoveAccent(DataAll!A59),\"\")","v":""},{"$f":"IF(DataAll!B59=0,\"\",DataAll!B59)","v":{"$error":"#REF!"}},{"$f":"IF(DataAll!D59=0,\"\",DataAll!D59)","v":{"$error":"#REF!"}},{"$f":"IF(DataAll!F59=0,\"\",DataAll!F59)","v":{"$error":"#REF!"}},{"$f":"IF(DataAll!K59=0,\"\",DataAll!K59)","v":{"$error":"#REF!"}},{"$f":"IF(DataAll!L59=0,\"\",DataAll!L59)","v":{"$error":"#REF!"}},{"$f":"IF(DataAll!M59=0,\"\",DataAll!M59)","v":{"$error":"#REF!"}},{"$f":"IF(DataAll!N59=0,\"\",DataAll!N59)","v":{"$error":"#REF!"}},{"$f":"GrafikaHrany(E59,F59,G59,H59,DataAll!O59)","v":{"$error":"#VALUE!"}},{"$f":"IF(ISTEXT(DataAll!P59),DataAll!P59,\"\")","v":""},{"$f":"IF(AND(OR(ISTEXT(DataAll!Q59),DataAll!Q59<>0),A59<>\"\"),DataAll!Q59,\"\")","v":{"$error":"#REF!"}}]
[{"$f":"IF(ISTEXT(DataAll!A60),RemoveAccent(DataAll!A60),\"\")","v":""},{"$f":"IF(DataAll!B60=0,\"\",DataAll!B60)","v":{"$error":"#REF!"}},{"$f":"IF(DataAll!D60=0,\"\",DataAll!D60)","v":{"$error":"#REF!"}},{"$f":"IF(DataAll!F60=0,\"\",DataAll!F60)","v":{"$error":"#REF!"}},{"$f":"IF(DataAll!K60=0,\"\",DataAll!K60)","v":{"$error":"#REF!"}},{"$f":"IF(DataAll!L60=0,\"\",DataAll!L60)","v":{"$error":"#REF!"}},{"$f":"IF(DataAll!M60=0,\"\",DataAll!M60)","v":{"$error":"#REF!"}},{"$f":"IF(DataAll!N60=0,\"\",DataAll!N60)","v":{"$error":"#REF!"}},{"$f":"GrafikaHrany(E60,F60,G60,H60,DataAll!O60)","v":{"$error":"#VALUE!"}},{"$f":"IF(ISTEXT(DataAll!P60),DataAll!P60,\"\")","v":""},{"$f":"IF(AND(OR(ISTEXT(DataAll!Q60),DataAll!Q60<>0),A60<>\"\"),DataAll!Q60,\"\")","v":{"$error":"#REF!"}}]
[{"$f":"IF(ISTEXT(DataAll!A61),RemoveAccent(DataAll!A61),\"\")","v":""},{"$f":"IF(DataAll!B61=0,\"\",DataAll!B61)","v":{"$error":"#REF!"}},{"$f":"IF(DataAll!D61=0,\"\",DataAll!D61)","v":{"$error":"#REF!"}},{"$f":"IF(DataAll!F61=0,\"\",DataAll!F61)","v":{"$error":"#REF!"}},{"$f":"IF(DataAll!K61=0,\"\",DataAll!K61)","v":{"$error":"#REF!"}},{"$f":"IF(DataAll!L61=0,\"\",DataAll!L61)","v":{"$error":"#REF!"}},{"$f":"IF(DataAll!M61=0,\"\",DataAll!M61)","v":{"$error":"#REF!"}},{"$f":"IF(DataAll!N61=0,\"\",DataAll!N61)","v":{"$error":"#REF!"}},{"$f":"GrafikaHrany(E61,F61,G61,H61,DataAll!O61)","v":{"$error":"#VALUE!"}},{"$f":"IF(ISTEXT(DataAll!P61),DataAll!P61,\"\")","v":""},{"$f":"IF(AND(OR(ISTEXT(DataAll!Q61),DataAll!Q61<>0),A61<>\"\"),DataAll!Q61,\"\")","v":{"$error":"#REF!"}}]
[{"$f":"IF(ISTEXT(DataAll!A62),RemoveAccent(DataAll!A62),\"\")","v":""},{"$f":"IF(DataAll!B62=0,\"\",DataAll!B62)","v":{"$error":"#REF!"}},{"$f":"IF(DataAll!D62=0,\"\",DataAll!D62)","v":{"$error":"#REF!"}},{"$f":"IF(DataAll!F62=0,\"\",DataAll!F62)","v":{"$error":"#REF!"}},{"$f":"IF(DataAll!K62=0,\"\",DataAll!K62)","v":{"$error":"#REF!"}},{"$f":"IF(DataAll!L62=0,\"\",DataAll!L62)","v":{"$error":"#REF!"}},{"$f":"IF(DataAll!M62=0,\"\",DataAll!M62)","v":{"$error":"#REF!"}},{"$f":"IF(DataAll!N62=0,\"\",DataAll!N62)","v":{"$error":"#REF!"}},{"$f":"GrafikaHrany(E62,F62,G62,H62,DataAll!O62)","v":{"$error":"#VALUE!"}},{"$f":"IF(ISTEXT(DataAll!P62),DataAll!P62,\"\")","v":""},{"$f":"IF(AND(OR(ISTEXT(DataAll!Q62),DataAll!Q62<>0),A62<>\"\"),DataAll!Q62,\"\")","v":{"$error":"#REF!"}}]
[{"$f":"IF(ISTEXT(DataAll!A63),RemoveAccent(DataAll!A63),\"\")","v":""},{"$f":"IF(DataAll!B63=0,\"\",DataAll!B63)","v":{"$error":"#REF!"}},{"$f":"IF(DataAll!D63=0,\"\",DataAll!D63)","v":{"$error":"#REF!"}},{"$f":"IF(DataAll!F63=0,\"\",DataAll!F63)","v":{"$error":"#REF!"}},{"$f":"IF(DataAll!K63=0,\"\",DataAll!K63)","v":{"$error":"#REF!"}},{"$f":"IF(DataAll!L63=0,\"\",DataAll!L63)","v":{"$error":"#REF!"}},{"$f":"IF(DataAll!M63=0,\"\",DataAll!M63)","v":{"$error":"#REF!"}},{"$f":"IF(DataAll!N63=0,\"\",DataAll!N63)","v":{"$error":"#REF!"}},{"$f":"GrafikaHrany(E63,F63,G63,H63,DataAll!O63)","v":{"$error":"#VALUE!"}},{"$f":"IF(ISTEXT(DataAll!P63),DataAll!P63,\"\")","v":""},{"$f":"IF(AND(OR(ISTEXT(DataAll!Q63),DataAll!Q63<>0),A63<>\"\"),DataAll!Q63,\"\")","v":{"$error":"#REF!"}}]
[{"$f":"IF(ISTEXT(DataAll!A64),RemoveAccent(DataAll!A64),\"\")","v":""},{"$f":"IF(DataAll!B64=0,\"\",DataAll!B64)","v":{"$error":"#REF!"}},{"$f":"IF(DataAll!D64=0,\"\",DataAll!D64)","v":{"$error":"#REF!"}},{"$f":"IF(DataAll!F64=0,\"\",DataAll!F64)","v":{"$error":"#REF!"}},{"$f":"IF(DataAll!K64=0,\"\",DataAll!K64)","v":{"$error":"#REF!"}},{"$f":"IF(DataAll!L64=0,\"\",DataAll!L64)","v":{"$error":"#REF!"}},{"$f":"IF(DataAll!M64=0,\"\",DataAll!M64)","v":{"$error":"#REF!"}},{"$f":"IF(DataAll!N64=0,\"\",DataAll!N64)","v":{"$error":"#REF!"}},{"$f":"GrafikaHrany(E64,F64,G64,H64,DataAll!O64)","v":{"$error":"#VALUE!"}},{"$f":"IF(ISTEXT(DataAll!P64),DataAll!P64,\"\")","v":""},{"$f":"IF(AND(OR(ISTEXT(DataAll!Q64),DataAll!Q64<>0),A64<>\"\"),DataAll!Q64,\"\")","v":{"$error":"#REF!"}}]
[{"$f":"IF(ISTEXT(DataAll!A65),RemoveAccent(DataAll!A65),\"\")","v":""},{"$f":"IF(DataAll!B65=0,\"\",DataAll!B65)","v":{"$error":"#REF!"}},{"$f":"IF(DataAll!D65=0,\"\",DataAll!D65)","v":{"$error":"#REF!"}},{"$f":"IF(DataAll!F65=0,\"\",DataAll!F65)","v":{"$error":"#REF!"}},{"$f":"IF(DataAll!K65=0,\"\",DataAll!K65)","v":{"$error":"#REF!"}},{"$f":"IF(DataAll!L65=0,\"\",DataAll!L65)","v":{"$error":"#REF!"}},{"$f":"IF(DataAll!M65=0,\"\",DataAll!M65)","v":{"$error":"#REF!"}},{"$f":"IF(DataAll!N65=0,\"\",DataAll!N65)","v":{"$error":"#REF!"}},{"$f":"GrafikaHrany(E65,F65,G65,H65,DataAll!O65)","v":{"$error":"#VALUE!"}},{"$f":"IF(ISTEXT(DataAll!P65),DataAll!P65,\"\")","v":""},{"$f":"IF(AND(OR(ISTEXT(DataAll!Q65),DataAll!Q65<>0),A65<>\"\"),DataAll!Q65,\"\")","v":{"$error":"#REF!"}}]
[{"$f":"IF(ISTEXT(DataAll!A66),RemoveAccent(DataAll!A66),\"\")","v":""},{"$f":"IF(DataAll!B66=0,\"\",DataAll!B66)","v":{"$error":"#REF!"}},{"$f":"IF(DataAll!D66=0,\"\",DataAll!D66)","v":{"$error":"#REF!"}},{"$f":"IF(DataAll!F66=0,\"\",DataAll!F66)","v":{"$error":"#REF!"}},{"$f":"IF(DataAll!K66=0,\"\",DataAll!K66)","v":{"$error":"#REF!"}},{"$f":"IF(DataAll!L66=0,\"\",DataAll!L66)","v":{"$error":"#REF!"}},{"$f":"IF(DataAll!M66=0,\"\",DataAll!M66)","v":{"$error":"#REF!"}},{"$f":"IF(DataAll!N66=0,\"\",DataAll!N66)","v":{"$error":"#REF!"}},{"$f":"GrafikaHrany(E66,F66,G66,H66,DataAll!O66)","v":{"$error":"#VALUE!"}},{"$f":"IF(ISTEXT(DataAll!P66),DataAll!P66,\"\")","v":""},{"$f":"IF(AND(OR(ISTEXT(DataAll!Q66),DataAll!Q66<>0),A66<>\"\"),DataAll!Q66,\"\")","v":{"$error":"#REF!"}}]
[{"$f":"IF(ISTEXT(DataAll!A67),RemoveAccent(DataAll!A67),\"\")","v":""},{"$f":"IF(DataAll!B67=0,\"\",DataAll!B67)","v":{"$error":"#REF!"}},{"$f":"IF(DataAll!D67=0,\"\",DataAll!D67)","v":{"$error":"#REF!"}},{"$f":"IF(DataAll!F67=0,\"\",DataAll!F67)","v":{"$error":"#REF!"}},{"$f":"IF(DataAll!K67=0,\"\",DataAll!K67)","v":{"$error":"#REF!"}},{"$f":"IF(DataAll!L67=0,\"\",DataAll!L67)","v":{"$error":"#REF!"}},{"$f":"IF(DataAll!M67=0,\"\",DataAll!M67)","v":{"$error":"#REF!"}},{"$f":"IF(DataAll!N67=0,\"\",DataAll!N67)","v":{"$error":"#REF!"}},{"$f":"GrafikaHrany(E67,F67,G67,H67,DataAll!O67)","v":{"$error":"#VALUE!"}},{"$f":"IF(ISTEXT(DataAll!P67),DataAll!P67,\"\")","v":""},{"$f":"IF(AND(OR(ISTEXT(DataAll!Q67),DataAll!Q67<>0),A67<>\"\"),DataAll!Q67,\"\")","v":{"$error":"#REF!"}}]
[{"$f":"IF(ISTEXT(DataAll!A68),RemoveAccent(DataAll!A68),\"\")","v":""},{"$f":"IF(DataAll!B68=0,\"\",DataAll!B68)","v":{"$error":"#REF!"}},{"$f":"IF(DataAll!D68=0,\"\",DataAll!D68)","v":{"$error":"#REF!"}},{"$f":"IF(DataAll!F68=0,\"\",DataAll!F68)","v":{"$error":"#REF!"}},{"$f":"IF(DataAll!K68=0,\"\",DataAll!K68)","v":{"$error":"#REF!"}},{"$f":"IF(DataAll!L68=0,\"\",DataAll!L68)","v":{"$error":"#REF!"}},{"$f":"IF(DataAll!M68=0,\"\",DataAll!M68)","v":{"$error":"#REF!"}},{"$f":"IF(DataAll!N68=0,\"\",DataAll!N68)","v":{"$error":"#REF!"}},{"$f":"GrafikaHrany(E68,F68,G68,H68,DataAll!O68)","v":{"$error":"#VALUE!"}},{"$f":"IF(ISTEXT(DataAll!P68),DataAll!P68,\"\")","v":""},{"$f":"IF(AND(OR(ISTEXT(DataAll!Q68),DataAll!Q68<>0),A68<>\"\"),DataAll!Q68,\"\")","v":{"$error":"#REF!"}}]
[{"$f":"IF(ISTEXT(DataAll!A69),RemoveAccent(DataAll!A69),\"\")","v":""},{"$f":"IF(DataAll!B69=0,\"\",DataAll!B69)","v":{"$error":"#REF!"}},{"$f":"IF(DataAll!D69=0,\"\",DataAll!D69)","v":{"$error":"#REF!"}},{"$f":"IF(DataAll!F69=0,\"\",DataAll!F69)","v":{"$error":"#REF!"}},{"$f":"IF(DataAll!K69=0,\"\",DataAll!K69)","v":{"$error":"#REF!"}},{"$f":"IF(DataAll!L69=0,\"\",DataAll!L69)","v":{"$error":"#REF!"}},{"$f":"IF(DataAll!M69=0,\"\",DataAll!M69)","v":{"$error":"#REF!"}},{"$f":"IF(DataAll!N69=0,\"\",DataAll!N69)","v":{"$error":"#REF!"}},{"$f":"GrafikaHrany(E69,F69,G69,H69,DataAll!O69)","v":{"$error":"#VALUE!"}},{"$f":"IF(ISTEXT(DataAll!P69),DataAll!P69,\"\")","v":""},{"$f":"IF(AND(OR(ISTEXT(DataAll!Q69),DataAll!Q69<>0),A69<>\"\"),DataAll!Q69,\"\")","v":{"$error":"#REF!"}}]
[{"$f":"IF(ISTEXT(DataAll!A70),RemoveAccent(DataAll!A70),\"\")","v":""},{"$f":"IF(DataAll!B70=0,\"\",DataAll!B70)","v":{"$error":"#REF!"}},{"$f":"IF(DataAll!D70=0,\"\",DataAll!D70)","v":{"$error":"#REF!"}},{"$f":"IF(DataAll!F70=0,\"\",DataAll!F70)","v":{"$error":"#REF!"}},{"$f":"IF(DataAll!K70=0,\"\",DataAll!K70)","v":{"$error":"#REF!"}},{"$f":"IF(DataAll!L70=0,\"\",DataAll!L70)","v":{"$error":"#REF!"}},{"$f":"IF(DataAll!M70=0,\"\",DataAll!M70)","v":{"$error":"#REF!"}},{"$f":"IF(DataAll!N70=0,\"\",DataAll!N70)","v":{"$error":"#REF!"}},{"$f":"GrafikaHrany(E70,F70,G70,H70,DataAll!O70)","v":{"$error":"#VALUE!"}},{"$f":"IF(ISTEXT(DataAll!P70),DataAll!P70,\"\")","v":""},{"$f":"IF(AND(OR(ISTEXT(DataAll!Q70),DataAll!Q70<>0),A70<>\"\"),DataAll!Q70,\"\")","v":{"$error":"#REF!"}}]
[{"$f":"IF(ISTEXT(DataAll!A71),RemoveAccent(DataAll!A71),\"\")","v":""},{"$f":"IF(DataAll!B71=0,\"\",DataAll!B71)","v":{"$error":"#REF!"}},{"$f":"IF(DataAll!D71=0,\"\",DataAll!D71)","v":{"$error":"#REF!"}},{"$f":"IF(DataAll!F71=0,\"\",DataAll!F71)","v":{"$error":"#REF!"}},{"$f":"IF(DataAll!K71=0,\"\",DataAll!K71)","v":{"$error":"#REF!"}},{"$f":"IF(DataAll!L71=0,\"\",DataAll!L71)","v":{"$error":"#REF!"}},{"$f":"IF(DataAll!M71=0,\"\",DataAll!M71)","v":{"$error":"#REF!"}},{"$f":"IF(DataAll!N71=0,\"\",DataAll!N71)","v":{"$error":"#REF!"}},{"$f":"GrafikaHrany(E71,F71,G71,H71,DataAll!O71)","v":{"$error":"#VALUE!"}},{"$f":"IF(ISTEXT(DataAll!P71),DataAll!P71,\"\")","v":""},{"$f":"IF(AND(OR(ISTEXT(DataAll!Q71),DataAll!Q71<>0),A71<>\"\"),DataAll!Q71,\"\")","v":{"$error":"#REF!"}}]
[{"$f":"IF(ISTEXT(DataAll!A72),RemoveAccent(DataAll!A72),\"\")","v":""},{"$f":"IF(DataAll!B72=0,\"\",DataAll!B72)","v":{"$error":"#REF!"}},{"$f":"IF(DataAll!D72=0,\"\",DataAll!D72)","v":{"$error":"#REF!"}},{"$f":"IF(DataAll!F72=0,\"\",DataAll!F72)","v":{"$error":"#REF!"}},{"$f":"IF(DataAll!K72=0,\"\",DataAll!K72)","v":{"$error":"#REF!"}},{"$f":"IF(DataAll!L72=0,\"\",DataAll!L72)","v":{"$error":"#REF!"}},{"$f":"IF(DataAll!M72=0,\"\",DataAll!M72)","v":{"$error":"#REF!"}},{"$f":"IF(DataAll!N72=0,\"\",DataAll!N72)","v":{"$error":"#REF!"}},{"$f":"GrafikaHrany(E72,F72,G72,H72,DataAll!O72)","v":{"$error":"#VALUE!"}},{"$f":"IF(ISTEXT(DataAll!P72),DataAll!P72,\"\")","v":""},{"$f":"IF(AND(OR(ISTEXT(DataAll!Q72),DataAll!Q72<>0),A72<>\"\"),DataAll!Q72,\"\")","v":{"$error":"#REF!"}}]
[{"$f":"IF(ISTEXT(DataAll!A73),RemoveAccent(DataAll!A73),\"\")","v":""},{"$f":"IF(DataAll!B73=0,\"\",DataAll!B73)","v":{"$error":"#REF!"}},{"$f":"IF(DataAll!D73=0,\"\",DataAll!D73)","v":{"$error":"#REF!"}},{"$f":"IF(DataAll!F73=0,\"\",DataAll!F73)","v":{"$error":"#REF!"}},{"$f":"IF(DataAll!K73=0,\"\",DataAll!K73)","v":{"$error":"#REF!"}},{"$f":"IF(DataAll!L73=0,\"\",DataAll!L73)","v":{"$error":"#REF!"}},{"$f":"IF(DataAll!M73=0,\"\",DataAll!M73)","v":{"$error":"#REF!"}},{"$f":"IF(DataAll!N73=0,\"\",DataAll!N73)","v":{"$error":"#REF!"}},{"$f":"GrafikaHrany(E73,F73,G73,H73,DataAll!O73)","v":{"$error":"#VALUE!"}},{"$f":"IF(ISTEXT(DataAll!P73),DataAll!P73,\"\")","v":""},{"$f":"IF(AND(OR(ISTEXT(DataAll!Q73),DataAll!Q73<>0),A73<>\"\"),DataAll!Q73,\"\")","v":{"$error":"#REF!"}}]
[{"$f":"IF(ISTEXT(DataAll!A74),RemoveAccent(DataAll!A74),\"\")","v":""},{"$f":"IF(DataAll!B74=0,\"\",DataAll!B74)","v":{"$error":"#REF!"}},{"$f":"IF(DataAll!D74=0,\"\",DataAll!D74)","v":{"$error":"#REF!"}},{"$f":"IF(DataAll!F74=0,\"\",DataAll!F74)","v":{"$error":"#REF!"}},{"$f":"IF(DataAll!K74=0,\"\",DataAll!K74)","v":{"$error":"#REF!"}},{"$f":"IF(DataAll!L74=0,\"\",DataAll!L74)","v":{"$error":"#REF!"}},{"$f":"IF(DataAll!M74=0,\"\",DataAll!M74)","v":{"$error":"#REF!"}},{"$f":"IF(DataAll!N74=0,\"\",DataAll!N74)","v":{"$error":"#REF!"}},{"$f":"GrafikaHrany(E74,F74,G74,H74,DataAll!O74)","v":{"$error":"#VALUE!"}},{"$f":"IF(ISTEXT(DataAll!P74),DataAll!P74,\"\")","v":""},{"$f":"IF(AND(OR(ISTEXT(DataAll!Q74),DataAll!Q74<>0),A74<>\"\"),DataAll!Q74,\"\")","v":{"$error":"#REF!"}}]
[{"$f":"IF(ISTEXT(DataAll!A75),RemoveAccent(DataAll!A75),\"\")","v":""},{"$f":"IF(DataAll!B75=0,\"\",DataAll!B75)","v":{"$error":"#REF!"}},{"$f":"IF(DataAll!D75=0,\"\",DataAll!D75)","v":{"$error":"#REF!"}},{"$f":"IF(DataAll!F75=0,\"\",DataAll!F75)","v":{"$error":"#REF!"}},{"$f":"IF(DataAll!K75=0,\"\",DataAll!K75)","v":{"$error":"#REF!"}},{"$f":"IF(DataAll!L75=0,\"\",DataAll!L75)","v":{"$error":"#REF!"}},{"$f":"IF(DataAll!M75=0,\"\",DataAll!M75)","v":{"$error":"#REF!"}},{"$f":"IF(DataAll!N75=0,\"\",DataAll!N75)","v":{"$error":"#REF!"}},{"$f":"GrafikaHrany(E75,F75,G75,H75,DataAll!O75)","v":{"$error":"#VALUE!"}},{"$f":"IF(ISTEXT(DataAll!P75),DataAll!P75,\"\")","v":""},{"$f":"IF(AND(OR(ISTEXT(DataAll!Q75),DataAll!Q75<>0),A75<>\"\"),DataAll!Q75,\"\")","v":{"$error":"#REF!"}}]
[{"$f":"IF(ISTEXT(DataAll!A76),RemoveAccent(DataAll!A76),\"\")","v":""},{"$f":"IF(DataAll!B76=0,\"\",DataAll!B76)","v":{"$error":"#REF!"}},{"$f":"IF(DataAll!D76=0,\"\",DataAll!D76)","v":{"$error":"#REF!"}},{"$f":"IF(DataAll!F76=0,\"\",DataAll!F76)","v":{"$error":"#REF!"}},{"$f":"IF(DataAll!K76=0,\"\",DataAll!K76)","v":{"$error":"#REF!"}},{"$f":"IF(DataAll!L76=0,\"\",DataAll!L76)","v":{"$error":"#REF!"}},{"$f":"IF(DataAll!M76=0,\"\",DataAll!M76)","v":{"$error":"#REF!"}},{"$f":"IF(DataAll!N76=0,\"\",DataAll!N76)","v":{"$error":"#REF!"}},{"$f":"GrafikaHrany(E76,F76,G76,H76,DataAll!O76)","v":{"$error":"#VALUE!"}},{"$f":"IF(ISTEXT(DataAll!P76),DataAll!P76,\"\")","v":""},{"$f":"IF(AND(OR(ISTEXT(DataAll!Q76),DataAll!Q76<>0),A76<>\"\"),DataAll!Q76,\"\")","v":{"$error":"#REF!"}}]
[{"$f":"IF(ISTEXT(DataAll!A77),RemoveAccent(DataAll!A77),\"\")","v":""},{"$f":"IF(DataAll!B77=0,\"\",DataAll!B77)","v":{"$error":"#REF!"}},{"$f":"IF(DataAll!D77=0,\"\",DataAll!D77)","v":{"$error":"#REF!"}},{"$f":"IF(DataAll!F77=0,\"\",DataAll!F77)","v":{"$error":"#REF!"}},{"$f":"IF(DataAll!K77=0,\"\",DataAll!K77)","v":{"$error":"#REF!"}},{"$f":"IF(DataAll!L77=0,\"\",DataAll!L77)","v":{"$error":"#REF!"}},{"$f":"IF(DataAll!M77=0,\"\",DataAll!M77)","v":{"$error":"#REF!"}},{"$f":"IF(DataAll!N77=0,\"\",DataAll!N77)","v":{"$error":"#REF!"}},{"$f":"GrafikaHrany(E77,F77,G77,H77,DataAll!O77)","v":{"$error":"#VALUE!"}},{"$f":"IF(ISTEXT(DataAll!P77),DataAll!P77,\"\")","v":""},{"$f":"IF(AND(OR(ISTEXT(DataAll!Q77),DataAll!Q77<>0),A77<>\"\"),DataAll!Q77,\"\")","v":{"$error":"#REF!"}}]
[{"$f":"IF(ISTEXT(DataAll!A78),RemoveAccent(DataAll!A78),\"\")","v":""},{"$f":"IF(DataAll!B78=0,\"\",DataAll!B78)","v":{"$error":"#REF!"}},{"$f":"IF(DataAll!D78=0,\"\",DataAll!D78)","v":{"$error":"#REF!"}},{"$f":"IF(DataAll!F78=0,\"\",DataAll!F78)","v":{"$error":"#REF!"}},{"$f":"IF(DataAll!K78=0,\"\",DataAll!K78)","v":{"$error":"#REF!"}},{"$f":"IF(DataAll!L78=0,\"\",DataAll!L78)","v":{"$error":"#REF!"}},{"$f":"IF(DataAll!M78=0,\"\",DataAll!M78)","v":{"$error":"#REF!"}},{"$f":"IF(DataAll!N78=0,\"\",DataAll!N78)","v":{"$error":"#REF!"}},{"$f":"GrafikaHrany(E78,F78,G78,H78,DataAll!O78)","v":{"$error":"#VALUE!"}},{"$f":"IF(ISTEXT(DataAll!P78),DataAll!P78,\"\")","v":""},{"$f":"IF(AND(OR(ISTEXT(DataAll!Q78),DataAll!Q78<>0),A78<>\"\"),DataAll!Q78,\"\")","v":{"$error":"#REF!"}}]
[{"$f":"IF(ISTEXT(DataAll!A79),RemoveAccent(DataAll!A79),\"\")","v":""},{"$f":"IF(DataAll!B79=0,\"\",DataAll!B79)","v":{"$error":"#REF!"}},{"$f":"IF(DataAll!D79=0,\"\",DataAll!D79)","v":{"$error":"#REF!"}},{"$f":"IF(DataAll!F79=0,\"\",DataAll!F79)","v":{"$error":"#REF!"}},{"$f":"IF(DataAll!K79=0,\"\",DataAll!K79)","v":{"$error":"#REF!"}},{"$f":"IF(DataAll!L79=0,\"\",DataAll!L79)","v":{"$error":"#REF!"}},{"$f":"IF(DataAll!M79=0,\"\",DataAll!M79)","v":{"$error":"#REF!"}},{"$f":"IF(DataAll!N79=0,\"\",DataAll!N79)","v":{"$error":"#REF!"}},{"$f":"GrafikaHrany(E79,F79,G79,H79,DataAll!O79)","v":{"$error":"#VALUE!"}},{"$f":"IF(ISTEXT(DataAll!P79),DataAll!P79,\"\")","v":""},{"$f":"IF(AND(OR(ISTEXT(DataAll!Q79),DataAll!Q79<>0),A79<>\"\"),DataAll!Q79,\"\")","v":{"$error":"#REF!"}}]
[{"$f":"IF(ISTEXT(DataAll!A80),RemoveAccent(DataAll!A80),\"\")","v":""},{"$f":"IF(DataAll!B80=0,\"\",DataAll!B80)","v":{"$error":"#REF!"}},{"$f":"IF(DataAll!D80=0,\"\",DataAll!D80)","v":{"$error":"#REF!"}},{"$f":"IF(DataAll!F80=0,\"\",DataAll!F80)","v":{"$error":"#REF!"}},{"$f":"IF(DataAll!K80=0,\"\",DataAll!K80)","v":{"$error":"#REF!"}},{"$f":"IF(DataAll!L80=0,\"\",DataAll!L80)","v":{"$error":"#REF!"}},{"$f":"IF(DataAll!M80=0,\"\",DataAll!M80)","v":{"$error":"#REF!"}},{"$f":"IF(DataAll!N80=0,\"\",DataAll!N80)","v":{"$error":"#REF!"}},{"$f":"GrafikaHrany(E80,F80,G80,H80,DataAll!O80)","v":{"$error":"#VALUE!"}},{"$f":"IF(ISTEXT(DataAll!P80),DataAll!P80,\"\")","v":""},{"$f":"IF(AND(OR(ISTEXT(DataAll!Q80),DataAll!Q80<>0),A80<>\"\"),DataAll!Q80,\"\")","v":{"$error":"#REF!"}}]
[{"$f":"IF(ISTEXT(DataAll!A81),RemoveAccent(DataAll!A81),\"\")","v":""},{"$f":"IF(DataAll!B81=0,\"\",DataAll!B81)","v":{"$error":"#REF!"}},{"$f":"IF(DataAll!D81=0,\"\",DataAll!D81)","v":{"$error":"#REF!"}},{"$f":"IF(DataAll!F81=0,\"\",DataAll!F81)","v":{"$error":"#REF!"}},{"$f":"IF(DataAll!K81=0,\"\",DataAll!K81)","v":{"$error":"#REF!"}},{"$f":"IF(DataAll!L81=0,\"\",DataAll!L81)","v":{"$error":"#REF!"}},{"$f":"IF(DataAll!M81=0,\"\",DataAll!M81)","v":{"$error":"#REF!"}},{"$f":"IF(DataAll!N81=0,\"\",DataAll!N81)","v":{"$error":"#REF!"}},{"$f":"GrafikaHrany(E81,F81,G81,H81,DataAll!O81)","v":{"$error":"#VALUE!"}},{"$f":"IF(ISTEXT(DataAll!P81),DataAll!P81,\"\")","v":""},{"$f":"IF(AND(OR(ISTEXT(DataAll!Q81),DataAll!Q81<>0),A81<>\"\"),DataAll!Q81,\"\")","v":{"$error":"#REF!"}}]
[{"$f":"IF(ISTEXT(DataAll!A82),RemoveAccent(DataAll!A82),\"\")","v":""},{"$f":"IF(DataAll!B82=0,\"\",DataAll!B82)","v":{"$error":"#REF!"}},{"$f":"IF(DataAll!D82=0,\"\",DataAll!D82)","v":{"$error":"#REF!"}},{"$f":"IF(DataAll!F82=0,\"\",DataAll!F82)","v":{"$error":"#REF!"}},{"$f":"IF(DataAll!K82=0,\"\",DataAll!K82)","v":{"$error":"#REF!"}},{"$f":"IF(DataAll!L82=0,\"\",DataAll!L82)","v":{"$error":"#REF!"}},{"$f":"IF(DataAll!M82=0,\"\",DataAll!M82)","v":{"$error":"#REF!"}},{"$f":"IF(DataAll!N82=0,\"\",DataAll!N82)","v":{"$error":"#REF!"}},{"$f":"GrafikaHrany(E82,F82,G82,H82,DataAll!O82)","v":{"$error":"#VALUE!"}},{"$f":"IF(ISTEXT(DataAll!P82),DataAll!P82,\"\")","v":""},{"$f":"IF(AND(OR(ISTEXT(DataAll!Q82),DataAll!Q82<>0),A82<>\"\"),DataAll!Q82,\"\")","v":{"$error":"#REF!"}}]
[{"$f":"IF(ISTEXT(DataAll!A83),RemoveAccent(DataAll!A83),\"\")","v":""},{"$f":"IF(DataAll!B83=0,\"\",DataAll!B83)","v":{"$error":"#REF!"}},{"$f":"IF(DataAll!D83=0,\"\",DataAll!D83)","v":{"$error":"#REF!"}},{"$f":"IF(DataAll!F83=0,\"\",DataAll!F83)","v":{"$error":"#REF!"}},{"$f":"IF(DataAll!K83=0,\"\",DataAll!K83)","v":{"$error":"#REF!"}},{"$f":"IF(DataAll!L83=0,\"\",DataAll!L83)","v":{"$error":"#REF!"}},{"$f":"IF(DataAll!M83=0,\"\",DataAll!M83)","v":{"$error":"#REF!"}},{"$f":"IF(DataAll!N83=0,\"\",DataAll!N83)","v":{"$error":"#REF!"}},{"$f":"GrafikaHrany(E83,F83,G83,H83,DataAll!O83)","v":{"$error":"#VALUE!"}},{"$f":"IF(ISTEXT(DataAll!P83),DataAll!P83,\"\")","v":""},{"$f":"IF(AND(OR(ISTEXT(DataAll!Q83),DataAll!Q83<>0),A83<>\"\"),DataAll!Q83,\"\")","v":{"$error":"#REF!"}}]
[{"$f":"IF(ISTEXT(DataAll!A84),RemoveAccent(DataAll!A84),\"\")","v":""},{"$f":"IF(DataAll!B84=0,\"\",DataAll!B84)","v":{"$error":"#REF!"}},{"$f":"IF(DataAll!D84=0,\"\",DataAll!D84)","v":{"$error":"#REF!"}},{"$f":"IF(DataAll!F84=0,\"\",DataAll!F84)","v":{"$error":"#REF!"}},{"$f":"IF(DataAll!K84=0,\"\",DataAll!K84)","v":{"$error":"#REF!"}},{"$f":"IF(DataAll!L84=0,\"\",DataAll!L84)","v":{"$error":"#REF!"}},{"$f":"IF(DataAll!M84=0,\"\",DataAll!M84)","v":{"$error":"#REF!"}},{"$f":"IF(DataAll!N84=0,\"\",DataAll!N84)","v":{"$error":"#REF!"}},{"$f":"GrafikaHrany(E84,F84,G84,H84,DataAll!O84)","v":{"$error":"#VALUE!"}},{"$f":"IF(ISTEXT(DataAll!P84),DataAll!P84,\"\")","v":""},{"$f":"IF(AND(OR(ISTEXT(DataAll!Q84),DataAll!Q84<>0),A84<>\"\"),DataAll!Q84,\"\")","v":{"$error":"#REF!"}}]
[{"$f":"IF(ISTEXT(DataAll!A85),RemoveAccent(DataAll!A85),\"\")","v":""},{"$f":"IF(DataAll!B85=0,\"\",DataAll!B85)","v":{"$error":"#REF!"}},{"$f":"IF(DataAll!D85=0,\"\",DataAll!D85)","v":{"$error":"#REF!"}},{"$f":"IF(DataAll!F85=0,\"\",DataAll!F85)","v":{"$error":"#REF!"}},{"$f":"IF(DataAll!K85=0,\"\",DataAll!K85)","v":{"$error":"#REF!"}},{"$f":"IF(DataAll!L85=0,\"\",DataAll!L85)","v":{"$error":"#REF!"}},{"$f":"IF(DataAll!M85=0,\"\",DataAll!M85)","v":{"$error":"#REF!"}},{"$f":"IF(DataAll!N85=0,\"\",DataAll!N85)","v":{"$error":"#REF!"}},{"$f":"GrafikaHrany(E85,F85,G85,H85,DataAll!O85)","v":{"$error":"#VALUE!"}},{"$f":"IF(ISTEXT(DataAll!P85),DataAll!P85,\"\")","v":""},{"$f":"IF(AND(OR(ISTEXT(DataAll!Q85),DataAll!Q85<>0),A85<>\"\"),DataAll!Q85,\"\")","v":{"$error":"#REF!"}}]
[{"$f":"IF(ISTEXT(DataAll!A86),RemoveAccent(DataAll!A86),\"\")","v":""},{"$f":"IF(DataAll!B86=0,\"\",DataAll!B86)","v":{"$error":"#REF!"}},{"$f":"IF(DataAll!D86=0,\"\",DataAll!D86)","v":{"$error":"#REF!"}},{"$f":"IF(DataAll!F86=0,\"\",DataAll!F86)","v":{"$error":"#REF!"}},{"$f":"IF(DataAll!K86=0,\"\",DataAll!K86)","v":{"$error":"#REF!"}},{"$f":"IF(DataAll!L86=0,\"\",DataAll!L86)","v":{"$error":"#REF!"}},{"$f":"IF(DataAll!M86=0,\"\",DataAll!M86)","v":{"$error":"#REF!"}},{"$f":"IF(DataAll!N86=0,\"\",DataAll!N86)","v":{"$error":"#REF!"}},{"$f":"GrafikaHrany(E86,F86,G86,H86,DataAll!O86)","v":{"$error":"#VALUE!"}},{"$f":"IF(ISTEXT(DataAll!P86),DataAll!P86,\"\")","v":""},{"$f":"IF(AND(OR(ISTEXT(DataAll!Q86),DataAll!Q86<>0),A86<>\"\"),DataAll!Q86,\"\")","v":{"$error":"#REF!"}}]
[{"$f":"IF(ISTEXT(DataAll!A87),RemoveAccent(DataAll!A87),\"\")","v":""},{"$f":"IF(DataAll!B87=0,\"\",DataAll!B87)","v":{"$error":"#REF!"}},{"$f":"IF(DataAll!D87=0,\"\",DataAll!D87)","v":{"$error":"#REF!"}},{"$f":"IF(DataAll!F87=0,\"\",DataAll!F87)","v":{"$error":"#REF!"}},{"$f":"IF(DataAll!K87=0,\"\",DataAll!K87)","v":{"$error":"#REF!"}},{"$f":"IF(DataAll!L87=0,\"\",DataAll!L87)","v":{"$error":"#REF!"}},{"$f":"IF(DataAll!M87=0,\"\",DataAll!M87)","v":{"$error":"#REF!"}},{"$f":"IF(DataAll!N87=0,\"\",DataAll!N87)","v":{"$error":"#REF!"}},{"$f":"GrafikaHrany(E87,F87,G87,H87,DataAll!O87)","v":{"$error":"#VALUE!"}},{"$f":"IF(ISTEXT(DataAll!P87),DataAll!P87,\"\")","v":""},{"$f":"IF(AND(OR(ISTEXT(DataAll!Q87),DataAll!Q87<>0),A87<>\"\"),DataAll!Q87,\"\")","v":{"$error":"#REF!"}}]
[{"$f":"IF(ISTEXT(DataAll!A88),RemoveAccent(DataAll!A88),\"\")","v":""},{"$f":"IF(DataAll!B88=0,\"\",DataAll!B88)","v":{"$error":"#REF!"}},{"$f":"IF(DataAll!D88=0,\"\",DataAll!D88)","v":{"$error":"#REF!"}},{"$f":"IF(DataAll!F88=0,\"\",DataAll!F88)","v":{"$error":"#REF!"}},{"$f":"IF(DataAll!K88=0,\"\",DataAll!K88)","v":{"$error":"#REF!"}},{"$f":"IF(DataAll!L88=0,\"\",DataAll!L88)","v":{"$error":"#REF!"}},{"$f":"IF(DataAll!M88=0,\"\",DataAll!M88)","v":{"$error":"#REF!"}},{"$f":"IF(DataAll!N88=0,\"\",DataAll!N88)","v":{"$error":"#REF!"}},{"$f":"GrafikaHrany(E88,F88,G88,H88,DataAll!O88)","v":{"$error":"#VALUE!"}},{"$f":"IF(ISTEXT(DataAll!P88),DataAll!P88,\"\")","v":""},{"$f":"IF(AND(OR(ISTEXT(DataAll!Q88),DataAll!Q88<>0),A88<>\"\"),DataAll!Q88,\"\")","v":{"$error":"#REF!"}}]
[{"$f":"IF(ISTEXT(DataAll!A89),RemoveAccent(DataAll!A89),\"\")","v":""},{"$f":"IF(DataAll!B89=0,\"\",DataAll!B89)","v":{"$error":"#REF!"}},{"$f":"IF(DataAll!D89=0,\"\",DataAll!D89)","v":{"$error":"#REF!"}},{"$f":"IF(DataAll!F89=0,\"\",DataAll!F89)","v":{"$error":"#REF!"}},{"$f":"IF(DataAll!K89=0,\"\",DataAll!K89)","v":{"$error":"#REF!"}},{"$f":"IF(DataAll!L89=0,\"\",DataAll!L89)","v":{"$error":"#REF!"}},{"$f":"IF(DataAll!M89=0,\"\",DataAll!M89)","v":{"$error":"#REF!"}},{"$f":"IF(DataAll!N89=0,\"\",DataAll!N89)","v":{"$error":"#REF!"}},{"$f":"GrafikaHrany(E89,F89,G89,H89,DataAll!O89)","v":{"$error":"#VALUE!"}},{"$f":"IF(ISTEXT(DataAll!P89),DataAll!P89,\"\")","v":""},{"$f":"IF(AND(OR(ISTEXT(DataAll!Q89),DataAll!Q89<>0),A89<>\"\"),DataAll!Q89,\"\")","v":{"$error":"#REF!"}}]
[{"$f":"IF(ISTEXT(DataAll!A90),RemoveAccent(DataAll!A90),\"\")","v":""},{"$f":"IF(DataAll!B90=0,\"\",DataAll!B90)","v":{"$error":"#REF!"}},{"$f":"IF(DataAll!D90=0,\"\",DataAll!D90)","v":{"$error":"#REF!"}},{"$f":"IF(DataAll!F90=0,\"\",DataAll!F90)","v":{"$error":"#REF!"}},{"$f":"IF(DataAll!K90=0,\"\",DataAll!K90)","v":{"$error":"#REF!"}},{"$f":"IF(DataAll!L90=0,\"\",DataAll!L90)","v":{"$error":"#REF!"}},{"$f":"IF(DataAll!M90=0,\"\",DataAll!M90)","v":{"$error":"#REF!"}},{"$f":"IF(DataAll!N90=0,\"\",DataAll!N90)","v":{"$error":"#REF!"}},{"$f":"GrafikaHrany(E90,F90,G90,H90,DataAll!O90)","v":{"$error":"#VALUE!"}},{"$f":"IF(ISTEXT(DataAll!P90),DataAll!P90,\"\")","v":""},{"$f":"IF(AND(OR(ISTEXT(DataAll!Q90),DataAll!Q90<>0),A90<>\"\"),DataAll!Q90,\"\")","v":{"$error":"#REF!"}}]
[{"$f":"IF(ISTEXT(DataAll!A91),RemoveAccent(DataAll!A91),\"\")","v":""},{"$f":"IF(DataAll!B91=0,\"\",DataAll!B91)","v":{"$error":"#REF!"}},{"$f":"IF(DataAll!D91=0,\"\",DataAll!D91)","v":{"$error":"#REF!"}},{"$f":"IF(DataAll!F91=0,\"\",DataAll!F91)","v":{"$error":"#REF!"}},{"$f":"IF(DataAll!K91=0,\"\",DataAll!K91)","v":{"$error":"#REF!"}},{"$f":"IF(DataAll!L91=0,\"\",DataAll!L91)","v":{"$error":"#REF!"}},{"$f":"IF(DataAll!M91=0,\"\",DataAll!M91)","v":{"$error":"#REF!"}},{"$f":"IF(DataAll!N91=0,\"\",DataAll!N91)","v":{"$error":"#REF!"}},{"$f":"GrafikaHrany(E91,F91,G91,H91,DataAll!O91)","v":{"$error":"#VALUE!"}},{"$f":"IF(ISTEXT(DataAll!P91),DataAll!P91,\"\")","v":""},{"$f":"IF(AND(OR(ISTEXT(DataAll!Q91),DataAll!Q91<>0),A91<>\"\"),DataAll!Q91,\"\")","v":{"$error":"#REF!"}}]
[{"$f":"IF(ISTEXT(DataAll!A92),RemoveAccent(DataAll!A92),\"\")","v":""},{"$f":"IF(DataAll!B92=0,\"\",DataAll!B92)","v":{"$error":"#REF!"}},{"$f":"IF(DataAll!D92=0,\"\",DataAll!D92)","v":{"$error":"#REF!"}},{"$f":"IF(DataAll!F92=0,\"\",DataAll!F92)","v":{"$error":"#REF!"}},{"$f":"IF(DataAll!K92=0,\"\",DataAll!K92)","v":{"$error":"#REF!"}},{"$f":"IF(DataAll!L92=0,\"\",DataAll!L92)","v":{"$error":"#REF!"}},{"$f":"IF(DataAll!M92=0,\"\",DataAll!M92)","v":{"$error":"#REF!"}},{"$f":"IF(DataAll!N92=0,\"\",DataAll!N92)","v":{"$error":"#REF!"}},{"$f":"GrafikaHrany(E92,F92,G92,H92,DataAll!O92)","v":{"$error":"#VALUE!"}},{"$f":"IF(ISTEXT(DataAll!P92),DataAll!P92,\"\")","v":""},{"$f":"IF(AND(OR(ISTEXT(DataAll!Q92),DataAll!Q92<>0),A92<>\"\"),DataAll!Q92,\"\")","v":{"$error":"#REF!"}}]
[{"$f":"IF(ISTEXT(DataAll!A93),RemoveAccent(DataAll!A93),\"\")","v":""},{"$f":"IF(DataAll!B93=0,\"\",DataAll!B93)","v":{"$error":"#REF!"}},{"$f":"IF(DataAll!D93=0,\"\",DataAll!D93)","v":{"$error":"#REF!"}},{"$f":"IF(DataAll!F93=0,\"\",DataAll!F93)","v":{"$error":"#REF!"}},{"$f":"IF(DataAll!K93=0,\"\",DataAll!K93)","v":{"$error":"#REF!"}},{"$f":"IF(DataAll!L93=0,\"\",DataAll!L93)","v":{"$error":"#REF!"}},{"$f":"IF(DataAll!M93=0,\"\",DataAll!M93)","v":{"$error":"#REF!"}},{"$f":"IF(DataAll!N93=0,\"\",DataAll!N93)","v":{"$error":"#REF!"}},{"$f":"GrafikaHrany(E93,F93,G93,H93,DataAll!O93)","v":{"$error":"#VALUE!"}},{"$f":"IF(ISTEXT(DataAll!P93),DataAll!P93,\"\")","v":""},{"$f":"IF(AND(OR(ISTEXT(DataAll!Q93),DataAll!Q93<>0),A93<>\"\"),DataAll!Q93,\"\")","v":{"$error":"#REF!"}}]
[{"$f":"IF(ISTEXT(DataAll!A94),RemoveAccent(DataAll!A94),\"\")","v":""},{"$f":"IF(DataAll!B94=0,\"\",DataAll!B94)","v":{"$error":"#REF!"}},{"$f":"IF(DataAll!D94=0,\"\",DataAll!D94)","v":{"$error":"#REF!"}},{"$f":"IF(DataAll!F94=0,\"\",DataAll!F94)","v":{"$error":"#REF!"}},{"$f":"IF(DataAll!K94=0,\"\",DataAll!K94)","v":{"$error":"#REF!"}},{"$f":"IF(DataAll!L94=0,\"\",DataAll!L94)","v":{"$error":"#REF!"}},{"$f":"IF(DataAll!M94=0,\"\",DataAll!M94)","v":{"$error":"#REF!"}},{"$f":"IF(DataAll!N94=0,\"\",DataAll!N94)","v":{"$error":"#REF!"}},{"$f":"GrafikaHrany(E94,F94,G94,H94,DataAll!O94)","v":{"$error":"#VALUE!"}},{"$f":"IF(ISTEXT(DataAll!P94),DataAll!P94,\"\")","v":""},{"$f":"IF(AND(OR(ISTEXT(DataAll!Q94),DataAll!Q94<>0),A94<>\"\"),DataAll!Q94,\"\")","v":{"$error":"#REF!"}}]
[{"$f":"IF(ISTEXT(DataAll!A95),RemoveAccent(DataAll!A95),\"\")","v":""},{"$f":"IF(DataAll!B95=0,\"\",DataAll!B95)","v":{"$error":"#REF!"}},{"$f":"IF(DataAll!D95=0,\"\",DataAll!D95)","v":{"$error":"#REF!"}},{"$f":"IF(DataAll!F95=0,\"\",DataAll!F95)","v":{"$error":"#REF!"}},{"$f":"IF(DataAll!K95=0,\"\",DataAll!K95)","v":{"$error":"#REF!"}},{"$f":"IF(DataAll!L95=0,\"\",DataAll!L95)","v":{"$error":"#REF!"}},{"$f":"IF(DataAll!M95=0,\"\",DataAll!M95)","v":{"$error":"#REF!"}},{"$f":"IF(DataAll!N95=0,\"\",DataAll!N95)","v":{"$error":"#REF!"}},{"$f":"GrafikaHrany(E95,F95,G95,H95,DataAll!O95)","v":{"$error":"#VALUE!"}},{"$f":"IF(ISTEXT(DataAll!P95),DataAll!P95,\"\")","v":""},{"$f":"IF(AND(OR(ISTEXT(DataAll!Q95),DataAll!Q95<>0),A95<>\"\"),DataAll!Q95,\"\")","v":{"$error":"#REF!"}}]
[{"$f":"IF(ISTEXT(DataAll!A96),RemoveAccent(DataAll!A96),\"\")","v":""},{"$f":"IF(DataAll!B96=0,\"\",DataAll!B96)","v":{"$error":"#REF!"}},{"$f":"IF(DataAll!D96=0,\"\",DataAll!D96)","v":{"$error":"#REF!"}},{"$f":"IF(DataAll!F96=0,\"\",DataAll!F96)","v":{"$error":"#REF!"}},{"$f":"IF(DataAll!K96=0,\"\",DataAll!K96)","v":{"$error":"#REF!"}},{"$f":"IF(DataAll!L96=0,\"\",DataAll!L96)","v":{"$error":"#REF!"}},{"$f":"IF(DataAll!M96=0,\"\",DataAll!M96)","v":{"$error":"#REF!"}},{"$f":"IF(DataAll!N96=0,\"\",DataAll!N96)","v":{"$error":"#REF!"}},{"$f":"GrafikaHrany(E96,F96,G96,H96,DataAll!O96)","v":{"$error":"#VALUE!"}},{"$f":"IF(ISTEXT(DataAll!P96),DataAll!P96,\"\")","v":""},{"$f":"IF(AND(OR(ISTEXT(DataAll!Q96),DataAll!Q96<>0),A96<>\"\"),DataAll!Q96,\"\")","v":{"$error":"#REF!"}}]
[{"$f":"IF(ISTEXT(DataAll!A97),RemoveAccent(DataAll!A97),\"\")","v":""},{"$f":"IF(DataAll!B97=0,\"\",DataAll!B97)","v":{"$error":"#REF!"}},{"$f":"IF(DataAll!D97=0,\"\",DataAll!D97)","v":{"$error":"#REF!"}},{"$f":"IF(DataAll!F97=0,\"\",DataAll!F97)","v":{"$error":"#REF!"}},{"$f":"IF(DataAll!K97=0,\"\",DataAll!K97)","v":{"$error":"#REF!"}},{"$f":"IF(DataAll!L97=0,\"\",DataAll!L97)","v":{"$error":"#REF!"}},{"$f":"IF(DataAll!M97=0,\"\",DataAll!M97)","v":{"$error":"#REF!"}},{"$f":"IF(DataAll!N97=0,\"\",DataAll!N97)","v":{"$error":"#REF!"}},{"$f":"GrafikaHrany(E97,F97,G97,H97,DataAll!O97)","v":{"$error":"#VALUE!"}},{"$f":"IF(ISTEXT(DataAll!P97),DataAll!P97,\"\")","v":""},{"$f":"IF(AND(OR(ISTEXT(DataAll!Q97),DataAll!Q97<>0),A97<>\"\"),DataAll!Q97,\"\")","v":{"$error":"#REF!"}}]
[{"$f":"IF(ISTEXT(DataAll!A98),RemoveAccent(DataAll!A98),\"\")","v":""},{"$f":"IF(DataAll!B98=0,\"\",DataAll!B98)","v":{"$error":"#REF!"}},{"$f":"IF(DataAll!D98=0,\"\",DataAll!D98)","v":{"$error":"#REF!"}},{"$f":"IF(DataAll!F98=0,\"\",DataAll!F98)","v":{"$error":"#REF!"}},{"$f":"IF(DataAll!K98=0,\"\",DataAll!K98)","v":{"$error":"#REF!"}},{"$f":"IF(DataAll!L98=0,\"\",DataAll!L98)","v":{"$error":"#REF!"}},{"$f":"IF(DataAll!M98=0,\"\",DataAll!M98)","v":{"$error":"#REF!"}},{"$f":"IF(DataAll!N98=0,\"\",DataAll!N98)","v":{"$error":"#REF!"}},{"$f":"GrafikaHrany(E98,F98,G98,H98,DataAll!O98)","v":{"$error":"#VALUE!"}},{"$f":"IF(ISTEXT(DataAll!P98),DataAll!P98,\"\")","v":""},{"$f":"IF(AND(OR(ISTEXT(DataAll!Q98),DataAll!Q98<>0),A98<>\"\"),DataAll!Q98,\"\")","v":{"$error":"#REF!"}}]
[{"$f":"IF(ISTEXT(DataAll!A99),RemoveAccent(DataAll!A99),\"\")","v":""},{"$f":"IF(DataAll!B99=0,\"\",DataAll!B99)","v":{"$error":"#REF!"}},{"$f":"IF(DataAll!D99=0,\"\",DataAll!D99)","v":{"$error":"#REF!"}},{"$f":"IF(DataAll!F99=0,\"\",DataAll!F99)","v":{"$error":"#REF!"}},{"$f":"IF(DataAll!K99=0,\"\",DataAll!K99)","v":{"$error":"#REF!"}},{"$f":"IF(DataAll!L99=0,\"\",DataAll!L99)","v":{"$error":"#REF!"}},{"$f":"IF(DataAll!M99=0,\"\",DataAll!M99)","v":{"$error":"#REF!"}},{"$f":"IF(DataAll!N99=0,\"\",DataAll!N99)","v":{"$error":"#REF!"}},{"$f":"GrafikaHrany(E99,F99,G99,H99,DataAll!O99)","v":{"$error":"#VALUE!"}},{"$f":"IF(ISTEXT(DataAll!P99),DataAll!P99,\"\")","v":""},{"$f":"IF(AND(OR(ISTEXT(DataAll!Q99),DataAll!Q99<>0),A99<>\"\"),DataAll!Q99,\"\")","v":{"$error":"#REF!"}}]
[{"$f":"IF(ISTEXT(DataAll!A100),RemoveAccent(DataAll!A100),\"\")","v":""},{"$f":"IF(DataAll!B100=0,\"\",DataAll!B100)","v":{"$error":"#REF!"}},{"$f":"IF(DataAll!D100=0,\"\",DataAll!D100)","v":{"$error":"#REF!"}},{"$f":"IF(DataAll!F100=0,\"\",DataAll!F100)","v":{"$error":"#REF!"}},{"$f":"IF(DataAll!K100=0,\"\",DataAll!K100)","v":{"$error":"#REF!"}},{"$f":"IF(DataAll!L100=0,\"\",DataAll!L100)","v":{"$error":"#REF!"}},{"$f":"IF(DataAll!M100=0,\"\",DataAll!M100)","v":{"$error":"#REF!"}},{"$f":"IF(DataAll!N100=0,\"\",DataAll!N100)","v":{"$error":"#REF!"}},{"$f":"GrafikaHrany(E100,F100,G100,H100,DataAll!O100)","v":{"$error":"#VALUE!"}},{"$f":"IF(ISTEXT(DataAll!P100),DataAll!P100,\"\")","v":""},{"$f":"IF(AND(OR(ISTEXT(DataAll!Q100),DataAll!Q100<>0),A100<>\"\"),DataAll!Q100,\"\")","v":{"$error":"#REF!"}}]
[{"$f":"IF(ISTEXT(DataAll!A101),RemoveAccent(DataAll!A101),\"\")","v":""},{"$f":"IF(DataAll!B101=0,\"\",DataAll!B101)","v":{"$error":"#REF!"}},{"$f":"IF(DataAll!D101=0,\"\",DataAll!D101)","v":{"$error":"#REF!"}},{"$f":"IF(DataAll!F101=0,\"\",DataAll!F101)","v":{"$error":"#REF!"}},{"$f":"IF(DataAll!K101=0,\"\",DataAll!K101)","v":{"$error":"#REF!"}},{"$f":"IF(DataAll!L101=0,\"\",DataAll!L101)","v":{"$error":"#REF!"}},{"$f":"IF(DataAll!M101=0,\"\",DataAll!M101)","v":{"$error":"#REF!"}},{"$f":"IF(DataAll!N101=0,\"\",DataAll!N101)","v":{"$error":"#REF!"}},{"$f":"GrafikaHrany(E101,F101,G101,H101,DataAll!O101)","v":{"$error":"#VALUE!"}},{"$f":"IF(ISTEXT(DataAll!P101),DataAll!P101,\"\")","v":""},{"$f":"IF(AND(OR(ISTEXT(DataAll!Q101),DataAll!Q101<>0),A101<>\"\"),DataAll!Q101,\"\")","v":{"$error":"#REF!"}}]
[{"$f":"IF(ISTEXT(DataAll!A102),RemoveAccent(DataAll!A102),\"\")","v":""},{"$f":"IF(DataAll!B102=0,\"\",DataAll!B102)","v":{"$error":"#REF!"}},{"$f":"IF(DataAll!D102=0,\"\",DataAll!D102)","v":{"$error":"#REF!"}},{"$f":"IF(DataAll!F102=0,\"\",DataAll!F102)","v":{"$error":"#REF!"}},{"$f":"IF(DataAll!K102=0,\"\",DataAll!K102)","v":{"$error":"#REF!"}},{"$f":"IF(DataAll!L102=0,\"\",DataAll!L102)","v":{"$error":"#REF!"}},{"$f":"IF(DataAll!M102=0,\"\",DataAll!M102)","v":{"$error":"#REF!"}},{"$f":"IF(DataAll!N102=0,\"\",DataAll!N102)","v":{"$error":"#REF!"}},{"$f":"GrafikaHrany(E102,F102,G102,H102,DataAll!O102)","v":{"$error":"#VALUE!"}},{"$f":"IF(ISTEXT(DataAll!P102),DataAll!P102,\"\")","v":""},{"$f":"IF(AND(OR(ISTEXT(DataAll!Q102),DataAll!Q102<>0),A102<>\"\"),DataAll!Q102,\"\")","v":{"$error":"#REF!"}}]
[{"$f":"IF(ISTEXT(DataAll!A103),RemoveAccent(DataAll!A103),\"\")","v":""},{"$f":"IF(DataAll!B103=0,\"\",DataAll!B103)","v":{"$error":"#REF!"}},{"$f":"IF(DataAll!D103=0,\"\",DataAll!D103)","v":{"$error":"#REF!"}},{"$f":"IF(DataAll!F103=0,\"\",DataAll!F103)","v":{"$error":"#REF!"}},{"$f":"IF(DataAll!K103=0,\"\",DataAll!K103)","v":{"$error":"#REF!"}},{"$f":"IF(DataAll!L103=0,\"\",DataAll!L103)","v":{"$error":"#REF!"}},{"$f":"IF(DataAll!M103=0,\"\",DataAll!M103)","v":{"$error":"#REF!"}},{"$f":"IF(DataAll!N103=0,\"\",DataAll!N103)","v":{"$error":"#REF!"}},{"$f":"GrafikaHrany(E103,F103,G103,H103,DataAll!O103)","v":{"$error":"#VALUE!"}},{"$f":"IF(ISTEXT(DataAll!P103),DataAll!P103,\"\")","v":""},{"$f":"IF(AND(OR(ISTEXT(DataAll!Q103),DataAll!Q103<>0),A103<>\"\"),DataAll!Q103,\"\")","v":{"$error":"#REF!"}}]
[{"$f":"IF(ISTEXT(DataAll!A104),RemoveAccent(DataAll!A104),\"\")","v":""},{"$f":"IF(DataAll!B104=0,\"\",DataAll!B104)","v":{"$error":"#REF!"}},{"$f":"IF(DataAll!D104=0,\"\",DataAll!D104)","v":{"$error":"#REF!"}},{"$f":"IF(DataAll!F104=0,\"\",DataAll!F104)","v":{"$error":"#REF!"}},{"$f":"IF(DataAll!K104=0,\"\",DataAll!K104)","v":{"$error":"#REF!"}},{"$f":"IF(DataAll!L104=0,\"\",DataAll!L104)","v":{"$error":"#REF!"}},{"$f":"IF(DataAll!M104=0,\"\",DataAll!M104)","v":{"$error":"#REF!"}},{"$f":"IF(DataAll!N104=0,\"\",DataAll!N104)","v":{"$error":"#REF!"}},{"$f":"GrafikaHrany(E104,F104,G104,H104,DataAll!O104)","v":{"$error":"#VALUE!"}},{"$f":"IF(ISTEXT(DataAll!P104),DataAll!P104,\"\")","v":""},{"$f":"IF(AND(OR(ISTEXT(DataAll!Q104),DataAll!Q104<>0),A104<>\"\"),DataAll!Q104,\"\")","v":{"$error":"#REF!"}}]
[{"$f":"IF(ISTEXT(DataAll!A105),RemoveAccent(DataAll!A105),\"\")","v":""},{"$f":"IF(DataAll!B105=0,\"\",DataAll!B105)","v":{"$error":"#REF!"}},{"$f":"IF(DataAll!D105=0,\"\",DataAll!D105)","v":{"$error":"#REF!"}},{"$f":"IF(DataAll!F105=0,\"\",DataAll!F105)","v":{"$error":"#REF!"}},{"$f":"IF(DataAll!K105=0,\"\",DataAll!K105)","v":{"$error":"#REF!"}},{"$f":"IF(DataAll!L105=0,\"\",DataAll!L105)","v":{"$error":"#REF!"}},{"$f":"IF(DataAll!M105=0,\"\",DataAll!M105)","v":{"$error":"#REF!"}},{"$f":"IF(DataAll!N105=0,\"\",DataAll!N105)","v":{"$error":"#REF!"}},{"$f":"GrafikaHrany(E105,F105,G105,H105,DataAll!O105)","v":{"$error":"#VALUE!"}},{"$f":"IF(ISTEXT(DataAll!P105),DataAll!P105,\"\")","v":""},{"$f":"IF(AND(OR(ISTEXT(DataAll!Q105),DataAll!Q105<>0),A105<>\"\"),DataAll!Q105,\"\")","v":{"$error":"#REF!"}}]
[{"$f":"IF(ISTEXT(DataAll!A106),RemoveAccent(DataAll!A106),\"\")","v":""},{"$f":"IF(DataAll!B106=0,\"\",DataAll!B106)","v":{"$error":"#REF!"}},{"$f":"IF(DataAll!D106=0,\"\",DataAll!D106)","v":{"$error":"#REF!"}},{"$f":"IF(DataAll!F106=0,\"\",DataAll!F106)","v":{"$error":"#REF!"}},{"$f":"IF(DataAll!K106=0,\"\",DataAll!K106)","v":{"$error":"#REF!"}},{"$f":"IF(DataAll!L106=0,\"\",DataAll!L106)","v":{"$error":"#REF!"}},{"$f":"IF(DataAll!M106=0,\"\",DataAll!M106)","v":{"$error":"#REF!"}},{"$f":"IF(DataAll!N106=0,\"\",DataAll!N106)","v":{"$error":"#REF!"}},{"$f":"GrafikaHrany(E106,F106,G106,H106,DataAll!O106)","v":{"$error":"#VALUE!"}},{"$f":"IF(ISTEXT(DataAll!P106),DataAll!P106,\"\")","v":""},{"$f":"IF(AND(OR(ISTEXT(DataAll!Q106),DataAll!Q106<>0),A106<>\"\"),DataAll!Q106,\"\")","v":{"$error":"#REF!"}}]
[{"$f":"IF(ISTEXT(DataAll!A107),RemoveAccent(DataAll!A107),\"\")","v":""},{"$f":"IF(DataAll!B107=0,\"\",DataAll!B107)","v":{"$error":"#REF!"}},{"$f":"IF(DataAll!D107=0,\"\",DataAll!D107)","v":{"$error":"#REF!"}},{"$f":"IF(DataAll!F107=0,\"\",DataAll!F107)","v":{"$error":"#REF!"}},{"$f":"IF(DataAll!K107=0,\"\",DataAll!K107)","v":{"$error":"#REF!"}},{"$f":"IF(DataAll!L107=0,\"\",DataAll!L107)","v":{"$error":"#REF!"}},{"$f":"IF(DataAll!M107=0,\"\",DataAll!M107)","v":{"$error":"#REF!"}},{"$f":"IF(DataAll!N107=0,\"\",DataAll!N107)","v":{"$error":"#REF!"}},{"$f":"GrafikaHrany(E107,F107,G107,H107,DataAll!O107)","v":{"$error":"#VALUE!"}},{"$f":"IF(ISTEXT(DataAll!P107),DataAll!P107,\"\")","v":""},{"$f":"IF(AND(OR(ISTEXT(DataAll!Q107),DataAll!Q107<>0),A107<>\"\"),DataAll!Q107,\"\")","v":{"$error":"#REF!"}}]
[{"$f":"IF(ISTEXT(DataAll!A108),RemoveAccent(DataAll!A108),\"\")","v":""},{"$f":"IF(DataAll!B108=0,\"\",DataAll!B108)","v":{"$error":"#REF!"}},{"$f":"IF(DataAll!D108=0,\"\",DataAll!D108)","v":{"$error":"#REF!"}},{"$f":"IF(DataAll!F108=0,\"\",DataAll!F108)","v":{"$error":"#REF!"}},{"$f":"IF(DataAll!K108=0,\"\",DataAll!K108)","v":{"$error":"#REF!"}},{"$f":"IF(DataAll!L108=0,\"\",DataAll!L108)","v":{"$error":"#REF!"}},{"$f":"IF(DataAll!M108=0,\"\",DataAll!M108)","v":{"$error":"#REF!"}},{"$f":"IF(DataAll!N108=0,\"\",DataAll!N108)","v":{"$error":"#REF!"}},{"$f":"GrafikaHrany(E108,F108,G108,H108,DataAll!O108)","v":{"$error":"#VALUE!"}},{"$f":"IF(ISTEXT(DataAll!P108),DataAll!P108,\"\")","v":""},{"$f":"IF(AND(OR(ISTEXT(DataAll!Q108),DataAll!Q108<>0),A108<>\"\"),DataAll!Q108,\"\")","v":{"$error":"#REF!"}}]
[{"$f":"IF(ISTEXT(DataAll!A109),RemoveAccent(DataAll!A109),\"\")","v":""},{"$f":"IF(DataAll!B109=0,\"\",DataAll!B109)","v":{"$error":"#REF!"}},{"$f":"IF(DataAll!D109=0,\"\",DataAll!D109)","v":{"$error":"#REF!"}},{"$f":"IF(DataAll!F109=0,\"\",DataAll!F109)","v":{"$error":"#REF!"}},{"$f":"IF(DataAll!K109=0,\"\",DataAll!K109)","v":{"$error":"#REF!"}},{"$f":"IF(DataAll!L109=0,\"\",DataAll!L109)","v":{"$error":"#REF!"}},{"$f":"IF(DataAll!M109=0,\"\",DataAll!M109)","v":{"$error":"#REF!"}},{"$f":"IF(DataAll!N109=0,\"\",DataAll!N109)","v":{"$error":"#REF!"}},{"$f":"GrafikaHrany(E109,F109,G109,H109,DataAll!O109)","v":{"$error":"#VALUE!"}},{"$f":"IF(ISTEXT(DataAll!P109),DataAll!P109,\"\")","v":""},{"$f":"IF(AND(OR(ISTEXT(DataAll!Q109),DataAll!Q109<>0),A109<>\"\"),DataAll!Q109,\"\")","v":{"$error":"#REF!"}}]
[{"$f":"IF(ISTEXT(DataAll!A110),RemoveAccent(DataAll!A110),\"\")","v":""},{"$f":"IF(DataAll!B110=0,\"\",DataAll!B110)","v":{"$error":"#REF!"}},{"$f":"IF(DataAll!D110=0,\"\",DataAll!D110)","v":{"$error":"#REF!"}},{"$f":"IF(DataAll!F110=0,\"\",DataAll!F110)","v":{"$error":"#REF!"}},{"$f":"IF(DataAll!K110=0,\"\",DataAll!K110)","v":{"$error":"#REF!"}},{"$f":"IF(DataAll!L110=0,\"\",DataAll!L110)","v":{"$error":"#REF!"}},{"$f":"IF(DataAll!M110=0,\"\",DataAll!M110)","v":{"$error":"#REF!"}},{"$f":"IF(DataAll!N110=0,\"\",DataAll!N110)","v":{"$error":"#REF!"}},{"$f":"GrafikaHrany(E110,F110,G110,H110,DataAll!O110)","v":{"$error":"#VALUE!"}},{"$f":"IF(ISTEXT(DataAll!P110),DataAll!P110,\"\")","v":""},{"$f":"IF(AND(OR(ISTEXT(DataAll!Q110),DataAll!Q110<>0),A110<>\"\"),DataAll!Q110,\"\")","v":{"$error":"#REF!"}}]
[{"$f":"IF(ISTEXT(DataAll!A111),RemoveAccent(DataAll!A111),\"\")","v":""},{"$f":"IF(DataAll!B111=0,\"\",DataAll!B111)","v":{"$error":"#REF!"}},{"$f":"IF(DataAll!D111=0,\"\",DataAll!D111)","v":{"$error":"#REF!"}},{"$f":"IF(DataAll!F111=0,\"\",DataAll!F111)","v":{"$error":"#REF!"}},{"$f":"IF(DataAll!K111=0,\"\",DataAll!K111)","v":{"$error":"#REF!"}},{"$f":"IF(DataAll!L111=0,\"\",DataAll!L111)","v":{"$error":"#REF!"}},{"$f":"IF(DataAll!M111=0,\"\",DataAll!M111)","v":{"$error":"#REF!"}},{"$f":"IF(DataAll!N111=0,\"\",DataAll!N111)","v":{"$error":"#REF!"}},{"$f":"GrafikaHrany(E111,F111,G111,H111,DataAll!O111)","v":{"$error":"#VALUE!"}},{"$f":"IF(ISTEXT(DataAll!P111),DataAll!P111,\"\")","v":""},{"$f":"IF(AND(OR(ISTEXT(DataAll!Q111),DataAll!Q111<>0),A111<>\"\"),DataAll!Q111,\"\")","v":{"$error":"#REF!"}}]
[{"$f":"IF(ISTEXT(DataAll!A112),RemoveAccent(DataAll!A112),\"\")","v":""},{"$f":"IF(DataAll!B112=0,\"\",DataAll!B112)","v":{"$error":"#REF!"}},{"$f":"IF(DataAll!D112=0,\"\",DataAll!D112)","v":{"$error":"#REF!"}},{"$f":"IF(DataAll!F112=0,\"\",DataAll!F112)","v":{"$error":"#REF!"}},{"$f":"IF(DataAll!K112=0,\"\",DataAll!K112)","v":{"$error":"#REF!"}},{"$f":"IF(DataAll!L112=0,\"\",DataAll!L112)","v":{"$error":"#REF!"}},{"$f":"IF(DataAll!M112=0,\"\",DataAll!M112)","v":{"$error":"#REF!"}},{"$f":"IF(DataAll!N112=0,\"\",DataAll!N112)","v":{"$error":"#REF!"}},{"$f":"GrafikaHrany(E112,F112,G112,H112,DataAll!O112)","v":{"$error":"#VALUE!"}},{"$f":"IF(ISTEXT(DataAll!P112),DataAll!P112,\"\")","v":""},{"$f":"IF(AND(OR(ISTEXT(DataAll!Q112),DataAll!Q112<>0),A112<>\"\"),DataAll!Q112,\"\")","v":{"$error":"#REF!"}}]
[{"$f":"IF(ISTEXT(DataAll!A113),RemoveAccent(DataAll!A113),\"\")","v":""},{"$f":"IF(DataAll!B113=0,\"\",DataAll!B113)","v":{"$error":"#REF!"}},{"$f":"IF(DataAll!D113=0,\"\",DataAll!D113)","v":{"$error":"#REF!"}},{"$f":"IF(DataAll!F113=0,\"\",DataAll!F113)","v":{"$error":"#REF!"}},{"$f":"IF(DataAll!K113=0,\"\",DataAll!K113)","v":{"$error":"#REF!"}},{"$f":"IF(DataAll!L113=0,\"\",DataAll!L113)","v":{"$error":"#REF!"}},{"$f":"IF(DataAll!M113=0,\"\",DataAll!M113)","v":{"$error":"#REF!"}},{"$f":"IF(DataAll!N113=0,\"\",DataAll!N113)","v":{"$error":"#REF!"}},{"$f":"GrafikaHrany(E113,F113,G113,H113,DataAll!O113)","v":{"$error":"#VALUE!"}},{"$f":"IF(ISTEXT(DataAll!P113),DataAll!P113,\"\")","v":""},{"$f":"IF(AND(OR(ISTEXT(DataAll!Q113),DataAll!Q113<>0),A113<>\"\"),DataAll!Q113,\"\")","v":{"$error":"#REF!"}}]
[{"$f":"IF(ISTEXT(DataAll!A114),RemoveAccent(DataAll!A114),\"\")","v":""},{"$f":"IF(DataAll!B114=0,\"\",DataAll!B114)","v":{"$error":"#REF!"}},{"$f":"IF(DataAll!D114=0,\"\",DataAll!D114)","v":{"$error":"#REF!"}},{"$f":"IF(DataAll!F114=0,\"\",DataAll!F114)","v":{"$error":"#REF!"}},{"$f":"IF(DataAll!K114=0,\"\",DataAll!K114)","v":{"$error":"#REF!"}},{"$f":"IF(DataAll!L114=0,\"\",DataAll!L114)","v":{"$error":"#REF!"}},{"$f":"IF(DataAll!M114=0,\"\",DataAll!M114)","v":{"$error":"#REF!"}},{"$f":"IF(DataAll!N114=0,\"\",DataAll!N114)","v":{"$error":"#REF!"}},{"$f":"GrafikaHrany(E114,F114,G114,H114,DataAll!O114)","v":{"$error":"#VALUE!"}},{"$f":"IF(ISTEXT(DataAll!P114),DataAll!P114,\"\")","v":""},{"$f":"IF(AND(OR(ISTEXT(DataAll!Q114),DataAll!Q114<>0),A114<>\"\"),DataAll!Q114,\"\")","v":{"$error":"#REF!"}}]
[{"$f":"IF(ISTEXT(DataAll!A115),RemoveAccent(DataAll!A115),\"\")","v":""},{"$f":"IF(DataAll!B115=0,\"\",DataAll!B115)","v":{"$error":"#REF!"}},{"$f":"IF(DataAll!D115=0,\"\",DataAll!D115)","v":{"$error":"#REF!"}},{"$f":"IF(DataAll!F115=0,\"\",DataAll!F115)","v":{"$error":"#REF!"}},{"$f":"IF(DataAll!K115=0,\"\",DataAll!K115)","v":{"$error":"#REF!"}},{"$f":"IF(DataAll!L115=0,\"\",DataAll!L115)","v":{"$error":"#REF!"}},{"$f":"IF(DataAll!M115=0,\"\",DataAll!M115)","v":{"$error":"#REF!"}},{"$f":"IF(DataAll!N115=0,\"\",DataAll!N115)","v":{"$error":"#REF!"}},{"$f":"GrafikaHrany(E115,F115,G115,H115,DataAll!O115)","v":{"$error":"#VALUE!"}},{"$f":"IF(ISTEXT(DataAll!P115),DataAll!P115,\"\")","v":""},{"$f":"IF(AND(OR(ISTEXT(DataAll!Q115),DataAll!Q115<>0),A115<>\"\"),DataAll!Q115,\"\")","v":{"$error":"#REF!"}}]
[{"$f":"IF(ISTEXT(DataAll!A116),RemoveAccent(DataAll!A116),\"\")","v":""},{"$f":"IF(DataAll!B116=0,\"\",DataAll!B116)","v":{"$error":"#REF!"}},{"$f":"IF(DataAll!D116=0,\"\",DataAll!D116)","v":{"$error":"#REF!"}},{"$f":"IF(DataAll!F116=0,\"\",DataAll!F116)","v":{"$error":"#REF!"}},{"$f":"IF(DataAll!K116=0,\"\",DataAll!K116)","v":{"$error":"#REF!"}},{"$f":"IF(DataAll!L116=0,\"\",DataAll!L116)","v":{"$error":"#REF!"}},{"$f":"IF(DataAll!M116=0,\"\",DataAll!M116)","v":{"$error":"#REF!"}},{"$f":"IF(DataAll!N116=0,\"\",DataAll!N116)","v":{"$error":"#REF!"}},{"$f":"GrafikaHrany(E116,F116,G116,H116,DataAll!O116)","v":{"$error":"#VALUE!"}},{"$f":"IF(ISTEXT(DataAll!P116),DataAll!P116,\"\")","v":""},{"$f":"IF(AND(OR(ISTEXT(DataAll!Q116),DataAll!Q116<>0),A116<>\"\"),DataAll!Q116,\"\")","v":{"$error":"#REF!"}}]
[{"$f":"IF(ISTEXT(DataAll!A117),RemoveAccent(DataAll!A117),\"\")","v":""},{"$f":"IF(DataAll!B117=0,\"\",DataAll!B117)","v":{"$error":"#REF!"}},{"$f":"IF(DataAll!D117=0,\"\",DataAll!D117)","v":{"$error":"#REF!"}},{"$f":"IF(DataAll!F117=0,\"\",DataAll!F117)","v":{"$error":"#REF!"}},{"$f":"IF(DataAll!K117=0,\"\",DataAll!K117)","v":{"$error":"#REF!"}},{"$f":"IF(DataAll!L117=0,\"\",DataAll!L117)","v":{"$error":"#REF!"}},{"$f":"IF(DataAll!M117=0,\"\",DataAll!M117)","v":{"$error":"#REF!"}},{"$f":"IF(DataAll!N117=0,\"\",DataAll!N117)","v":{"$error":"#REF!"}},{"$f":"GrafikaHrany(E117,F117,G117,H117,DataAll!O117)","v":{"$error":"#VALUE!"}},{"$f":"IF(ISTEXT(DataAll!P117),DataAll!P117,\"\")","v":""},{"$f":"IF(AND(OR(ISTEXT(DataAll!Q117),DataAll!Q117<>0),A117<>\"\"),DataAll!Q117,\"\")","v":{"$error":"#REF!"}}]
[{"$f":"IF(ISTEXT(DataAll!A118),RemoveAccent(DataAll!A118),\"\")","v":""},{"$f":"IF(DataAll!B118=0,\"\",DataAll!B118)","v":{"$error":"#REF!"}},{"$f":"IF(DataAll!D118=0,\"\",DataAll!D118)","v":{"$error":"#REF!"}},{"$f":"IF(DataAll!F118=0,\"\",DataAll!F118)","v":{"$error":"#REF!"}},{"$f":"IF(DataAll!K118=0,\"\",DataAll!K118)","v":{"$error":"#REF!"}},{"$f":"IF(DataAll!L118=0,\"\",DataAll!L118)","v":{"$error":"#REF!"}},{"$f":"IF(DataAll!M118=0,\"\",DataAll!M118)","v":{"$error":"#REF!"}},{"$f":"IF(DataAll!N118=0,\"\",DataAll!N118)","v":{"$error":"#REF!"}},{"$f":"GrafikaHrany(E118,F118,G118,H118,DataAll!O118)","v":{"$error":"#VALUE!"}},{"$f":"IF(ISTEXT(DataAll!P118),DataAll!P118,\"\")","v":""},{"$f":"IF(AND(OR(ISTEXT(DataAll!Q118),DataAll!Q118<>0),A118<>\"\"),DataAll!Q118,\"\")","v":{"$error":"#REF!"}}]
[{"$f":"IF(ISTEXT(DataAll!A119),RemoveAccent(DataAll!A119),\"\")","v":""},{"$f":"IF(DataAll!B119=0,\"\",DataAll!B119)","v":{"$error":"#REF!"}},{"$f":"IF(DataAll!D119=0,\"\",DataAll!D119)","v":{"$error":"#REF!"}},{"$f":"IF(DataAll!F119=0,\"\",DataAll!F119)","v":{"$error":"#REF!"}},{"$f":"IF(DataAll!K119=0,\"\",DataAll!K119)","v":{"$error":"#REF!"}},{"$f":"IF(DataAll!L119=0,\"\",DataAll!L119)","v":{"$error":"#REF!"}},{"$f":"IF(DataAll!M119=0,\"\",DataAll!M119)","v":{"$error":"#REF!"}},{"$f":"IF(DataAll!N119=0,\"\",DataAll!N119)","v":{"$error":"#REF!"}},{"$f":"GrafikaHrany(E119,F119,G119,H119,DataAll!O119)","v":{"$error":"#VALUE!"}},{"$f":"IF(ISTEXT(DataAll!P119),DataAll!P119,\"\")","v":""},{"$f":"IF(AND(OR(ISTEXT(DataAll!Q119),DataAll!Q119<>0),A119<>\"\"),DataAll!Q119,\"\")","v":{"$error":"#REF!"}}]
[{"$f":"IF(ISTEXT(DataAll!A120),RemoveAccent(DataAll!A120),\"\")","v":""},{"$f":"IF(DataAll!B120=0,\"\",DataAll!B120)","v":{"$error":"#REF!"}},{"$f":"IF(DataAll!D120=0,\"\",DataAll!D120)","v":{"$error":"#REF!"}},{"$f":"IF(DataAll!F120=0,\"\",DataAll!F120)","v":{"$error":"#REF!"}},{"$f":"IF(DataAll!K120=0,\"\",DataAll!K120)","v":{"$error":"#REF!"}},{"$f":"IF(DataAll!L120=0,\"\",DataAll!L120)","v":{"$error":"#REF!"}},{"$f":"IF(DataAll!M120=0,\"\",DataAll!M120)","v":{"$error":"#REF!"}},{"$f":"IF(DataAll!N120=0,\"\",DataAll!N120)","v":{"$error":"#REF!"}},{"$f":"GrafikaHrany(E120,F120,G120,H120,DataAll!O120)","v":{"$error":"#VALUE!"}},{"$f":"IF(ISTEXT(DataAll!P120),DataAll!P120,\"\")","v":""},{"$f":"IF(AND(OR(ISTEXT(DataAll!Q120),DataAll!Q120<>0),A120<>\"\"),DataAll!Q120,\"\")","v":{"$error":"#REF!"}}]
[{"$f":"IF(ISTEXT(DataAll!A121),RemoveAccent(DataAll!A121),\"\")","v":""},{"$f":"IF(DataAll!B121=0,\"\",DataAll!B121)","v":{"$error":"#REF!"}},{"$f":"IF(DataAll!D121=0,\"\",DataAll!D121)","v":{"$error":"#REF!"}},{"$f":"IF(DataAll!F121=0,\"\",DataAll!F121)","v":{"$error":"#REF!"}},{"$f":"IF(DataAll!K121=0,\"\",DataAll!K121)","v":{"$error":"#REF!"}},{"$f":"IF(DataAll!L121=0,\"\",DataAll!L121)","v":{"$error":"#REF!"}},{"$f":"IF(DataAll!M121=0,\"\",DataAll!M121)","v":{"$error":"#REF!"}},{"$f":"IF(DataAll!N121=0,\"\",DataAll!N121)","v":{"$error":"#REF!"}},{"$f":"GrafikaHrany(E121,F121,G121,H121,DataAll!O121)","v":{"$error":"#VALUE!"}},{"$f":"IF(ISTEXT(DataAll!P121),DataAll!P121,\"\")","v":""},{"$f":"IF(AND(OR(ISTEXT(DataAll!Q121),DataAll!Q121<>0),A121<>\"\"),DataAll!Q121,\"\")","v":{"$error":"#REF!"}}]
[{"$f":"IF(ISTEXT(DataAll!A122),RemoveAccent(DataAll!A122),\"\")","v":""},{"$f":"IF(DataAll!B122=0,\"\",DataAll!B122)","v":{"$error":"#REF!"}},{"$f":"IF(DataAll!D122=0,\"\",DataAll!D122)","v":{"$error":"#REF!"}},{"$f":"IF(DataAll!F122=0,\"\",DataAll!F122)","v":{"$error":"#REF!"}},{"$f":"IF(DataAll!K122=0,\"\",DataAll!K122)","v":{"$error":"#REF!"}},{"$f":"IF(DataAll!L122=0,\"\",DataAll!L122)","v":{"$error":"#REF!"}},{"$f":"IF(DataAll!M122=0,\"\",DataAll!M122)","v":{"$error":"#REF!"}},{"$f":"IF(DataAll!N122=0,\"\",DataAll!N122)","v":{"$error":"#REF!"}},{"$f":"GrafikaHrany(E122,F122,G122,H122,DataAll!O122)","v":{"$error":"#VALUE!"}},{"$f":"IF(ISTEXT(DataAll!P122),DataAll!P122,\"\")","v":""},{"$f":"IF(AND(OR(ISTEXT(DataAll!Q122),DataAll!Q122<>0),A122<>\"\"),DataAll!Q122,\"\")","v":{"$error":"#REF!"}}]
[{"$f":"IF(ISTEXT(DataAll!A123),RemoveAccent(DataAll!A123),\"\")","v":""},{"$f":"IF(DataAll!B123=0,\"\",DataAll!B123)","v":{"$error":"#REF!"}},{"$f":"IF(DataAll!D123=0,\"\",DataAll!D123)","v":{"$error":"#REF!"}},{"$f":"IF(DataAll!F123=0,\"\",DataAll!F123)","v":{"$error":"#REF!"}},{"$f":"IF(DataAll!K123=0,\"\",DataAll!K123)","v":{"$error":"#REF!"}},{"$f":"IF(DataAll!L123=0,\"\",DataAll!L123)","v":{"$error":"#REF!"}},{"$f":"IF(DataAll!M123=0,\"\",DataAll!M123)","v":{"$error":"#REF!"}},{"$f":"IF(DataAll!N123=0,\"\",DataAll!N123)","v":{"$error":"#REF!"}},{"$f":"GrafikaHrany(E123,F123,G123,H123,DataAll!O123)","v":{"$error":"#VALUE!"}},{"$f":"IF(ISTEXT(DataAll!P123),DataAll!P123,\"\")","v":""},{"$f":"IF(AND(OR(ISTEXT(DataAll!Q123),DataAll!Q123<>0),A123<>\"\"),DataAll!Q123,\"\")","v":{"$error":"#REF!"}}]
[{"$f":"IF(ISTEXT(DataAll!A124),RemoveAccent(DataAll!A124),\"\")","v":""},{"$f":"IF(DataAll!B124=0,\"\",DataAll!B124)","v":{"$error":"#REF!"}},{"$f":"IF(DataAll!D124=0,\"\",DataAll!D124)","v":{"$error":"#REF!"}},{"$f":"IF(DataAll!F124=0,\"\",DataAll!F124)","v":{"$error":"#REF!"}},{"$f":"IF(DataAll!K124=0,\"\",DataAll!K124)","v":{"$error":"#REF!"}},{"$f":"IF(DataAll!L124=0,\"\",DataAll!L124)","v":{"$error":"#REF!"}},{"$f":"IF(DataAll!M124=0,\"\",DataAll!M124)","v":{"$error":"#REF!"}},{"$f":"IF(DataAll!N124=0,\"\",DataAll!N124)","v":{"$error":"#REF!"}},{"$f":"GrafikaHrany(E124,F124,G124,H124,DataAll!O124)","v":{"$error":"#VALUE!"}},{"$f":"IF(ISTEXT(DataAll!P124),DataAll!P124,\"\")","v":""},{"$f":"IF(AND(OR(ISTEXT(DataAll!Q124),DataAll!Q124<>0),A124<>\"\"),DataAll!Q124,\"\")","v":{"$error":"#REF!"}}]
[{"$f":"IF(ISTEXT(DataAll!A125),RemoveAccent(DataAll!A125),\"\")","v":""},{"$f":"IF(DataAll!B125=0,\"\",DataAll!B125)","v":{"$error":"#REF!"}},{"$f":"IF(DataAll!D125=0,\"\",DataAll!D125)","v":{"$error":"#REF!"}},{"$f":"IF(DataAll!F125=0,\"\",DataAll!F125)","v":{"$error":"#REF!"}},{"$f":"IF(DataAll!K125=0,\"\",DataAll!K125)","v":{"$error":"#REF!"}},{"$f":"IF(DataAll!L125=0,\"\",DataAll!L125)","v":{"$error":"#REF!"}},{"$f":"IF(DataAll!M125=0,\"\",DataAll!M125)","v":{"$error":"#REF!"}},{"$f":"IF(DataAll!N125=0,\"\",DataAll!N125)","v":{"$error":"#REF!"}},{"$f":"GrafikaHrany(E125,F125,G125,H125,DataAll!O125)","v":{"$error":"#VALUE!"}},{"$f":"IF(ISTEXT(DataAll!P125),DataAll!P125,\"\")","v":""},{"$f":"IF(AND(OR(ISTEXT(DataAll!Q125),DataAll!Q125<>0),A125<>\"\"),DataAll!Q125,\"\")","v":{"$error":"#REF!"}}]
[{"$f":"IF(ISTEXT(DataAll!A126),RemoveAccent(DataAll!A126),\"\")","v":""},{"$f":"IF(DataAll!B126=0,\"\",DataAll!B126)","v":{"$error":"#REF!"}},{"$f":"IF(DataAll!D126=0,\"\",DataAll!D126)","v":{"$error":"#REF!"}},{"$f":"IF(DataAll!F126=0,\"\",DataAll!F126)","v":{"$error":"#REF!"}},{"$f":"IF(DataAll!K126=0,\"\",DataAll!K126)","v":{"$error":"#REF!"}},{"$f":"IF(DataAll!L126=0,\"\",DataAll!L126)","v":{"$error":"#REF!"}},{"$f":"IF(DataAll!M126=0,\"\",DataAll!M126)","v":{"$error":"#REF!"}},{"$f":"IF(DataAll!N126=0,\"\",DataAll!N126)","v":{"$error":"#REF!"}},{"$f":"GrafikaHrany(E126,F126,G126,H126,DataAll!O126)","v":{"$error":"#VALUE!"}},{"$f":"IF(ISTEXT(DataAll!P126),DataAll!P126,\"\")","v":""},{"$f":"IF(AND(OR(ISTEXT(DataAll!Q126),DataAll!Q126<>0),A126<>\"\"),DataAll!Q126,\"\")","v":{"$error":"#REF!"}}]
[{"$f":"IF(ISTEXT(DataAll!A127),RemoveAccent(DataAll!A127),\"\")","v":""},{"$f":"IF(DataAll!B127=0,\"\",DataAll!B127)","v":{"$error":"#REF!"}},{"$f":"IF(DataAll!D127=0,\"\",DataAll!D127)","v":{"$error":"#REF!"}},{"$f":"IF(DataAll!F127=0,\"\",DataAll!F127)","v":{"$error":"#REF!"}},{"$f":"IF(DataAll!K127=0,\"\",DataAll!K127)","v":{"$error":"#REF!"}},{"$f":"IF(DataAll!L127=0,\"\",DataAll!L127)","v":{"$error":"#REF!"}},{"$f":"IF(DataAll!M127=0,\"\",DataAll!M127)","v":{"$error":"#REF!"}},{"$f":"IF(DataAll!N127=0,\"\",DataAll!N127)","v":{"$error":"#REF!"}},{"$f":"GrafikaHrany(E127,F127,G127,H127,DataAll!O127)","v":{"$error":"#VALUE!"}},{"$f":"IF(ISTEXT(DataAll!P127),DataAll!P127,\"\")","v":""},{"$f":"IF(AND(OR(ISTEXT(DataAll!Q127),DataAll!Q127<>0),A127<>\"\"),DataAll!Q127,\"\")","v":{"$error":"#REF!"}}]
[{"$f":"IF(ISTEXT(DataAll!A128),RemoveAccent(DataAll!A128),\"\")","v":""},{"$f":"IF(DataAll!B128=0,\"\",DataAll!B128)","v":{"$error":"#REF!"}},{"$f":"IF(DataAll!D128=0,\"\",DataAll!D128)","v":{"$error":"#REF!"}},{"$f":"IF(DataAll!F128=0,\"\",DataAll!F128)","v":{"$error":"#REF!"}},{"$f":"IF(DataAll!K128=0,\"\",DataAll!K128)","v":{"$error":"#REF!"}},{"$f":"IF(DataAll!L128=0,\"\",DataAll!L128)","v":{"$error":"#REF!"}},{"$f":"IF(DataAll!M128=0,\"\",DataAll!M128)","v":{"$error":"#REF!"}},{"$f":"IF(DataAll!N128=0,\"\",DataAll!N128)","v":{"$error":"#REF!"}},{"$f":"GrafikaHrany(E128,F128,G128,H128,DataAll!O128)","v":{"$error":"#VALUE!"}},{"$f":"IF(ISTEXT(DataAll!P128),DataAll!P128,\"\")","v":""},{"$f":"IF(AND(OR(ISTEXT(DataAll!Q128),DataAll!Q128<>0),A128<>\"\"),DataAll!Q128,\"\")","v":{"$error":"#REF!"}}]
[{"$f":"IF(ISTEXT(DataAll!A129),RemoveAccent(DataAll!A129),\"\")","v":""},{"$f":"IF(DataAll!B129=0,\"\",DataAll!B129)","v":{"$error":"#REF!"}},{"$f":"IF(DataAll!D129=0,\"\",DataAll!D129)","v":{"$error":"#REF!"}},{"$f":"IF(DataAll!F129=0,\"\",DataAll!F129)","v":{"$error":"#REF!"}},{"$f":"IF(DataAll!K129=0,\"\",DataAll!K129)","v":{"$error":"#REF!"}},{"$f":"IF(DataAll!L129=0,\"\",DataAll!L129)","v":{"$error":"#REF!"}},{"$f":"IF(DataAll!M129=0,\"\",DataAll!M129)","v":{"$error":"#REF!"}},{"$f":"IF(DataAll!N129=0,\"\",DataAll!N129)","v":{"$error":"#REF!"}},{"$f":"GrafikaHrany(E129,F129,G129,H129,DataAll!O129)","v":{"$error":"#VALUE!"}},{"$f":"IF(ISTEXT(DataAll!P129),DataAll!P129,\"\")","v":""},{"$f":"IF(AND(OR(ISTEXT(DataAll!Q129),DataAll!Q129<>0),A129<>\"\"),DataAll!Q129,\"\")","v":{"$error":"#REF!"}}]
[{"$f":"IF(ISTEXT(DataAll!A130),RemoveAccent(DataAll!A130),\"\")","v":""},{"$f":"IF(DataAll!B130=0,\"\",DataAll!B130)","v":{"$error":"#REF!"}},{"$f":"IF(DataAll!D130=0,\"\",DataAll!D130)","v":{"$error":"#REF!"}},{"$f":"IF(DataAll!F130=0,\"\",DataAll!F130)","v":{"$error":"#REF!"}},{"$f":"IF(DataAll!K130=0,\"\",DataAll!K130)","v":{"$error":"#REF!"}},{"$f":"IF(DataAll!L130=0,\"\",DataAll!L130)","v":{"$error":"#REF!"}},{"$f":"IF(DataAll!M130=0,\"\",DataAll!M130)","v":{"$error":"#REF!"}},{"$f":"IF(DataAll!N130=0,\"\",DataAll!N130)","v":{"$error":"#REF!"}},{"$f":"GrafikaHrany(E130,F130,G130,H130,DataAll!O130)","v":{"$error":"#VALUE!"}},{"$f":"IF(ISTEXT(DataAll!P130),DataAll!P130,\"\")","v":""},{"$f":"IF(AND(OR(ISTEXT(DataAll!Q130),DataAll!Q130<>0),A130<>\"\"),DataAll!Q130,\"\")","v":{"$error":"#REF!"}}]
[{"$f":"IF(ISTEXT(DataAll!A131),RemoveAccent(DataAll!A131),\"\")","v":""},{"$f":"IF(DataAll!B131=0,\"\",DataAll!B131)","v":{"$error":"#REF!"}},{"$f":"IF(DataAll!D131=0,\"\",DataAll!D131)","v":{"$error":"#REF!"}},{"$f":"IF(DataAll!F131=0,\"\",DataAll!F131)","v":{"$error":"#REF!"}},{"$f":"IF(DataAll!K131=0,\"\",DataAll!K131)","v":{"$error":"#REF!"}},{"$f":"IF(DataAll!L131=0,\"\",DataAll!L131)","v":{"$error":"#REF!"}},{"$f":"IF(DataAll!M131=0,\"\",DataAll!M131)","v":{"$error":"#REF!"}},{"$f":"IF(DataAll!N131=0,\"\",DataAll!N131)","v":{"$error":"#REF!"}},{"$f":"GrafikaHrany(E131,F131,G131,H131,DataAll!O131)","v":{"$error":"#VALUE!"}},{"$f":"IF(ISTEXT(DataAll!P131),DataAll!P131,\"\")","v":""},{"$f":"IF(AND(OR(ISTEXT(DataAll!Q131),DataAll!Q131<>0),A131<>\"\"),DataAll!Q131,\"\")","v":{"$error":"#REF!"}}]
[{"$f":"IF(ISTEXT(DataAll!A132),RemoveAccent(DataAll!A132),\"\")","v":""},{"$f":"IF(DataAll!B132=0,\"\",DataAll!B132)","v":{"$error":"#REF!"}},{"$f":"IF(DataAll!D132=0,\"\",DataAll!D132)","v":{"$error":"#REF!"}},{"$f":"IF(DataAll!F132=0,\"\",DataAll!F132)","v":{"$error":"#REF!"}},{"$f":"IF(DataAll!K132=0,\"\",DataAll!K132)","v":{"$error":"#REF!"}},{"$f":"IF(DataAll!L132=0,\"\",DataAll!L132)","v":{"$error":"#REF!"}},{"$f":"IF(DataAll!M132=0,\"\",DataAll!M132)","v":{"$error":"#REF!"}},{"$f":"IF(DataAll!N132=0,\"\",DataAll!N132)","v":{"$error":"#REF!"}},{"$f":"GrafikaHrany(E132,F132,G132,H132,DataAll!O132)","v":{"$error":"#VALUE!"}},{"$f":"IF(ISTEXT(DataAll!P132),DataAll!P132,\"\")","v":""},{"$f":"IF(AND(OR(ISTEXT(DataAll!Q132),DataAll!Q132<>0),A132<>\"\"),DataAll!Q132,\"\")","v":{"$error":"#REF!"}}]
[{"$f":"IF(ISTEXT(DataAll!A133),RemoveAccent(DataAll!A133),\"\")","v":""},{"$f":"IF(DataAll!B133=0,\"\",DataAll!B133)","v":{"$error":"#REF!"}},{"$f":"IF(DataAll!D133=0,\"\",DataAll!D133)","v":{"$error":"#REF!"}},{"$f":"IF(DataAll!F133=0,\"\",DataAll!F133)","v":{"$error":"#REF!"}},{"$f":"IF(DataAll!K133=0,\"\",DataAll!K133)","v":{"$error":"#REF!"}},{"$f":"IF(DataAll!L133=0,\"\",DataAll!L133)","v":{"$error":"#REF!"}},{"$f":"IF(DataAll!M133=0,\"\",DataAll!M133)","v":{"$error":"#REF!"}},{"$f":"IF(DataAll!N133=0,\"\",DataAll!N133)","v":{"$error":"#REF!"}},{"$f":"GrafikaHrany(E133,F133,G133,H133,DataAll!O133)","v":{"$error":"#VALUE!"}},{"$f":"IF(ISTEXT(DataAll!P133),DataAll!P133,\"\")","v":""},{"$f":"IF(AND(OR(ISTEXT(DataAll!Q133),DataAll!Q133<>0),A133<>\"\"),DataAll!Q133,\"\")","v":{"$error":"#REF!"}}]
[{"$f":"IF(ISTEXT(DataAll!A134),RemoveAccent(DataAll!A134),\"\")","v":""},{"$f":"IF(DataAll!B134=0,\"\",DataAll!B134)","v":{"$error":"#REF!"}},{"$f":"IF(DataAll!D134=0,\"\",DataAll!D134)","v":{"$error":"#REF!"}},{"$f":"IF(DataAll!F134=0,\"\",DataAll!F134)","v":{"$error":"#REF!"}},{"$f":"IF(DataAll!K134=0,\"\",DataAll!K134)","v":{"$error":"#REF!"}},{"$f":"IF(DataAll!L134=0,\"\",DataAll!L134)","v":{"$error":"#REF!"}},{"$f":"IF(DataAll!M134=0,\"\",DataAll!M134)","v":{"$error":"#REF!"}},{"$f":"IF(DataAll!N134=0,\"\",DataAll!N134)","v":{"$error":"#REF!"}},{"$f":"GrafikaHrany(E134,F134,G134,H134,DataAll!O134)","v":{"$error":"#VALUE!"}},{"$f":"IF(ISTEXT(DataAll!P134),DataAll!P134,\"\")","v":""},{"$f":"IF(AND(OR(ISTEXT(DataAll!Q134),DataAll!Q134<>0),A134<>\"\"),DataAll!Q134,\"\")","v":{"$error":"#REF!"}}]
[{"$f":"IF(ISTEXT(DataAll!A135),RemoveAccent(DataAll!A135),\"\")","v":""},{"$f":"IF(DataAll!B135=0,\"\",DataAll!B135)","v":{"$error":"#REF!"}},{"$f":"IF(DataAll!D135=0,\"\",DataAll!D135)","v":{"$error":"#REF!"}},{"$f":"IF(DataAll!F135=0,\"\",DataAll!F135)","v":{"$error":"#REF!"}},{"$f":"IF(DataAll!K135=0,\"\",DataAll!K135)","v":{"$error":"#REF!"}},{"$f":"IF(DataAll!L135=0,\"\",DataAll!L135)","v":{"$error":"#REF!"}},{"$f":"IF(DataAll!M135=0,\"\",DataAll!M135)","v":{"$error":"#REF!"}},{"$f":"IF(DataAll!N135=0,\"\",DataAll!N135)","v":{"$error":"#REF!"}},{"$f":"GrafikaHrany(E135,F135,G135,H135,DataAll!O135)","v":{"$error":"#VALUE!"}},{"$f":"IF(ISTEXT(DataAll!P135),DataAll!P135,\"\")","v":""},{"$f":"IF(AND(OR(ISTEXT(DataAll!Q135),DataAll!Q135<>0),A135<>\"\"),DataAll!Q135,\"\")","v":{"$error":"#REF!"}}]
[{"$f":"IF(ISTEXT(DataAll!A136),RemoveAccent(DataAll!A136),\"\")","v":""},{"$f":"IF(DataAll!B136=0,\"\",DataAll!B136)","v":{"$error":"#REF!"}},{"$f":"IF(DataAll!D136=0,\"\",DataAll!D136)","v":{"$error":"#REF!"}},{"$f":"IF(DataAll!F136=0,\"\",DataAll!F136)","v":{"$error":"#REF!"}},{"$f":"IF(DataAll!K136=0,\"\",DataAll!K136)","v":{"$error":"#REF!"}},{"$f":"IF(DataAll!L136=0,\"\",DataAll!L136)","v":{"$error":"#REF!"}},{"$f":"IF(DataAll!M136=0,\"\",DataAll!M136)","v":{"$error":"#REF!"}},{"$f":"IF(DataAll!N136=0,\"\",DataAll!N136)","v":{"$error":"#REF!"}},{"$f":"GrafikaHrany(E136,F136,G136,H136,DataAll!O136)","v":{"$error":"#VALUE!"}},{"$f":"IF(ISTEXT(DataAll!P136),DataAll!P136,\"\")","v":""},{"$f":"IF(AND(OR(ISTEXT(DataAll!Q136),DataAll!Q136<>0),A136<>\"\"),DataAll!Q136,\"\")","v":{"$error":"#REF!"}}]
[{"$f":"IF(ISTEXT(DataAll!A137),RemoveAccent(DataAll!A137),\"\")","v":""},{"$f":"IF(DataAll!B137=0,\"\",DataAll!B137)","v":{"$error":"#REF!"}},{"$f":"IF(DataAll!D137=0,\"\",DataAll!D137)","v":{"$error":"#REF!"}},{"$f":"IF(DataAll!F137=0,\"\",DataAll!F137)","v":{"$error":"#REF!"}},{"$f":"IF(DataAll!K137=0,\"\",DataAll!K137)","v":{"$error":"#REF!"}},{"$f":"IF(DataAll!L137=0,\"\",DataAll!L137)","v":{"$error":"#REF!"}},{"$f":"IF(DataAll!M137=0,\"\",DataAll!M137)","v":{"$error":"#REF!"}},{"$f":"IF(DataAll!N137=0,\"\",DataAll!N137)","v":{"$error":"#REF!"}},{"$f":"GrafikaHrany(E137,F137,G137,H137,DataAll!O137)","v":{"$error":"#VALUE!"}},{"$f":"IF(ISTEXT(DataAll!P137),DataAll!P137,\"\")","v":""},{"$f":"IF(AND(OR(ISTEXT(DataAll!Q137),DataAll!Q137<>0),A137<>\"\"),DataAll!Q137,\"\")","v":{"$error":"#REF!"}}]
[{"$f":"IF(ISTEXT(DataAll!A138),RemoveAccent(DataAll!A138),\"\")","v":""},{"$f":"IF(DataAll!B138=0,\"\",DataAll!B138)","v":{"$error":"#REF!"}},{"$f":"IF(DataAll!D138=0,\"\",DataAll!D138)","v":{"$error":"#REF!"}},{"$f":"IF(DataAll!F138=0,\"\",DataAll!F138)","v":{"$error":"#REF!"}},{"$f":"IF(DataAll!K138=0,\"\",DataAll!K138)","v":{"$error":"#REF!"}},{"$f":"IF(DataAll!L138=0,\"\",DataAll!L138)","v":{"$error":"#REF!"}},{"$f":"IF(DataAll!M138=0,\"\",DataAll!M138)","v":{"$error":"#REF!"}},{"$f":"IF(DataAll!N138=0,\"\",DataAll!N138)","v":{"$error":"#REF!"}},{"$f":"GrafikaHrany(E138,F138,G138,H138,DataAll!O138)","v":{"$error":"#VALUE!"}},{"$f":"IF(ISTEXT(DataAll!P138),DataAll!P138,\"\")","v":""},{"$f":"IF(AND(OR(ISTEXT(DataAll!Q138),DataAll!Q138<>0),A138<>\"\"),DataAll!Q138,\"\")","v":{"$error":"#REF!"}}]
[{"$f":"IF(ISTEXT(DataAll!A139),RemoveAccent(DataAll!A139),\"\")","v":""},{"$f":"IF(DataAll!B139=0,\"\",DataAll!B139)","v":{"$error":"#REF!"}},{"$f":"IF(DataAll!D139=0,\"\",DataAll!D139)","v":{"$error":"#REF!"}},{"$f":"IF(DataAll!F139=0,\"\",DataAll!F139)","v":{"$error":"#REF!"}},{"$f":"IF(DataAll!K139=0,\"\",DataAll!K139)","v":{"$error":"#REF!"}},{"$f":"IF(DataAll!L139=0,\"\",DataAll!L139)","v":{"$error":"#REF!"}},{"$f":"IF(DataAll!M139=0,\"\",DataAll!M139)","v":{"$error":"#REF!"}},{"$f":"IF(DataAll!N139=0,\"\",DataAll!N139)","v":{"$error":"#REF!"}},{"$f":"GrafikaHrany(E139,F139,G139,H139,DataAll!O139)","v":{"$error":"#VALUE!"}},{"$f":"IF(ISTEXT(DataAll!P139),DataAll!P139,\"\")","v":""},{"$f":"IF(AND(OR(ISTEXT(DataAll!Q139),DataAll!Q139<>0),A139<>\"\"),DataAll!Q139,\"\")","v":{"$error":"#REF!"}}]
[{"$f":"IF(ISTEXT(DataAll!A140),RemoveAccent(DataAll!A140),\"\")","v":""},{"$f":"IF(DataAll!B140=0,\"\",DataAll!B140)","v":{"$error":"#REF!"}},{"$f":"IF(DataAll!D140=0,\"\",DataAll!D140)","v":{"$error":"#REF!"}},{"$f":"IF(DataAll!F140=0,\"\",DataAll!F140)","v":{"$error":"#REF!"}},{"$f":"IF(DataAll!K140=0,\"\",DataAll!K140)","v":{"$error":"#REF!"}},{"$f":"IF(DataAll!L140=0,\"\",DataAll!L140)","v":{"$error":"#REF!"}},{"$f":"IF(DataAll!M140=0,\"\",DataAll!M140)","v":{"$error":"#REF!"}},{"$f":"IF(DataAll!N140=0,\"\",DataAll!N140)","v":{"$error":"#REF!"}},{"$f":"GrafikaHrany(E140,F140,G140,H140,DataAll!O140)","v":{"$error":"#VALUE!"}},{"$f":"IF(ISTEXT(DataAll!P140),DataAll!P140,\"\")","v":""},{"$f":"IF(AND(OR(ISTEXT(DataAll!Q140),DataAll!Q140<>0),A140<>\"\"),DataAll!Q140,\"\")","v":{"$error":"#REF!"}}]
[{"$f":"IF(ISTEXT(DataAll!A141),RemoveAccent(DataAll!A141),\"\")","v":""},{"$f":"IF(DataAll!B141=0,\"\",DataAll!B141)","v":{"$error":"#REF!"}},{"$f":"IF(DataAll!D141=0,\"\",DataAll!D141)","v":{"$error":"#REF!"}},{"$f":"IF(DataAll!F141=0,\"\",DataAll!F141)","v":{"$error":"#REF!"}},{"$f":"IF(DataAll!K141=0,\"\",DataAll!K141)","v":{"$error":"#REF!"}},{"$f":"IF(DataAll!L141=0,\"\",DataAll!L141)","v":{"$error":"#REF!"}},{"$f":"IF(DataAll!M141=0,\"\",DataAll!M141)","v":{"$error":"#REF!"}},{"$f":"IF(DataAll!N141=0,\"\",DataAll!N141)","v":{"$error":"#REF!"}},{"$f":"GrafikaHrany(E141,F141,G141,H141,DataAll!O141)","v":{"$error":"#VALUE!"}},{"$f":"IF(ISTEXT(DataAll!P141),DataAll!P141,\"\")","v":""},{"$f":"IF(AND(OR(ISTEXT(DataAll!Q141),DataAll!Q141<>0),A141<>\"\"),DataAll!Q141,\"\")","v":{"$error":"#REF!"}}]
[{"$f":"IF(ISTEXT(DataAll!A142),RemoveAccent(DataAll!A142),\"\")","v":""},{"$f":"IF(DataAll!B142=0,\"\",DataAll!B142)","v":{"$error":"#REF!"}},{"$f":"IF(DataAll!D142=0,\"\",DataAll!D142)","v":{"$error":"#REF!"}},{"$f":"IF(DataAll!F142=0,\"\",DataAll!F142)","v":{"$error":"#REF!"}},{"$f":"IF(DataAll!K142=0,\"\",DataAll!K142)","v":{"$error":"#REF!"}},{"$f":"IF(DataAll!L142=0,\"\",DataAll!L142)","v":{"$error":"#REF!"}},{"$f":"IF(DataAll!M142=0,\"\",DataAll!M142)","v":{"$error":"#REF!"}},{"$f":"IF(DataAll!N142=0,\"\",DataAll!N142)","v":{"$error":"#REF!"}},{"$f":"GrafikaHrany(E142,F142,G142,H142,DataAll!O142)","v":{"$error":"#VALUE!"}},{"$f":"IF(ISTEXT(DataAll!P142),DataAll!P142,\"\")","v":""},{"$f":"IF(AND(OR(ISTEXT(DataAll!Q142),DataAll!Q142<>0),A142<>\"\"),DataAll!Q142,\"\")","v":{"$error":"#REF!"}}]
[{"$f":"IF(ISTEXT(DataAll!A143),RemoveAccent(DataAll!A143),\"\")","v":""},{"$f":"IF(DataAll!B143=0,\"\",DataAll!B143)","v":{"$error":"#REF!"}},{"$f":"IF(DataAll!D143=0,\"\",DataAll!D143)","v":{"$error":"#REF!"}},{"$f":"IF(DataAll!F143=0,\"\",DataAll!F143)","v":{"$error":"#REF!"}},{"$f":"IF(DataAll!K143=0,\"\",DataAll!K143)","v":{"$error":"#REF!"}},{"$f":"IF(DataAll!L143=0,\"\",DataAll!L143)","v":{"$error":"#REF!"}},{"$f":"IF(DataAll!M143=0,\"\",DataAll!M143)","v":{"$error":"#REF!"}},{"$f":"IF(DataAll!N143=0,\"\",DataAll!N143)","v":{"$error":"#REF!"}},{"$f":"GrafikaHrany(E143,F143,G143,H143,DataAll!O143)","v":{"$error":"#VALUE!"}},{"$f":"IF(ISTEXT(DataAll!P143),DataAll!P143,\"\")","v":""},{"$f":"IF(AND(OR(ISTEXT(DataAll!Q143),DataAll!Q143<>0),A143<>\"\"),DataAll!Q143,\"\")","v":{"$error":"#REF!"}}]
[{"$f":"IF(ISTEXT(DataAll!A144),RemoveAccent(DataAll!A144),\"\")","v":""},{"$f":"IF(DataAll!B144=0,\"\",DataAll!B144)","v":{"$error":"#REF!"}},{"$f":"IF(DataAll!D144=0,\"\",DataAll!D144)","v":{"$error":"#REF!"}},{"$f":"IF(DataAll!F144=0,\"\",DataAll!F144)","v":{"$error":"#REF!"}},{"$f":"IF(DataAll!K144=0,\"\",DataAll!K144)","v":{"$error":"#REF!"}},{"$f":"IF(DataAll!L144=0,\"\",DataAll!L144)","v":{"$error":"#REF!"}},{"$f":"IF(DataAll!M144=0,\"\",DataAll!M144)","v":{"$error":"#REF!"}},{"$f":"IF(DataAll!N144=0,\"\",DataAll!N144)","v":{"$error":"#REF!"}},{"$f":"GrafikaHrany(E144,F144,G144,H144,DataAll!O144)","v":{"$error":"#VALUE!"}},{"$f":"IF(ISTEXT(DataAll!P144),DataAll!P144,\"\")","v":""},{"$f":"IF(AND(OR(ISTEXT(DataAll!Q144),DataAll!Q144<>0),A144<>\"\"),DataAll!Q144,\"\")","v":{"$error":"#REF!"}}]
[{"$f":"IF(ISTEXT(DataAll!A145),RemoveAccent(DataAll!A145),\"\")","v":""},{"$f":"IF(DataAll!B145=0,\"\",DataAll!B145)","v":{"$error":"#REF!"}},{"$f":"IF(DataAll!D145=0,\"\",DataAll!D145)","v":{"$error":"#REF!"}},{"$f":"IF(DataAll!F145=0,\"\",DataAll!F145)","v":{"$error":"#REF!"}},{"$f":"IF(DataAll!K145=0,\"\",DataAll!K145)","v":{"$error":"#REF!"}},{"$f":"IF(DataAll!L145=0,\"\",DataAll!L145)","v":{"$error":"#REF!"}},{"$f":"IF(DataAll!M145=0,\"\",DataAll!M145)","v":{"$error":"#REF!"}},{"$f":"IF(DataAll!N145=0,\"\",DataAll!N145)","v":{"$error":"#REF!"}},{"$f":"GrafikaHrany(E145,F145,G145,H145,DataAll!O145)","v":{"$error":"#VALUE!"}},{"$f":"IF(ISTEXT(DataAll!P145),DataAll!P145,\"\")","v":""},{"$f":"IF(AND(OR(ISTEXT(DataAll!Q145),DataAll!Q145<>0),A145<>\"\"),DataAll!Q145,\"\")","v":{"$error":"#REF!"}}]
[{"$f":"IF(ISTEXT(DataAll!A146),RemoveAccent(DataAll!A146),\"\")","v":""},{"$f":"IF(DataAll!B146=0,\"\",DataAll!B146)","v":{"$error":"#REF!"}},{"$f":"IF(DataAll!D146=0,\"\",DataAll!D146)","v":{"$error":"#REF!"}},{"$f":"IF(DataAll!F146=0,\"\",DataAll!F146)","v":{"$error":"#REF!"}},{"$f":"IF(DataAll!K146=0,\"\",DataAll!K146)","v":{"$error":"#REF!"}},{"$f":"IF(DataAll!L146=0,\"\",DataAll!L146)","v":{"$error":"#REF!"}},{"$f":"IF(DataAll!M146=0,\"\",DataAll!M146)","v":{"$error":"#REF!"}},{"$f":"IF(DataAll!N146=0,\"\",DataAll!N146)","v":{"$error":"#REF!"}},{"$f":"GrafikaHrany(E146,F146,G146,H146,DataAll!O146)","v":{"$error":"#VALUE!"}},{"$f":"IF(ISTEXT(DataAll!P146),DataAll!P146,\"\")","v":""},{"$f":"IF(AND(OR(ISTEXT(DataAll!Q146),DataAll!Q146<>0),A146<>\"\"),DataAll!Q146,\"\")","v":{"$error":"#REF!"}}]
[{"$f":"IF(ISTEXT(DataAll!A147),RemoveAccent(DataAll!A147),\"\")","v":""},{"$f":"IF(DataAll!B147=0,\"\",DataAll!B147)","v":{"$error":"#REF!"}},{"$f":"IF(DataAll!D147=0,\"\",DataAll!D147)","v":{"$error":"#REF!"}},{"$f":"IF(DataAll!F147=0,\"\",DataAll!F147)","v":{"$error":"#REF!"}},{"$f":"IF(DataAll!K147=0,\"\",DataAll!K147)","v":{"$error":"#REF!"}},{"$f":"IF(DataAll!L147=0,\"\",DataAll!L147)","v":{"$error":"#REF!"}},{"$f":"IF(DataAll!M147=0,\"\",DataAll!M147)","v":{"$error":"#REF!"}},{"$f":"IF(DataAll!N147=0,\"\",DataAll!N147)","v":{"$error":"#REF!"}},{"$f":"GrafikaHrany(E147,F147,G147,H147,DataAll!O147)","v":{"$error":"#VALUE!"}},{"$f":"IF(ISTEXT(DataAll!P147),DataAll!P147,\"\")","v":""},{"$f":"IF(AND(OR(ISTEXT(DataAll!Q147),DataAll!Q147<>0),A147<>\"\"),DataAll!Q147,\"\")","v":{"$error":"#REF!"}}]
[{"$f":"IF(ISTEXT(DataAll!A148),RemoveAccent(DataAll!A148),\"\")","v":""},{"$f":"IF(DataAll!B148=0,\"\",DataAll!B148)","v":{"$error":"#REF!"}},{"$f":"IF(DataAll!D148=0,\"\",DataAll!D148)","v":{"$error":"#REF!"}},{"$f":"IF(DataAll!F148=0,\"\",DataAll!F148)","v":{"$error":"#REF!"}},{"$f":"IF(DataAll!K148=0,\"\",DataAll!K148)","v":{"$error":"#REF!"}},{"$f":"IF(DataAll!L148=0,\"\",DataAll!L148)","v":{"$error":"#REF!"}},{"$f":"IF(DataAll!M148=0,\"\",DataAll!M148)","v":{"$error":"#REF!"}},{"$f":"IF(DataAll!N148=0,\"\",DataAll!N148)","v":{"$error":"#REF!"}},{"$f":"GrafikaHrany(E148,F148,G148,H148,DataAll!O148)","v":{"$error":"#VALUE!"}},{"$f":"IF(ISTEXT(DataAll!P148),DataAll!P148,\"\")","v":""},{"$f":"IF(AND(OR(ISTEXT(DataAll!Q148),DataAll!Q148<>0),A148<>\"\"),DataAll!Q148,\"\")","v":{"$error":"#REF!"}}]
[{"$f":"IF(ISTEXT(DataAll!A149),RemoveAccent(DataAll!A149),\"\")","v":""},{"$f":"IF(DataAll!B149=0,\"\",DataAll!B149)","v":{"$error":"#REF!"}},{"$f":"IF(DataAll!D149=0,\"\",DataAll!D149)","v":{"$error":"#REF!"}},{"$f":"IF(DataAll!F149=0,\"\",DataAll!F149)","v":{"$error":"#REF!"}},{"$f":"IF(DataAll!K149=0,\"\",DataAll!K149)","v":{"$error":"#REF!"}},{"$f":"IF(DataAll!L149=0,\"\",DataAll!L149)","v":{"$error":"#REF!"}},{"$f":"IF(DataAll!M149=0,\"\",DataAll!M149)","v":{"$error":"#REF!"}},{"$f":"IF(DataAll!N149=0,\"\",DataAll!N149)","v":{"$error":"#REF!"}},{"$f":"GrafikaHrany(E149,F149,G149,H149,DataAll!O149)","v":{"$error":"#VALUE!"}},{"$f":"IF(ISTEXT(DataAll!P149),DataAll!P149,\"\")","v":""},{"$f":"IF(AND(OR(ISTEXT(DataAll!Q149),DataAll!Q149<>0),A149<>\"\"),DataAll!Q149,\"\")","v":{"$error":"#REF!"}}]
[{"$f":"IF(ISTEXT(DataAll!A150),RemoveAccent(DataAll!A150),\"\")","v":""},{"$f":"IF(DataAll!B150=0,\"\",DataAll!B150)","v":{"$error":"#REF!"}},{"$f":"IF(DataAll!D150=0,\"\",DataAll!D150)","v":{"$error":"#REF!"}},{"$f":"IF(DataAll!F150=0,\"\",DataAll!F150)","v":{"$error":"#REF!"}},{"$f":"IF(DataAll!K150=0,\"\",DataAll!K150)","v":{"$error":"#REF!"}},{"$f":"IF(DataAll!L150=0,\"\",DataAll!L150)","v":{"$error":"#REF!"}},{"$f":"IF(DataAll!M150=0,\"\",DataAll!M150)","v":{"$error":"#REF!"}},{"$f":"IF(DataAll!N150=0,\"\",DataAll!N150)","v":{"$error":"#REF!"}},{"$f":"GrafikaHrany(E150,F150,G150,H150,DataAll!O150)","v":{"$error":"#VALUE!"}},{"$f":"IF(ISTEXT(DataAll!P150),DataAll!P150,\"\")","v":""},{"$f":"IF(AND(OR(ISTEXT(DataAll!Q150),DataAll!Q150<>0),A150<>\"\"),DataAll!Q150,\"\")","v":{"$error":"#REF!"}}]
[{"$f":"IF(ISTEXT(DataAll!A151),RemoveAccent(DataAll!A151),\"\")","v":""},{"$f":"IF(DataAll!B151=0,\"\",DataAll!B151)","v":{"$error":"#REF!"}},{"$f":"IF(DataAll!D151=0,\"\",DataAll!D151)","v":{"$error":"#REF!"}},{"$f":"IF(DataAll!F151=0,\"\",DataAll!F151)","v":{"$error":"#REF!"}},{"$f":"IF(DataAll!K151=0,\"\",DataAll!K151)","v":{"$error":"#REF!"}},{"$f":"IF(DataAll!L151=0,\"\",DataAll!L151)","v":{"$error":"#REF!"}},{"$f":"IF(DataAll!M151=0,\"\",DataAll!M151)","v":{"$error":"#REF!"}},{"$f":"IF(DataAll!N151=0,\"\",DataAll!N151)","v":{"$error":"#REF!"}},{"$f":"GrafikaHrany(E151,F151,G151,H151,DataAll!O151)","v":{"$error":"#VALUE!"}},{"$f":"IF(ISTEXT(DataAll!P151),DataAll!P151,\"\")","v":""},{"$f":"IF(AND(OR(ISTEXT(DataAll!Q151),DataAll!Q151<>0),A151<>\"\"),DataAll!Q151,\"\")","v":{"$error":"#REF!"}}]
[{"$f":"IF(ISTEXT(DataAll!A152),RemoveAccent(DataAll!A152),\"\")","v":""},{"$f":"IF(DataAll!B152=0,\"\",DataAll!B152)","v":{"$error":"#REF!"}},{"$f":"IF(DataAll!D152=0,\"\",DataAll!D152)","v":{"$error":"#REF!"}},{"$f":"IF(DataAll!F152=0,\"\",DataAll!F152)","v":{"$error":"#REF!"}},{"$f":"IF(DataAll!K152=0,\"\",DataAll!K152)","v":{"$error":"#REF!"}},{"$f":"IF(DataAll!L152=0,\"\",DataAll!L152)","v":{"$error":"#REF!"}},{"$f":"IF(DataAll!M152=0,\"\",DataAll!M152)","v":{"$error":"#REF!"}},{"$f":"IF(DataAll!N152=0,\"\",DataAll!N152)","v":{"$error":"#REF!"}},{"$f":"GrafikaHrany(E152,F152,G152,H152,DataAll!O152)","v":{"$error":"#VALUE!"}},{"$f":"IF(ISTEXT(DataAll!P152),DataAll!P152,\"\")","v":""},{"$f":"IF(AND(OR(ISTEXT(DataAll!Q152),DataAll!Q152<>0),A152<>\"\"),DataAll!Q152,\"\")","v":{"$error":"#REF!"}}]
[{"$f":"IF(ISTEXT(DataAll!A153),RemoveAccent(DataAll!A153),\"\")","v":""},{"$f":"IF(DataAll!B153=0,\"\",DataAll!B153)","v":{"$error":"#REF!"}},{"$f":"IF(DataAll!D153=0,\"\",DataAll!D153)","v":{"$error":"#REF!"}},{"$f":"IF(DataAll!F153=0,\"\",DataAll!F153)","v":{"$error":"#REF!"}},{"$f":"IF(DataAll!K153=0,\"\",DataAll!K153)","v":{"$error":"#REF!"}},{"$f":"IF(DataAll!L153=0,\"\",DataAll!L153)","v":{"$error":"#REF!"}},{"$f":"IF(DataAll!M153=0,\"\",DataAll!M153)","v":{"$error":"#REF!"}},{"$f":"IF(DataAll!N153=0,\"\",DataAll!N153)","v":{"$error":"#REF!"}},{"$f":"GrafikaHrany(E153,F153,G153,H153,DataAll!O153)","v":{"$error":"#VALUE!"}},{"$f":"IF(ISTEXT(DataAll!P153),DataAll!P153,\"\")","v":""},{"$f":"IF(AND(OR(ISTEXT(DataAll!Q153),DataAll!Q153<>0),A153<>\"\"),DataAll!Q153,\"\")","v":{"$error":"#REF!"}}]
[{"$f":"IF(ISTEXT(DataAll!A154),RemoveAccent(DataAll!A154),\"\")","v":""},{"$f":"IF(DataAll!B154=0,\"\",DataAll!B154)","v":{"$error":"#REF!"}},{"$f":"IF(DataAll!D154=0,\"\",DataAll!D154)","v":{"$error":"#REF!"}},{"$f":"IF(DataAll!F154=0,\"\",DataAll!F154)","v":{"$error":"#REF!"}},{"$f":"IF(DataAll!K154=0,\"\",DataAll!K154)","v":{"$error":"#REF!"}},{"$f":"IF(DataAll!L154=0,\"\",DataAll!L154)","v":{"$error":"#REF!"}},{"$f":"IF(DataAll!M154=0,\"\",DataAll!M154)","v":{"$error":"#REF!"}},{"$f":"IF(DataAll!N154=0,\"\",DataAll!N154)","v":{"$error":"#REF!"}},{"$f":"GrafikaHrany(E154,F154,G154,H154,DataAll!O154)","v":{"$error":"#VALUE!"}},{"$f":"IF(ISTEXT(DataAll!P154),DataAll!P154,\"\")","v":""},{"$f":"IF(AND(OR(ISTEXT(DataAll!Q154),DataAll!Q154<>0),A154<>\"\"),DataAll!Q154,\"\")","v":{"$error":"#REF!"}}]
[{"$f":"IF(ISTEXT(DataAll!A155),RemoveAccent(DataAll!A155),\"\")","v":""},{"$f":"IF(DataAll!B155=0,\"\",DataAll!B155)","v":{"$error":"#REF!"}},{"$f":"IF(DataAll!D155=0,\"\",DataAll!D155)","v":{"$error":"#REF!"}},{"$f":"IF(DataAll!F155=0,\"\",DataAll!F155)","v":{"$error":"#REF!"}},{"$f":"IF(DataAll!K155=0,\"\",DataAll!K155)","v":{"$error":"#REF!"}},{"$f":"IF(DataAll!L155=0,\"\",DataAll!L155)","v":{"$error":"#REF!"}},{"$f":"IF(DataAll!M155=0,\"\",DataAll!M155)","v":{"$error":"#REF!"}},{"$f":"IF(DataAll!N155=0,\"\",DataAll!N155)","v":{"$error":"#REF!"}},{"$f":"GrafikaHrany(E155,F155,G155,H155,DataAll!O155)","v":{"$error":"#VALUE!"}},{"$f":"IF(ISTEXT(DataAll!P155),DataAll!P155,\"\")","v":""},{"$f":"IF(AND(OR(ISTEXT(DataAll!Q155),DataAll!Q155<>0),A155<>\"\"),DataAll!Q155,\"\")","v":{"$error":"#REF!"}}]
[{"$f":"IF(ISTEXT(DataAll!A156),RemoveAccent(DataAll!A156),\"\")","v":""},{"$f":"IF(DataAll!B156=0,\"\",DataAll!B156)","v":{"$error":"#REF!"}},{"$f":"IF(DataAll!D156=0,\"\",DataAll!D156)","v":{"$error":"#REF!"}},{"$f":"IF(DataAll!F156=0,\"\",DataAll!F156)","v":{"$error":"#REF!"}},{"$f":"IF(DataAll!K156=0,\"\",DataAll!K156)","v":{"$error":"#REF!"}},{"$f":"IF(DataAll!L156=0,\"\",DataAll!L156)","v":{"$error":"#REF!"}},{"$f":"IF(DataAll!M156=0,\"\",DataAll!M156)","v":{"$error":"#REF!"}},{"$f":"IF(DataAll!N156=0,\"\",DataAll!N156)","v":{"$error":"#REF!"}},{"$f":"GrafikaHrany(E156,F156,G156,H156,DataAll!O156)","v":{"$error":"#VALUE!"}},{"$f":"IF(ISTEXT(DataAll!P156),DataAll!P156,\"\")","v":""},{"$f":"IF(AND(OR(ISTEXT(DataAll!Q156),DataAll!Q156<>0),A156<>\"\"),DataAll!Q156,\"\")","v":{"$error":"#REF!"}}]
[{"$f":"IF(ISTEXT(DataAll!A157),RemoveAccent(DataAll!A157),\"\")","v":""},{"$f":"IF(DataAll!B157=0,\"\",DataAll!B157)","v":{"$error":"#REF!"}},{"$f":"IF(DataAll!D157=0,\"\",DataAll!D157)","v":{"$error":"#REF!"}},{"$f":"IF(DataAll!F157=0,\"\",DataAll!F157)","v":{"$error":"#REF!"}},{"$f":"IF(DataAll!K157=0,\"\",DataAll!K157)","v":{"$error":"#REF!"}},{"$f":"IF(DataAll!L157=0,\"\",DataAll!L157)","v":{"$error":"#REF!"}},{"$f":"IF(DataAll!M157=0,\"\",DataAll!M157)","v":{"$error":"#REF!"}},{"$f":"IF(DataAll!N157=0,\"\",DataAll!N157)","v":{"$error":"#REF!"}},{"$f":"GrafikaHrany(E157,F157,G157,H157,DataAll!O157)","v":{"$error":"#VALUE!"}},{"$f":"IF(ISTEXT(DataAll!P157),DataAll!P157,\"\")","v":""},{"$f":"IF(AND(OR(ISTEXT(DataAll!Q157),DataAll!Q157<>0),A157<>\"\"),DataAll!Q157,\"\")","v":{"$error":"#REF!"}}]
[{"$f":"IF(ISTEXT(DataAll!A158),RemoveAccent(DataAll!A158),\"\")","v":""},{"$f":"IF(DataAll!B158=0,\"\",DataAll!B158)","v":{"$error":"#REF!"}},{"$f":"IF(DataAll!D158=0,\"\",DataAll!D158)","v":{"$error":"#REF!"}},{"$f":"IF(DataAll!F158=0,\"\",DataAll!F158)","v":{"$error":"#REF!"}},{"$f":"IF(DataAll!K158=0,\"\",DataAll!K158)","v":{"$error":"#REF!"}},{"$f":"IF(DataAll!L158=0,\"\",DataAll!L158)","v":{"$error":"#REF!"}},{"$f":"IF(DataAll!M158=0,\"\",DataAll!M158)","v":{"$error":"#REF!"}},{"$f":"IF(DataAll!N158=0,\"\",DataAll!N158)","v":{"$error":"#REF!"}},{"$f":"GrafikaHrany(E158,F158,G158,H158,DataAll!O158)","v":{"$error":"#VALUE!"}},{"$f":"IF(ISTEXT(DataAll!P158),DataAll!P158,\"\")","v":""},{"$f":"IF(AND(OR(ISTEXT(DataAll!Q158),DataAll!Q158<>0),A158<>\"\"),DataAll!Q158,\"\")","v":{"$error":"#REF!"}}]
[{"$f":"IF(ISTEXT(DataAll!A159),RemoveAccent(DataAll!A159),\"\")","v":""},{"$f":"IF(DataAll!B159=0,\"\",DataAll!B159)","v":{"$error":"#REF!"}},{"$f":"IF(DataAll!D159=0,\"\",DataAll!D159)","v":{"$error":"#REF!"}},{"$f":"IF(DataAll!F159=0,\"\",DataAll!F159)","v":{"$error":"#REF!"}},{"$f":"IF(DataAll!K159=0,\"\",DataAll!K159)","v":{"$error":"#REF!"}},{"$f":"IF(DataAll!L159=0,\"\",DataAll!L159)","v":{"$error":"#REF!"}},{"$f":"IF(DataAll!M159=0,\"\",DataAll!M159)","v":{"$error":"#REF!"}},{"$f":"IF(DataAll!N159=0,\"\",DataAll!N159)","v":{"$error":"#REF!"}},{"$f":"GrafikaHrany(E159,F159,G159,H159,DataAll!O159)","v":{"$error":"#VALUE!"}},{"$f":"IF(ISTEXT(DataAll!P159),DataAll!P159,\"\")","v":""},{"$f":"IF(AND(OR(ISTEXT(DataAll!Q159),DataAll!Q159<>0),A159<>\"\"),DataAll!Q159,\"\")","v":{"$error":"#REF!"}}]
[{"$f":"IF(ISTEXT(DataAll!A160),RemoveAccent(DataAll!A160),\"\")","v":""},{"$f":"IF(DataAll!B160=0,\"\",DataAll!B160)","v":{"$error":"#REF!"}},{"$f":"IF(DataAll!D160=0,\"\",DataAll!D160)","v":{"$error":"#REF!"}},{"$f":"IF(DataAll!F160=0,\"\",DataAll!F160)","v":{"$error":"#REF!"}},{"$f":"IF(DataAll!K160=0,\"\",DataAll!K160)","v":{"$error":"#REF!"}},{"$f":"IF(DataAll!L160=0,\"\",DataAll!L160)","v":{"$error":"#REF!"}},{"$f":"IF(DataAll!M160=0,\"\",DataAll!M160)","v":{"$error":"#REF!"}},{"$f":"IF(DataAll!N160=0,\"\",DataAll!N160)","v":{"$error":"#REF!"}},{"$f":"GrafikaHrany(E160,F160,G160,H160,DataAll!O160)","v":{"$error":"#VALUE!"}},{"$f":"IF(ISTEXT(DataAll!P160),DataAll!P160,\"\")","v":""},{"$f":"IF(AND(OR(ISTEXT(DataAll!Q160),DataAll!Q160<>0),A160<>\"\"),DataAll!Q160,\"\")","v":{"$error":"#REF!"}}]
[{"$f":"IF(ISTEXT(DataAll!A161),RemoveAccent(DataAll!A161),\"\")","v":""},{"$f":"IF(DataAll!B161=0,\"\",DataAll!B161)","v":{"$error":"#REF!"}},{"$f":"IF(DataAll!D161=0,\"\",DataAll!D161)","v":{"$error":"#REF!"}},{"$f":"IF(DataAll!F161=0,\"\",DataAll!F161)","v":{"$error":"#REF!"}},{"$f":"IF(DataAll!K161=0,\"\",DataAll!K161)","v":{"$error":"#REF!"}},{"$f":"IF(DataAll!L161=0,\"\",DataAll!L161)","v":{"$error":"#REF!"}},{"$f":"IF(DataAll!M161=0,\"\",DataAll!M161)","v":{"$error":"#REF!"}},{"$f":"IF(DataAll!N161=0,\"\",DataAll!N161)","v":{"$error":"#REF!"}},{"$f":"GrafikaHrany(E161,F161,G161,H161,DataAll!O161)","v":{"$error":"#VALUE!"}},{"$f":"IF(ISTEXT(DataAll!P161),DataAll!P161,\"\")","v":""},{"$f":"IF(AND(OR(ISTEXT(DataAll!Q161),DataAll!Q161<>0),A161<>\"\"),DataAll!Q161,\"\")","v":{"$error":"#REF!"}}]
[{"$f":"IF(ISTEXT(DataAll!A162),RemoveAccent(DataAll!A162),\"\")","v":""},{"$f":"IF(DataAll!B162=0,\"\",DataAll!B162)","v":{"$error":"#REF!"}},{"$f":"IF(DataAll!D162=0,\"\",DataAll!D162)","v":{"$error":"#REF!"}},{"$f":"IF(DataAll!F162=0,\"\",DataAll!F162)","v":{"$error":"#REF!"}},{"$f":"IF(DataAll!K162=0,\"\",DataAll!K162)","v":{"$error":"#REF!"}},{"$f":"IF(DataAll!L162=0,\"\",DataAll!L162)","v":{"$error":"#REF!"}},{"$f":"IF(DataAll!M162=0,\"\",DataAll!M162)","v":{"$error":"#REF!"}},{"$f":"IF(DataAll!N162=0,\"\",DataAll!N162)","v":{"$error":"#REF!"}},{"$f":"GrafikaHrany(E162,F162,G162,H162,DataAll!O162)","v":{"$error":"#VALUE!"}},{"$f":"IF(ISTEXT(DataAll!P162),DataAll!P162,\"\")","v":""},{"$f":"IF(AND(OR(ISTEXT(DataAll!Q162),DataAll!Q162<>0),A162<>\"\"),DataAll!Q162,\"\")","v":{"$error":"#REF!"}}]
[{"$f":"IF(ISTEXT(DataAll!A163),RemoveAccent(DataAll!A163),\"\")","v":""},{"$f":"IF(DataAll!B163=0,\"\",DataAll!B163)","v":{"$error":"#REF!"}},{"$f":"IF(DataAll!D163=0,\"\",DataAll!D163)","v":{"$error":"#REF!"}},{"$f":"IF(DataAll!F163=0,\"\",DataAll!F163)","v":{"$error":"#REF!"}},{"$f":"IF(DataAll!K163=0,\"\",DataAll!K163)","v":{"$error":"#REF!"}},{"$f":"IF(DataAll!L163=0,\"\",DataAll!L163)","v":{"$error":"#REF!"}},{"$f":"IF(DataAll!M163=0,\"\",DataAll!M163)","v":{"$error":"#REF!"}},{"$f":"IF(DataAll!N163=0,\"\",DataAll!N163)","v":{"$error":"#REF!"}},{"$f":"GrafikaHrany(E163,F163,G163,H163,DataAll!O163)","v":{"$error":"#VALUE!"}},{"$f":"IF(ISTEXT(DataAll!P163),DataAll!P163,\"\")","v":""},{"$f":"IF(AND(OR(ISTEXT(DataAll!Q163),DataAll!Q163<>0),A163<>\"\"),DataAll!Q163,\"\")","v":{"$error":"#REF!"}}]
[{"$f":"IF(ISTEXT(DataAll!A164),RemoveAccent(DataAll!A164),\"\")","v":""},{"$f":"IF(DataAll!B164=0,\"\",DataAll!B164)","v":{"$error":"#REF!"}},{"$f":"IF(DataAll!D164=0,\"\",DataAll!D164)","v":{"$error":"#REF!"}},{"$f":"IF(DataAll!F164=0,\"\",DataAll!F164)","v":{"$error":"#REF!"}},{"$f":"IF(DataAll!K164=0,\"\",DataAll!K164)","v":{"$error":"#REF!"}},{"$f":"IF(DataAll!L164=0,\"\",DataAll!L164)","v":{"$error":"#REF!"}},{"$f":"IF(DataAll!M164=0,\"\",DataAll!M164)","v":{"$error":"#REF!"}},{"$f":"IF(DataAll!N164=0,\"\",DataAll!N164)","v":{"$error":"#REF!"}},{"$f":"GrafikaHrany(E164,F164,G164,H164,DataAll!O164)","v":{"$error":"#VALUE!"}},{"$f":"IF(ISTEXT(DataAll!P164),DataAll!P164,\"\")","v":""},{"$f":"IF(AND(OR(ISTEXT(DataAll!Q164),DataAll!Q164<>0),A164<>\"\"),DataAll!Q164,\"\")","v":{"$error":"#REF!"}}]
[{"$f":"IF(ISTEXT(DataAll!A165),RemoveAccent(DataAll!A165),\"\")","v":""},{"$f":"IF(DataAll!B165=0,\"\",DataAll!B165)","v":{"$error":"#REF!"}},{"$f":"IF(DataAll!D165=0,\"\",DataAll!D165)","v":{"$error":"#REF!"}},{"$f":"IF(DataAll!F165=0,\"\",DataAll!F165)","v":{"$error":"#REF!"}},{"$f":"IF(DataAll!K165=0,\"\",DataAll!K165)","v":{"$error":"#REF!"}},{"$f":"IF(DataAll!L165=0,\"\",DataAll!L165)","v":{"$error":"#REF!"}},{"$f":"IF(DataAll!M165=0,\"\",DataAll!M165)","v":{"$error":"#REF!"}},{"$f":"IF(DataAll!N165=0,\"\",DataAll!N165)","v":{"$error":"#REF!"}},{"$f":"GrafikaHrany(E165,F165,G165,H165,DataAll!O165)","v":{"$error":"#VALUE!"}},{"$f":"IF(ISTEXT(DataAll!P165),DataAll!P165,\"\")","v":""},{"$f":"IF(AND(OR(ISTEXT(DataAll!Q165),DataAll!Q165<>0),A165<>\"\"),DataAll!Q165,\"\")","v":{"$error":"#REF!"}}]
[{"$f":"IF(ISTEXT(DataAll!A166),RemoveAccent(DataAll!A166),\"\")","v":""},{"$f":"IF(DataAll!B166=0,\"\",DataAll!B166)","v":{"$error":"#REF!"}},{"$f":"IF(DataAll!D166=0,\"\",DataAll!D166)","v":{"$error":"#REF!"}},{"$f":"IF(DataAll!F166=0,\"\",DataAll!F166)","v":{"$error":"#REF!"}},{"$f":"IF(DataAll!K166=0,\"\",DataAll!K166)","v":{"$error":"#REF!"}},{"$f":"IF(DataAll!L166=0,\"\",DataAll!L166)","v":{"$error":"#REF!"}},{"$f":"IF(DataAll!M166=0,\"\",DataAll!M166)","v":{"$error":"#REF!"}},{"$f":"IF(DataAll!N166=0,\"\",DataAll!N166)","v":{"$error":"#REF!"}},{"$f":"GrafikaHrany(E166,F166,G166,H166,DataAll!O166)","v":{"$error":"#VALUE!"}},{"$f":"IF(ISTEXT(DataAll!P166),DataAll!P166,\"\")","v":""},{"$f":"IF(AND(OR(ISTEXT(DataAll!Q166),DataAll!Q166<>0),A166<>\"\"),DataAll!Q166,\"\")","v":{"$error":"#REF!"}}]
[{"$f":"IF(ISTEXT(DataAll!A167),RemoveAccent(DataAll!A167),\"\")","v":""},{"$f":"IF(DataAll!B167=0,\"\",DataAll!B167)","v":{"$error":"#REF!"}},{"$f":"IF(DataAll!D167=0,\"\",DataAll!D167)","v":{"$error":"#REF!"}},{"$f":"IF(DataAll!F167=0,\"\",DataAll!F167)","v":{"$error":"#REF!"}},{"$f":"IF(DataAll!K167=0,\"\",DataAll!K167)","v":{"$error":"#REF!"}},{"$f":"IF(DataAll!L167=0,\"\",DataAll!L167)","v":{"$error":"#REF!"}},{"$f":"IF(DataAll!M167=0,\"\",DataAll!M167)","v":{"$error":"#REF!"}},{"$f":"IF(DataAll!N167=0,\"\",DataAll!N167)","v":{"$error":"#REF!"}},{"$f":"GrafikaHrany(E167,F167,G167,H167,DataAll!O167)","v":{"$error":"#VALUE!"}},{"$f":"IF(ISTEXT(DataAll!P167),DataAll!P167,\"\")","v":""},{"$f":"IF(AND(OR(ISTEXT(DataAll!Q167),DataAll!Q167<>0),A167<>\"\"),DataAll!Q167,\"\")","v":{"$error":"#REF!"}}]
[{"$f":"IF(ISTEXT(DataAll!A168),RemoveAccent(DataAll!A168),\"\")","v":""},{"$f":"IF(DataAll!B168=0,\"\",DataAll!B168)","v":{"$error":"#REF!"}},{"$f":"IF(DataAll!D168=0,\"\",DataAll!D168)","v":{"$error":"#REF!"}},{"$f":"IF(DataAll!F168=0,\"\",DataAll!F168)","v":{"$error":"#REF!"}},{"$f":"IF(DataAll!K168=0,\"\",DataAll!K168)","v":{"$error":"#REF!"}},{"$f":"IF(DataAll!L168=0,\"\",DataAll!L168)","v":{"$error":"#REF!"}},{"$f":"IF(DataAll!M168=0,\"\",DataAll!M168)","v":{"$error":"#REF!"}},{"$f":"IF(DataAll!N168=0,\"\",DataAll!N168)","v":{"$error":"#REF!"}},{"$f":"GrafikaHrany(E168,F168,G168,H168,DataAll!O168)","v":{"$error":"#VALUE!"}},{"$f":"IF(ISTEXT(DataAll!P168),DataAll!P168,\"\")","v":""},{"$f":"IF(AND(OR(ISTEXT(DataAll!Q168),DataAll!Q168<>0),A168<>\"\"),DataAll!Q168,\"\")","v":{"$error":"#REF!"}}]
[{"$f":"IF(ISTEXT(DataAll!A169),RemoveAccent(DataAll!A169),\"\")","v":""},{"$f":"IF(DataAll!B169=0,\"\",DataAll!B169)","v":{"$error":"#REF!"}},{"$f":"IF(DataAll!D169=0,\"\",DataAll!D169)","v":{"$error":"#REF!"}},{"$f":"IF(DataAll!F169=0,\"\",DataAll!F169)","v":{"$error":"#REF!"}},{"$f":"IF(DataAll!K169=0,\"\",DataAll!K169)","v":{"$error":"#REF!"}},{"$f":"IF(DataAll!L169=0,\"\",DataAll!L169)","v":{"$error":"#REF!"}},{"$f":"IF(DataAll!M169=0,\"\",DataAll!M169)","v":{"$error":"#REF!"}},{"$f":"IF(DataAll!N169=0,\"\",DataAll!N169)","v":{"$error":"#REF!"}},{"$f":"GrafikaHrany(E169,F169,G169,H169,DataAll!O169)","v":{"$error":"#VALUE!"}},{"$f":"IF(ISTEXT(DataAll!P169),DataAll!P169,\"\")","v":""},{"$f":"IF(AND(OR(ISTEXT(DataAll!Q169),DataAll!Q169<>0),A169<>\"\"),DataAll!Q169,\"\")","v":{"$error":"#REF!"}}]
[{"$f":"IF(ISTEXT(DataAll!A170),RemoveAccent(DataAll!A170),\"\")","v":""},{"$f":"IF(DataAll!B170=0,\"\",DataAll!B170)","v":{"$error":"#REF!"}},{"$f":"IF(DataAll!D170=0,\"\",DataAll!D170)","v":{"$error":"#REF!"}},{"$f":"IF(DataAll!F170=0,\"\",DataAll!F170)","v":{"$error":"#REF!"}},{"$f":"IF(DataAll!K170=0,\"\",DataAll!K170)","v":{"$error":"#REF!"}},{"$f":"IF(DataAll!L170=0,\"\",DataAll!L170)","v":{"$error":"#REF!"}},{"$f":"IF(DataAll!M170=0,\"\",DataAll!M170)","v":{"$error":"#REF!"}},{"$f":"IF(DataAll!N170=0,\"\",DataAll!N170)","v":{"$error":"#REF!"}},{"$f":"GrafikaHrany(E170,F170,G170,H170,DataAll!O170)","v":{"$error":"#VALUE!"}},{"$f":"IF(ISTEXT(DataAll!P170),DataAll!P170,\"\")","v":""},{"$f":"IF(AND(OR(ISTEXT(DataAll!Q170),DataAll!Q170<>0),A170<>\"\"),DataAll!Q170,\"\")","v":{"$error":"#REF!"}}]
[{"$f":"IF(ISTEXT(DataAll!A171),RemoveAccent(DataAll!A171),\"\")","v":""},{"$f":"IF(DataAll!B171=0,\"\",DataAll!B171)","v":{"$error":"#REF!"}},{"$f":"IF(DataAll!D171=0,\"\",DataAll!D171)","v":{"$error":"#REF!"}},{"$f":"IF(DataAll!F171=0,\"\",DataAll!F171)","v":{"$error":"#REF!"}},{"$f":"IF(DataAll!K171=0,\"\",DataAll!K171)","v":{"$error":"#REF!"}},{"$f":"IF(DataAll!L171=0,\"\",DataAll!L171)","v":{"$error":"#REF!"}},{"$f":"IF(DataAll!M171=0,\"\",DataAll!M171)","v":{"$error":"#REF!"}},{"$f":"IF(DataAll!N171=0,\"\",DataAll!N171)","v":{"$error":"#REF!"}},{"$f":"GrafikaHrany(E171,F171,G171,H171,DataAll!O171)","v":{"$error":"#VALUE!"}},{"$f":"IF(ISTEXT(DataAll!P171),DataAll!P171,\"\")","v":""},{"$f":"IF(AND(OR(ISTEXT(DataAll!Q171),DataAll!Q171<>0),A171<>\"\"),DataAll!Q171,\"\")","v":{"$error":"#REF!"}}]
[{"$f":"IF(ISTEXT(DataAll!A172),RemoveAccent(DataAll!A172),\"\")","v":""},{"$f":"IF(DataAll!B172=0,\"\",DataAll!B172)","v":{"$error":"#REF!"}},{"$f":"IF(DataAll!D172=0,\"\",DataAll!D172)","v":{"$error":"#REF!"}},{"$f":"IF(DataAll!F172=0,\"\",DataAll!F172)","v":{"$error":"#REF!"}},{"$f":"IF(DataAll!K172=0,\"\",DataAll!K172)","v":{"$error":"#REF!"}},{"$f":"IF(DataAll!L172=0,\"\",DataAll!L172)","v":{"$error":"#REF!"}},{"$f":"IF(DataAll!M172=0,\"\",DataAll!M172)","v":{"$error":"#REF!"}},{"$f":"IF(DataAll!N172=0,\"\",DataAll!N172)","v":{"$error":"#REF!"}},{"$f":"GrafikaHrany(E172,F172,G172,H172,DataAll!O172)","v":{"$error":"#VALUE!"}},{"$f":"IF(ISTEXT(DataAll!P172),DataAll!P172,\"\")","v":""},{"$f":"IF(AND(OR(ISTEXT(DataAll!Q172),DataAll!Q172<>0),A172<>\"\"),DataAll!Q172,\"\")","v":{"$error":"#REF!"}}]
[{"$f":"IF(ISTEXT(DataAll!A173),RemoveAccent(DataAll!A173),\"\")","v":""},{"$f":"IF(DataAll!B173=0,\"\",DataAll!B173)","v":{"$error":"#REF!"}},{"$f":"IF(DataAll!D173=0,\"\",DataAll!D173)","v":{"$error":"#REF!"}},{"$f":"IF(DataAll!F173=0,\"\",DataAll!F173)","v":{"$error":"#REF!"}},{"$f":"IF(DataAll!K173=0,\"\",DataAll!K173)","v":{"$error":"#REF!"}},{"$f":"IF(DataAll!L173=0,\"\",DataAll!L173)","v":{"$error":"#REF!"}},{"$f":"IF(DataAll!M173=0,\"\",DataAll!M173)","v":{"$error":"#REF!"}},{"$f":"IF(DataAll!N173=0,\"\",DataAll!N173)","v":{"$error":"#REF!"}},{"$f":"GrafikaHrany(E173,F173,G173,H173,DataAll!O173)","v":{"$error":"#VALUE!"}},{"$f":"IF(ISTEXT(DataAll!P173),DataAll!P173,\"\")","v":""},{"$f":"IF(AND(OR(ISTEXT(DataAll!Q173),DataAll!Q173<>0),A173<>\"\"),DataAll!Q173,\"\")","v":{"$error":"#REF!"}}]
[{"$f":"IF(ISTEXT(DataAll!A174),RemoveAccent(DataAll!A174),\"\")","v":""},{"$f":"IF(DataAll!B174=0,\"\",DataAll!B174)","v":{"$error":"#REF!"}},{"$f":"IF(DataAll!D174=0,\"\",DataAll!D174)","v":{"$error":"#REF!"}},{"$f":"IF(DataAll!F174=0,\"\",DataAll!F174)","v":{"$error":"#REF!"}},{"$f":"IF(DataAll!K174=0,\"\",DataAll!K174)","v":{"$error":"#REF!"}},{"$f":"IF(DataAll!L174=0,\"\",DataAll!L174)","v":{"$error":"#REF!"}},{"$f":"IF(DataAll!M174=0,\"\",DataAll!M174)","v":{"$error":"#REF!"}},{"$f":"IF(DataAll!N174=0,\"\",DataAll!N174)","v":{"$error":"#REF!"}},{"$f":"GrafikaHrany(E174,F174,G174,H174,DataAll!O174)","v":{"$error":"#VALUE!"}},{"$f":"IF(ISTEXT(DataAll!P174),DataAll!P174,\"\")","v":""},{"$f":"IF(AND(OR(ISTEXT(DataAll!Q174),DataAll!Q174<>0),A174<>\"\"),DataAll!Q174,\"\")","v":{"$error":"#REF!"}}]
[{"$f":"IF(ISTEXT(DataAll!A175),RemoveAccent(DataAll!A175),\"\")","v":""},{"$f":"IF(DataAll!B175=0,\"\",DataAll!B175)","v":{"$error":"#REF!"}},{"$f":"IF(DataAll!D175=0,\"\",DataAll!D175)","v":{"$error":"#REF!"}},{"$f":"IF(DataAll!F175=0,\"\",DataAll!F175)","v":{"$error":"#REF!"}},{"$f":"IF(DataAll!K175=0,\"\",DataAll!K175)","v":{"$error":"#REF!"}},{"$f":"IF(DataAll!L175=0,\"\",DataAll!L175)","v":{"$error":"#REF!"}},{"$f":"IF(DataAll!M175=0,\"\",DataAll!M175)","v":{"$error":"#REF!"}},{"$f":"IF(DataAll!N175=0,\"\",DataAll!N175)","v":{"$error":"#REF!"}},{"$f":"GrafikaHrany(E175,F175,G175,H175,DataAll!O175)","v":{"$error":"#VALUE!"}},{"$f":"IF(ISTEXT(DataAll!P175),DataAll!P175,\"\")","v":""},{"$f":"IF(AND(OR(ISTEXT(DataAll!Q175),DataAll!Q175<>0),A175<>\"\"),DataAll!Q175,\"\")","v":{"$error":"#REF!"}}]
[{"$f":"IF(ISTEXT(DataAll!A176),RemoveAccent(DataAll!A176),\"\")","v":""},{"$f":"IF(DataAll!B176=0,\"\",DataAll!B176)","v":{"$error":"#REF!"}},{"$f":"IF(DataAll!D176=0,\"\",DataAll!D176)","v":{"$error":"#REF!"}},{"$f":"IF(DataAll!F176=0,\"\",DataAll!F176)","v":{"$error":"#REF!"}},{"$f":"IF(DataAll!K176=0,\"\",DataAll!K176)","v":{"$error":"#REF!"}},{"$f":"IF(DataAll!L176=0,\"\",DataAll!L176)","v":{"$error":"#REF!"}},{"$f":"IF(DataAll!M176=0,\"\",DataAll!M176)","v":{"$error":"#REF!"}},{"$f":"IF(DataAll!N176=0,\"\",DataAll!N176)","v":{"$error":"#REF!"}},{"$f":"GrafikaHrany(E176,F176,G176,H176,DataAll!O176)","v":{"$error":"#VALUE!"}},{"$f":"IF(ISTEXT(DataAll!P176),DataAll!P176,\"\")","v":""},{"$f":"IF(AND(OR(ISTEXT(DataAll!Q176),DataAll!Q176<>0),A176<>\"\"),DataAll!Q176,\"\")","v":{"$error":"#REF!"}}]
[{"$f":"IF(ISTEXT(DataAll!A177),RemoveAccent(DataAll!A177),\"\")","v":""},{"$f":"IF(DataAll!B177=0,\"\",DataAll!B177)","v":{"$error":"#REF!"}},{"$f":"IF(DataAll!D177=0,\"\",DataAll!D177)","v":{"$error":"#REF!"}},{"$f":"IF(DataAll!F177=0,\"\",DataAll!F177)","v":{"$error":"#REF!"}},{"$f":"IF(DataAll!K177=0,\"\",DataAll!K177)","v":{"$error":"#REF!"}},{"$f":"IF(DataAll!L177=0,\"\",DataAll!L177)","v":{"$error":"#REF!"}},{"$f":"IF(DataAll!M177=0,\"\",DataAll!M177)","v":{"$error":"#REF!"}},{"$f":"IF(DataAll!N177=0,\"\",DataAll!N177)","v":{"$error":"#REF!"}},{"$f":"GrafikaHrany(E177,F177,G177,H177,DataAll!O177)","v":{"$error":"#VALUE!"}},{"$f":"IF(ISTEXT(DataAll!P177),DataAll!P177,\"\")","v":""},{"$f":"IF(AND(OR(ISTEXT(DataAll!Q177),DataAll!Q177<>0),A177<>\"\"),DataAll!Q177,\"\")","v":{"$error":"#REF!"}}]
[{"$f":"IF(ISTEXT(DataAll!A178),RemoveAccent(DataAll!A178),\"\")","v":""},{"$f":"IF(DataAll!B178=0,\"\",DataAll!B178)","v":{"$error":"#REF!"}},{"$f":"IF(DataAll!D178=0,\"\",DataAll!D178)","v":{"$error":"#REF!"}},{"$f":"IF(DataAll!F178=0,\"\",DataAll!F178)","v":{"$error":"#REF!"}},{"$f":"IF(DataAll!K178=0,\"\",DataAll!K178)","v":{"$error":"#REF!"}},{"$f":"IF(DataAll!L178=0,\"\",DataAll!L178)","v":{"$error":"#REF!"}},{"$f":"IF(DataAll!M178=0,\"\",DataAll!M178)","v":{"$error":"#REF!"}},{"$f":"IF(DataAll!N178=0,\"\",DataAll!N178)","v":{"$error":"#REF!"}},{"$f":"GrafikaHrany(E178,F178,G178,H178,DataAll!O178)","v":{"$error":"#VALUE!"}},{"$f":"IF(ISTEXT(DataAll!P178),DataAll!P178,\"\")","v":""},{"$f":"IF(AND(OR(ISTEXT(DataAll!Q178),DataAll!Q178<>0),A178<>\"\"),DataAll!Q178,\"\")","v":{"$error":"#REF!"}}]
[{"$f":"IF(ISTEXT(DataAll!A179),RemoveAccent(DataAll!A179),\"\")","v":""},{"$f":"IF(DataAll!B179=0,\"\",DataAll!B179)","v":{"$error":"#REF!"}},{"$f":"IF(DataAll!D179=0,\"\",DataAll!D179)","v":{"$error":"#REF!"}},{"$f":"IF(DataAll!F179=0,\"\",DataAll!F179)","v":{"$error":"#REF!"}},{"$f":"IF(DataAll!K179=0,\"\",DataAll!K179)","v":{"$error":"#REF!"}},{"$f":"IF(DataAll!L179=0,\"\",DataAll!L179)","v":{"$error":"#REF!"}},{"$f":"IF(DataAll!M179=0,\"\",DataAll!M179)","v":{"$error":"#REF!"}},{"$f":"IF(DataAll!N179=0,\"\",DataAll!N179)","v":{"$error":"#REF!"}},{"$f":"GrafikaHrany(E179,F179,G179,H179,DataAll!O179)","v":{"$error":"#VALUE!"}},{"$f":"IF(ISTEXT(DataAll!P179),DataAll!P179,\"\")","v":""},{"$f":"IF(AND(OR(ISTEXT(DataAll!Q179),DataAll!Q179<>0),A179<>\"\"),DataAll!Q179,\"\")","v":{"$error":"#REF!"}}]
[{"$f":"IF(ISTEXT(DataAll!A180),RemoveAccent(DataAll!A180),\"\")","v":""},{"$f":"IF(DataAll!B180=0,\"\",DataAll!B180)","v":{"$error":"#REF!"}},{"$f":"IF(DataAll!D180=0,\"\",DataAll!D180)","v":{"$error":"#REF!"}},{"$f":"IF(DataAll!F180=0,\"\",DataAll!F180)","v":{"$error":"#REF!"}},{"$f":"IF(DataAll!K180=0,\"\",DataAll!K180)","v":{"$error":"#REF!"}},{"$f":"IF(DataAll!L180=0,\"\",DataAll!L180)","v":{"$error":"#REF!"}},{"$f":"IF(DataAll!M180=0,\"\",DataAll!M180)","v":{"$error":"#REF!"}},{"$f":"IF(DataAll!N180=0,\"\",DataAll!N180)","v":{"$error":"#REF!"}},{"$f":"GrafikaHrany(E180,F180,G180,H180,DataAll!O180)","v":{"$error":"#VALUE!"}},{"$f":"IF(ISTEXT(DataAll!P180),DataAll!P180,\"\")","v":""},{"$f":"IF(AND(OR(ISTEXT(DataAll!Q180),DataAll!Q180<>0),A180<>\"\"),DataAll!Q180,\"\")","v":{"$error":"#REF!"}}]
[{"$f":"IF(ISTEXT(DataAll!A181),RemoveAccent(DataAll!A181),\"\")","v":""},{"$f":"IF(DataAll!B181=0,\"\",DataAll!B181)","v":{"$error":"#REF!"}},{"$f":"IF(DataAll!D181=0,\"\",DataAll!D181)","v":{"$error":"#REF!"}},{"$f":"IF(DataAll!F181=0,\"\",DataAll!F181)","v":{"$error":"#REF!"}},{"$f":"IF(DataAll!K181=0,\"\",DataAll!K181)","v":{"$error":"#REF!"}},{"$f":"IF(DataAll!L181=0,\"\",DataAll!L181)","v":{"$error":"#REF!"}},{"$f":"IF(DataAll!M181=0,\"\",DataAll!M181)","v":{"$error":"#REF!"}},{"$f":"IF(DataAll!N181=0,\"\",DataAll!N181)","v":{"$error":"#REF!"}},{"$f":"GrafikaHrany(E181,F181,G181,H181,DataAll!O181)","v":{"$error":"#VALUE!"}},{"$f":"IF(ISTEXT(DataAll!P181),DataAll!P181,\"\")","v":""},{"$f":"IF(AND(OR(ISTEXT(DataAll!Q181),DataAll!Q181<>0),A181<>\"\"),DataAll!Q181,\"\")","v":{"$error":"#REF!"}}]
[{"$f":"IF(ISTEXT(DataAll!A182),RemoveAccent(DataAll!A182),\"\")","v":""},{"$f":"IF(DataAll!B182=0,\"\",DataAll!B182)","v":{"$error":"#REF!"}},{"$f":"IF(DataAll!D182=0,\"\",DataAll!D182)","v":{"$error":"#REF!"}},{"$f":"IF(DataAll!F182=0,\"\",DataAll!F182)","v":{"$error":"#REF!"}},{"$f":"IF(DataAll!K182=0,\"\",DataAll!K182)","v":{"$error":"#REF!"}},{"$f":"IF(DataAll!L182=0,\"\",DataAll!L182)","v":{"$error":"#REF!"}},{"$f":"IF(DataAll!M182=0,\"\",DataAll!M182)","v":{"$error":"#REF!"}},{"$f":"IF(DataAll!N182=0,\"\",DataAll!N182)","v":{"$error":"#REF!"}},{"$f":"GrafikaHrany(E182,F182,G182,H182,DataAll!O182)","v":{"$error":"#VALUE!"}},{"$f":"IF(ISTEXT(DataAll!P182),DataAll!P182,\"\")","v":""},{"$f":"IF(AND(OR(ISTEXT(DataAll!Q182),DataAll!Q182<>0),A182<>\"\"),DataAll!Q182,\"\")","v":{"$error":"#REF!"}}]
[{"$f":"IF(ISTEXT(DataAll!A183),RemoveAccent(DataAll!A183),\"\")","v":""},{"$f":"IF(DataAll!B183=0,\"\",DataAll!B183)","v":{"$error":"#REF!"}},{"$f":"IF(DataAll!D183=0,\"\",DataAll!D183)","v":{"$error":"#REF!"}},{"$f":"IF(DataAll!F183=0,\"\",DataAll!F183)","v":{"$error":"#REF!"}},{"$f":"IF(DataAll!K183=0,\"\",DataAll!K183)","v":{"$error":"#REF!"}},{"$f":"IF(DataAll!L183=0,\"\",DataAll!L183)","v":{"$error":"#REF!"}},{"$f":"IF(DataAll!M183=0,\"\",DataAll!M183)","v":{"$error":"#REF!"}},{"$f":"IF(DataAll!N183=0,\"\",DataAll!N183)","v":{"$error":"#REF!"}},{"$f":"GrafikaHrany(E183,F183,G183,H183,DataAll!O183)","v":{"$error":"#VALUE!"}},{"$f":"IF(ISTEXT(DataAll!P183),DataAll!P183,\"\")","v":""},{"$f":"IF(AND(OR(ISTEXT(DataAll!Q183),DataAll!Q183<>0),A183<>\"\"),DataAll!Q183,\"\")","v":{"$error":"#REF!"}}]
[{"$f":"IF(ISTEXT(DataAll!A184),RemoveAccent(DataAll!A184),\"\")","v":""},{"$f":"IF(DataAll!B184=0,\"\",DataAll!B184)","v":{"$error":"#REF!"}},{"$f":"IF(DataAll!D184=0,\"\",DataAll!D184)","v":{"$error":"#REF!"}},{"$f":"IF(DataAll!F184=0,\"\",DataAll!F184)","v":{"$error":"#REF!"}},{"$f":"IF(DataAll!K184=0,\"\",DataAll!K184)","v":{"$error":"#REF!"}},{"$f":"IF(DataAll!L184=0,\"\",DataAll!L184)","v":{"$error":"#REF!"}},{"$f":"IF(DataAll!M184=0,\"\",DataAll!M184)","v":{"$error":"#REF!"}},{"$f":"IF(DataAll!N184=0,\"\",DataAll!N184)","v":{"$error":"#REF!"}},{"$f":"GrafikaHrany(E184,F184,G184,H184,DataAll!O184)","v":{"$error":"#VALUE!"}},{"$f":"IF(ISTEXT(DataAll!P184),DataAll!P184,\"\")","v":""},{"$f":"IF(AND(OR(ISTEXT(DataAll!Q184),DataAll!Q184<>0),A184<>\"\"),DataAll!Q184,\"\")","v":{"$error":"#REF!"}}]
[{"$f":"IF(ISTEXT(DataAll!A185),RemoveAccent(DataAll!A185),\"\")","v":""},{"$f":"IF(DataAll!B185=0,\"\",DataAll!B185)","v":{"$error":"#REF!"}},{"$f":"IF(DataAll!D185=0,\"\",DataAll!D185)","v":{"$error":"#REF!"}},{"$f":"IF(DataAll!F185=0,\"\",DataAll!F185)","v":{"$error":"#REF!"}},{"$f":"IF(DataAll!K185=0,\"\",DataAll!K185)","v":{"$error":"#REF!"}},{"$f":"IF(DataAll!L185=0,\"\",DataAll!L185)","v":{"$error":"#REF!"}},{"$f":"IF(DataAll!M185=0,\"\",DataAll!M185)","v":{"$error":"#REF!"}},{"$f":"IF(DataAll!N185=0,\"\",DataAll!N185)","v":{"$error":"#REF!"}},{"$f":"GrafikaHrany(E185,F185,G185,H185,DataAll!O185)","v":{"$error":"#VALUE!"}},{"$f":"IF(ISTEXT(DataAll!P185),DataAll!P185,\"\")","v":""},{"$f":"IF(AND(OR(ISTEXT(DataAll!Q185),DataAll!Q185<>0),A185<>\"\"),DataAll!Q185,\"\")","v":{"$error":"#REF!"}}]
[{"$f":"IF(ISTEXT(DataAll!A186),RemoveAccent(DataAll!A186),\"\")","v":""},{"$f":"IF(DataAll!B186=0,\"\",DataAll!B186)","v":{"$error":"#REF!"}},{"$f":"IF(DataAll!D186=0,\"\",DataAll!D186)","v":{"$error":"#REF!"}},{"$f":"IF(DataAll!F186=0,\"\",DataAll!F186)","v":{"$error":"#REF!"}},{"$f":"IF(DataAll!K186=0,\"\",DataAll!K186)","v":{"$error":"#REF!"}},{"$f":"IF(DataAll!L186=0,\"\",DataAll!L186)","v":{"$error":"#REF!"}},{"$f":"IF(DataAll!M186=0,\"\",DataAll!M186)","v":{"$error":"#REF!"}},{"$f":"IF(DataAll!N186=0,\"\",DataAll!N186)","v":{"$error":"#REF!"}},{"$f":"GrafikaHrany(E186,F186,G186,H186,DataAll!O186)","v":{"$error":"#VALUE!"}},{"$f":"IF(ISTEXT(DataAll!P186),DataAll!P186,\"\")","v":""},{"$f":"IF(AND(OR(ISTEXT(DataAll!Q186),DataAll!Q186<>0),A186<>\"\"),DataAll!Q186,\"\")","v":{"$error":"#REF!"}}]
[{"$f":"IF(ISTEXT(DataAll!A187),RemoveAccent(DataAll!A187),\"\")","v":""},{"$f":"IF(DataAll!B187=0,\"\",DataAll!B187)","v":{"$error":"#REF!"}},{"$f":"IF(DataAll!D187=0,\"\",DataAll!D187)","v":{"$error":"#REF!"}},{"$f":"IF(DataAll!F187=0,\"\",DataAll!F187)","v":{"$error":"#REF!"}},{"$f":"IF(DataAll!K187=0,\"\",DataAll!K187)","v":{"$error":"#REF!"}},{"$f":"IF(DataAll!L187=0,\"\",DataAll!L187)","v":{"$error":"#REF!"}},{"$f":"IF(DataAll!M187=0,\"\",DataAll!M187)","v":{"$error":"#REF!"}},{"$f":"IF(DataAll!N187=0,\"\",DataAll!N187)","v":{"$error":"#REF!"}},{"$f":"GrafikaHrany(E187,F187,G187,H187,DataAll!O187)","v":{"$error":"#VALUE!"}},{"$f":"IF(ISTEXT(DataAll!P187),DataAll!P187,\"\")","v":""},{"$f":"IF(AND(OR(ISTEXT(DataAll!Q187),DataAll!Q187<>0),A187<>\"\"),DataAll!Q187,\"\")","v":{"$error":"#REF!"}}]
[{"$f":"IF(ISTEXT(DataAll!A188),RemoveAccent(DataAll!A188),\"\")","v":""},{"$f":"IF(DataAll!B188=0,\"\",DataAll!B188)","v":{"$error":"#REF!"}},{"$f":"IF(DataAll!D188=0,\"\",DataAll!D188)","v":{"$error":"#REF!"}},{"$f":"IF(DataAll!F188=0,\"\",DataAll!F188)","v":{"$error":"#REF!"}},{"$f":"IF(DataAll!K188=0,\"\",DataAll!K188)","v":{"$error":"#REF!"}},{"$f":"IF(DataAll!L188=0,\"\",DataAll!L188)","v":{"$error":"#REF!"}},{"$f":"IF(DataAll!M188=0,\"\",DataAll!M188)","v":{"$error":"#REF!"}},{"$f":"IF(DataAll!N188=0,\"\",DataAll!N188)","v":{"$error":"#REF!"}},{"$f":"GrafikaHrany(E188,F188,G188,H188,DataAll!O188)","v":{"$error":"#VALUE!"}},{"$f":"IF(ISTEXT(DataAll!P188),DataAll!P188,\"\")","v":""},{"$f":"IF(AND(OR(ISTEXT(DataAll!Q188),DataAll!Q188<>0),A188<>\"\"),DataAll!Q188,\"\")","v":{"$error":"#REF!"}}]
[{"$f":"IF(ISTEXT(DataAll!A189),RemoveAccent(DataAll!A189),\"\")","v":""},{"$f":"IF(DataAll!B189=0,\"\",DataAll!B189)","v":{"$error":"#REF!"}},{"$f":"IF(DataAll!D189=0,\"\",DataAll!D189)","v":{"$error":"#REF!"}},{"$f":"IF(DataAll!F189=0,\"\",DataAll!F189)","v":{"$error":"#REF!"}},{"$f":"IF(DataAll!K189=0,\"\",DataAll!K189)","v":{"$error":"#REF!"}},{"$f":"IF(DataAll!L189=0,\"\",DataAll!L189)","v":{"$error":"#REF!"}},{"$f":"IF(DataAll!M189=0,\"\",DataAll!M189)","v":{"$error":"#REF!"}},{"$f":"IF(DataAll!N189=0,\"\",DataAll!N189)","v":{"$error":"#REF!"}},{"$f":"GrafikaHrany(E189,F189,G189,H189,DataAll!O189)","v":{"$error":"#VALUE!"}},{"$f":"IF(ISTEXT(DataAll!P189),DataAll!P189,\"\")","v":""},{"$f":"IF(AND(OR(ISTEXT(DataAll!Q189),DataAll!Q189<>0),A189<>\"\"),DataAll!Q189,\"\")","v":{"$error":"#REF!"}}]
[{"$f":"IF(ISTEXT(DataAll!A190),RemoveAccent(DataAll!A190),\"\")","v":""},{"$f":"IF(DataAll!B190=0,\"\",DataAll!B190)","v":{"$error":"#REF!"}},{"$f":"IF(DataAll!D190=0,\"\",DataAll!D190)","v":{"$error":"#REF!"}},{"$f":"IF(DataAll!F190=0,\"\",DataAll!F190)","v":{"$error":"#REF!"}},{"$f":"IF(DataAll!K190=0,\"\",DataAll!K190)","v":{"$error":"#REF!"}},{"$f":"IF(DataAll!L190=0,\"\",DataAll!L190)","v":{"$error":"#REF!"}},{"$f":"IF(DataAll!M190=0,\"\",DataAll!M190)","v":{"$error":"#REF!"}},{"$f":"IF(DataAll!N190=0,\"\",DataAll!N190)","v":{"$error":"#REF!"}},{"$f":"GrafikaHrany(E190,F190,G190,H190,DataAll!O190)","v":{"$error":"#VALUE!"}},{"$f":"IF(ISTEXT(DataAll!P190),DataAll!P190,\"\")","v":""},{"$f":"IF(AND(OR(ISTEXT(DataAll!Q190),DataAll!Q190<>0),A190<>\"\"),DataAll!Q190,\"\")","v":{"$error":"#REF!"}}]
[{"$f":"IF(ISTEXT(DataAll!A191),RemoveAccent(DataAll!A191),\"\")","v":""},{"$f":"IF(DataAll!B191=0,\"\",DataAll!B191)","v":{"$error":"#REF!"}},{"$f":"IF(DataAll!D191=0,\"\",DataAll!D191)","v":{"$error":"#REF!"}},{"$f":"IF(DataAll!F191=0,\"\",DataAll!F191)","v":{"$error":"#REF!"}},{"$f":"IF(DataAll!K191=0,\"\",DataAll!K191)","v":{"$error":"#REF!"}},{"$f":"IF(DataAll!L191=0,\"\",DataAll!L191)","v":{"$error":"#REF!"}},{"$f":"IF(DataAll!M191=0,\"\",DataAll!M191)","v":{"$error":"#REF!"}},{"$f":"IF(DataAll!N191=0,\"\",DataAll!N191)","v":{"$error":"#REF!"}},{"$f":"GrafikaHrany(E191,F191,G191,H191,DataAll!O191)","v":{"$error":"#VALUE!"}},{"$f":"IF(ISTEXT(DataAll!P191),DataAll!P191,\"\")","v":""},{"$f":"IF(AND(OR(ISTEXT(DataAll!Q191),DataAll!Q191<>0),A191<>\"\"),DataAll!Q191,\"\")","v":{"$error":"#REF!"}}]
[{"$f":"IF(ISTEXT(DataAll!A192),RemoveAccent(DataAll!A192),\"\")","v":""},{"$f":"IF(DataAll!B192=0,\"\",DataAll!B192)","v":{"$error":"#REF!"}},{"$f":"IF(DataAll!D192=0,\"\",DataAll!D192)","v":{"$error":"#REF!"}},{"$f":"IF(DataAll!F192=0,\"\",DataAll!F192)","v":{"$error":"#REF!"}},{"$f":"IF(DataAll!K192=0,\"\",DataAll!K192)","v":{"$error":"#REF!"}},{"$f":"IF(DataAll!L192=0,\"\",DataAll!L192)","v":{"$error":"#REF!"}},{"$f":"IF(DataAll!M192=0,\"\",DataAll!M192)","v":{"$error":"#REF!"}},{"$f":"IF(DataAll!N192=0,\"\",DataAll!N192)","v":{"$error":"#REF!"}},{"$f":"GrafikaHrany(E192,F192,G192,H192,DataAll!O192)","v":{"$error":"#VALUE!"}},{"$f":"IF(ISTEXT(DataAll!P192),DataAll!P192,\"\")","v":""},{"$f":"IF(AND(OR(ISTEXT(DataAll!Q192),DataAll!Q192<>0),A192<>\"\"),DataAll!Q192,\"\")","v":{"$error":"#REF!"}}]
[{"$f":"IF(ISTEXT(DataAll!A193),RemoveAccent(DataAll!A193),\"\")","v":""},{"$f":"IF(DataAll!B193=0,\"\",DataAll!B193)","v":{"$error":"#REF!"}},{"$f":"IF(DataAll!D193=0,\"\",DataAll!D193)","v":{"$error":"#REF!"}},{"$f":"IF(DataAll!F193=0,\"\",DataAll!F193)","v":{"$error":"#REF!"}},{"$f":"IF(DataAll!K193=0,\"\",DataAll!K193)","v":{"$error":"#REF!"}},{"$f":"IF(DataAll!L193=0,\"\",DataAll!L193)","v":{"$error":"#REF!"}},{"$f":"IF(DataAll!M193=0,\"\",DataAll!M193)","v":{"$error":"#REF!"}},{"$f":"IF(DataAll!N193=0,\"\",DataAll!N193)","v":{"$error":"#REF!"}},{"$f":"GrafikaHrany(E193,F193,G193,H193,DataAll!O193)","v":{"$error":"#VALUE!"}},{"$f":"IF(ISTEXT(DataAll!P193),DataAll!P193,\"\")","v":""},{"$f":"IF(AND(OR(ISTEXT(DataAll!Q193),DataAll!Q193<>0),A193<>\"\"),DataAll!Q193,\"\")","v":{"$error":"#REF!"}}]
[{"$f":"IF(ISTEXT(DataAll!A194),RemoveAccent(DataAll!A194),\"\")","v":""},{"$f":"IF(DataAll!B194=0,\"\",DataAll!B194)","v":{"$error":"#REF!"}},{"$f":"IF(DataAll!D194=0,\"\",DataAll!D194)","v":{"$error":"#REF!"}},{"$f":"IF(DataAll!F194=0,\"\",DataAll!F194)","v":{"$error":"#REF!"}},{"$f":"IF(DataAll!K194=0,\"\",DataAll!K194)","v":{"$error":"#REF!"}},{"$f":"IF(DataAll!L194=0,\"\",DataAll!L194)","v":{"$error":"#REF!"}},{"$f":"IF(DataAll!M194=0,\"\",DataAll!M194)","v":{"$error":"#REF!"}},{"$f":"IF(DataAll!N194=0,\"\",DataAll!N194)","v":{"$error":"#REF!"}},{"$f":"GrafikaHrany(E194,F194,G194,H194,DataAll!O194)","v":{"$error":"#VALUE!"}},{"$f":"IF(ISTEXT(DataAll!P194),DataAll!P194,\"\")","v":""},{"$f":"IF(AND(OR(ISTEXT(DataAll!Q194),DataAll!Q194<>0),A194<>\"\"),DataAll!Q194,\"\")","v":{"$error":"#REF!"}}]
[{"$f":"IF(ISTEXT(DataAll!A195),RemoveAccent(DataAll!A195),\"\")","v":""},{"$f":"IF(DataAll!B195=0,\"\",DataAll!B195)","v":{"$error":"#REF!"}},{"$f":"IF(DataAll!D195=0,\"\",DataAll!D195)","v":{"$error":"#REF!"}},{"$f":"IF(DataAll!F195=0,\"\",DataAll!F195)","v":{"$error":"#REF!"}},{"$f":"IF(DataAll!K195=0,\"\",DataAll!K195)","v":{"$error":"#REF!"}},{"$f":"IF(DataAll!L195=0,\"\",DataAll!L195)","v":{"$error":"#REF!"}},{"$f":"IF(DataAll!M195=0,\"\",DataAll!M195)","v":{"$error":"#REF!"}},{"$f":"IF(DataAll!N195=0,\"\",DataAll!N195)","v":{"$error":"#REF!"}},{"$f":"GrafikaHrany(E195,F195,G195,H195,DataAll!O195)","v":{"$error":"#VALUE!"}},{"$f":"IF(ISTEXT(DataAll!P195),DataAll!P195,\"\")","v":""},{"$f":"IF(AND(OR(ISTEXT(DataAll!Q195),DataAll!Q195<>0),A195<>\"\"),DataAll!Q195,\"\")","v":{"$error":"#REF!"}}]
[{"$f":"IF(ISTEXT(DataAll!A196),RemoveAccent(DataAll!A196),\"\")","v":""},{"$f":"IF(DataAll!B196=0,\"\",DataAll!B196)","v":{"$error":"#REF!"}},{"$f":"IF(DataAll!D196=0,\"\",DataAll!D196)","v":{"$error":"#REF!"}},{"$f":"IF(DataAll!F196=0,\"\",DataAll!F196)","v":{"$error":"#REF!"}},{"$f":"IF(DataAll!K196=0,\"\",DataAll!K196)","v":{"$error":"#REF!"}},{"$f":"IF(DataAll!L196=0,\"\",DataAll!L196)","v":{"$error":"#REF!"}},{"$f":"IF(DataAll!M196=0,\"\",DataAll!M196)","v":{"$error":"#REF!"}},{"$f":"IF(DataAll!N196=0,\"\",DataAll!N196)","v":{"$error":"#REF!"}},{"$f":"GrafikaHrany(E196,F196,G196,H196,DataAll!O196)","v":{"$error":"#VALUE!"}},{"$f":"IF(ISTEXT(DataAll!P196),DataAll!P196,\"\")","v":""},{"$f":"IF(AND(OR(ISTEXT(DataAll!Q196),DataAll!Q196<>0),A196<>\"\"),DataAll!Q196,\"\")","v":{"$error":"#REF!"}}]
[{"$f":"IF(ISTEXT(DataAll!A197),RemoveAccent(DataAll!A197),\"\")","v":""},{"$f":"IF(DataAll!B197=0,\"\",DataAll!B197)","v":{"$error":"#REF!"}},{"$f":"IF(DataAll!D197=0,\"\",DataAll!D197)","v":{"$error":"#REF!"}},{"$f":"IF(DataAll!F197=0,\"\",DataAll!F197)","v":{"$error":"#REF!"}},{"$f":"IF(DataAll!K197=0,\"\",DataAll!K197)","v":{"$error":"#REF!"}},{"$f":"IF(DataAll!L197=0,\"\",DataAll!L197)","v":{"$error":"#REF!"}},{"$f":"IF(DataAll!M197=0,\"\",DataAll!M197)","v":{"$error":"#REF!"}},{"$f":"IF(DataAll!N197=0,\"\",DataAll!N197)","v":{"$error":"#REF!"}},{"$f":"GrafikaHrany(E197,F197,G197,H197,DataAll!O197)","v":{"$error":"#VALUE!"}},{"$f":"IF(ISTEXT(DataAll!P197),DataAll!P197,\"\")","v":""},{"$f":"IF(AND(OR(ISTEXT(DataAll!Q197),DataAll!Q197<>0),A197<>\"\"),DataAll!Q197,\"\")","v":{"$error":"#REF!"}}]
[{"$f":"IF(ISTEXT(DataAll!A198),RemoveAccent(DataAll!A198),\"\")","v":""},{"$f":"IF(DataAll!B198=0,\"\",DataAll!B198)","v":{"$error":"#REF!"}},{"$f":"IF(DataAll!D198=0,\"\",DataAll!D198)","v":{"$error":"#REF!"}},{"$f":"IF(DataAll!F198=0,\"\",DataAll!F198)","v":{"$error":"#REF!"}},{"$f":"IF(DataAll!K198=0,\"\",DataAll!K198)","v":{"$error":"#REF!"}},{"$f":"IF(DataAll!L198=0,\"\",DataAll!L198)","v":{"$error":"#REF!"}},{"$f":"IF(DataAll!M198=0,\"\",DataAll!M198)","v":{"$error":"#REF!"}},{"$f":"IF(DataAll!N198=0,\"\",DataAll!N198)","v":{"$error":"#REF!"}},{"$f":"GrafikaHrany(E198,F198,G198,H198,DataAll!O198)","v":{"$error":"#VALUE!"}},{"$f":"IF(ISTEXT(DataAll!P198),DataAll!P198,\"\")","v":""},{"$f":"IF(AND(OR(ISTEXT(DataAll!Q198),DataAll!Q198<>0),A198<>\"\"),DataAll!Q198,\"\")","v":{"$error":"#REF!"}}]
[{"$f":"IF(ISTEXT(DataAll!A199),RemoveAccent(DataAll!A199),\"\")","v":""},{"$f":"IF(DataAll!B199=0,\"\",DataAll!B199)","v":{"$error":"#REF!"}},{"$f":"IF(DataAll!D199=0,\"\",DataAll!D199)","v":{"$error":"#REF!"}},{"$f":"IF(DataAll!F199=0,\"\",DataAll!F199)","v":{"$error":"#REF!"}},{"$f":"IF(DataAll!K199=0,\"\",DataAll!K199)","v":{"$error":"#REF!"}},{"$f":"IF(DataAll!L199=0,\"\",DataAll!L199)","v":{"$error":"#REF!"}},{"$f":"IF(DataAll!M199=0,\"\",DataAll!M199)","v":{"$error":"#REF!"}},{"$f":"IF(DataAll!N199=0,\"\",DataAll!N199)","v":{"$error":"#REF!"}},{"$f":"GrafikaHrany(E199,F199,G199,H199,DataAll!O199)","v":{"$error":"#VALUE!"}},{"$f":"IF(ISTEXT(DataAll!P199),DataAll!P199,\"\")","v":""},{"$f":"IF(AND(OR(ISTEXT(DataAll!Q199),DataAll!Q199<>0),A199<>\"\"),DataAll!Q199,\"\")","v":{"$error":"#REF!"}}]
[{"$f":"IF(ISTEXT(DataAll!A200),RemoveAccent(DataAll!A200),\"\")","v":""},{"$f":"IF(DataAll!B200=0,\"\",DataAll!B200)","v":{"$error":"#REF!"}},{"$f":"IF(DataAll!D200=0,\"\",DataAll!D200)","v":{"$error":"#REF!"}},{"$f":"IF(DataAll!F200=0,\"\",DataAll!F200)","v":{"$error":"#REF!"}},{"$f":"IF(DataAll!K200=0,\"\",DataAll!K200)","v":{"$error":"#REF!"}},{"$f":"IF(DataAll!L200=0,\"\",DataAll!L200)","v":{"$error":"#REF!"}},{"$f":"IF(DataAll!M200=0,\"\",DataAll!M200)","v":{"$error":"#REF!"}},{"$f":"IF(DataAll!N200=0,\"\",DataAll!N200)","v":{"$error":"#REF!"}},{"$f":"GrafikaHrany(E200,F200,G200,H200,DataAll!O200)","v":{"$error":"#VALUE!"}},{"$f":"IF(ISTEXT(DataAll!P200),DataAll!P200,\"\")","v":""},{"$f":"IF(AND(OR(ISTEXT(DataAll!Q200),DataAll!Q200<>0),A200<>\"\"),DataAll!Q200,\"\")","v":{"$error":"#REF!"}}]
[{"$f":"IF(ISTEXT(DataAll!A201),RemoveAccent(DataAll!A201),\"\")","v":""},{"$f":"IF(DataAll!B201=0,\"\",DataAll!B201)","v":{"$error":"#REF!"}},{"$f":"IF(DataAll!D201=0,\"\",DataAll!D201)","v":{"$error":"#REF!"}},{"$f":"IF(DataAll!F201=0,\"\",DataAll!F201)","v":{"$error":"#REF!"}},{"$f":"IF(DataAll!K201=0,\"\",DataAll!K201)","v":{"$error":"#REF!"}},{"$f":"IF(DataAll!L201=0,\"\",DataAll!L201)","v":{"$error":"#REF!"}},{"$f":"IF(DataAll!M201=0,\"\",DataAll!M201)","v":{"$error":"#REF!"}},{"$f":"IF(DataAll!N201=0,\"\",DataAll!N201)","v":{"$error":"#REF!"}},{"$f":"GrafikaHrany(E201,F201,G201,H201,DataAll!O201)","v":{"$error":"#VALUE!"}},{"$f":"IF(ISTEXT(DataAll!P201),DataAll!P201,\"\")","v":""},{"$f":"IF(AND(OR(ISTEXT(DataAll!Q201),DataAll!Q201<>0),A201<>\"\"),DataAll!Q201,\"\")","v":{"$error":"#REF!"}}]
[{"$f":"IF(ISTEXT(DataAll!A202),RemoveAccent(DataAll!A202),\"\")","v":""},{"$f":"IF(DataAll!B202=0,\"\",DataAll!B202)","v":{"$error":"#REF!"}},{"$f":"IF(DataAll!D202=0,\"\",DataAll!D202)","v":{"$error":"#REF!"}},{"$f":"IF(DataAll!F202=0,\"\",DataAll!F202)","v":{"$error":"#REF!"}},{"$f":"IF(DataAll!K202=0,\"\",DataAll!K202)","v":{"$error":"#REF!"}},{"$f":"IF(DataAll!L202=0,\"\",DataAll!L202)","v":{"$error":"#REF!"}},{"$f":"IF(DataAll!M202=0,\"\",DataAll!M202)","v":{"$error":"#REF!"}},{"$f":"IF(DataAll!N202=0,\"\",DataAll!N202)","v":{"$error":"#REF!"}},{"$f":"GrafikaHrany(E202,F202,G202,H202,DataAll!O202)","v":{"$error":"#VALUE!"}},{"$f":"IF(ISTEXT(DataAll!P202),DataAll!P202,\"\")","v":""},{"$f":"IF(AND(OR(ISTEXT(DataAll!Q202),DataAll!Q202<>0),A202<>\"\"),DataAll!Q202,\"\")","v":{"$error":"#REF!"}}]
[{"$f":"IF(ISTEXT(DataAll!A203),RemoveAccent(DataAll!A203),\"\")","v":""},{"$f":"IF(DataAll!B203=0,\"\",DataAll!B203)","v":{"$error":"#REF!"}},{"$f":"IF(DataAll!D203=0,\"\",DataAll!D203)","v":{"$error":"#REF!"}},{"$f":"IF(DataAll!F203=0,\"\",DataAll!F203)","v":{"$error":"#REF!"}},{"$f":"IF(DataAll!K203=0,\"\",DataAll!K203)","v":{"$error":"#REF!"}},{"$f":"IF(DataAll!L203=0,\"\",DataAll!L203)","v":{"$error":"#REF!"}},{"$f":"IF(DataAll!M203=0,\"\",DataAll!M203)","v":{"$error":"#REF!"}},{"$f":"IF(DataAll!N203=0,\"\",DataAll!N203)","v":{"$error":"#REF!"}},{"$f":"GrafikaHrany(E203,F203,G203,H203,DataAll!O203)","v":{"$error":"#VALUE!"}},{"$f":"IF(ISTEXT(DataAll!P203),DataAll!P203,\"\")","v":""},{"$f":"IF(AND(OR(ISTEXT(DataAll!Q203),DataAll!Q203<>0),A203<>\"\"),DataAll!Q203,\"\")","v":{"$error":"#REF!"}}]
[{"$f":"IF(ISTEXT(DataAll!A204),RemoveAccent(DataAll!A204),\"\")","v":""},{"$f":"IF(DataAll!B204=0,\"\",DataAll!B204)","v":{"$error":"#REF!"}},{"$f":"IF(DataAll!D204=0,\"\",DataAll!D204)","v":{"$error":"#REF!"}},{"$f":"IF(DataAll!F204=0,\"\",DataAll!F204)","v":{"$error":"#REF!"}},{"$f":"IF(DataAll!K204=0,\"\",DataAll!K204)","v":{"$error":"#REF!"}},{"$f":"IF(DataAll!L204=0,\"\",DataAll!L204)","v":{"$error":"#REF!"}},{"$f":"IF(DataAll!M204=0,\"\",DataAll!M204)","v":{"$error":"#REF!"}},{"$f":"IF(DataAll!N204=0,\"\",DataAll!N204)","v":{"$error":"#REF!"}},{"$f":"GrafikaHrany(E204,F204,G204,H204,DataAll!O204)","v":{"$error":"#VALUE!"}},{"$f":"IF(ISTEXT(DataAll!P204),DataAll!P204,\"\")","v":""},{"$f":"IF(AND(OR(ISTEXT(DataAll!Q204),DataAll!Q204<>0),A204<>\"\"),DataAll!Q204,\"\")","v":{"$error":"#REF!"}}]
[{"$f":"IF(ISTEXT(DataAll!A205),RemoveAccent(DataAll!A205),\"\")","v":""},{"$f":"IF(DataAll!B205=0,\"\",DataAll!B205)","v":{"$error":"#REF!"}},{"$f":"IF(DataAll!D205=0,\"\",DataAll!D205)","v":{"$error":"#REF!"}},{"$f":"IF(DataAll!F205=0,\"\",DataAll!F205)","v":{"$error":"#REF!"}},{"$f":"IF(DataAll!K205=0,\"\",DataAll!K205)","v":{"$error":"#REF!"}},{"$f":"IF(DataAll!L205=0,\"\",DataAll!L205)","v":{"$error":"#REF!"}},{"$f":"IF(DataAll!M205=0,\"\",DataAll!M205)","v":{"$error":"#REF!"}},{"$f":"IF(DataAll!N205=0,\"\",DataAll!N205)","v":{"$error":"#REF!"}},{"$f":"GrafikaHrany(E205,F205,G205,H205,DataAll!O205)","v":{"$error":"#VALUE!"}},{"$f":"IF(ISTEXT(DataAll!P205),DataAll!P205,\"\")","v":""},{"$f":"IF(AND(OR(ISTEXT(DataAll!Q205),DataAll!Q205<>0),A205<>\"\"),DataAll!Q205,\"\")","v":{"$error":"#REF!"}}]
[{"$f":"IF(ISTEXT(DataAll!A206),RemoveAccent(DataAll!A206),\"\")","v":""},{"$f":"IF(DataAll!B206=0,\"\",DataAll!B206)","v":{"$error":"#REF!"}},{"$f":"IF(DataAll!D206=0,\"\",DataAll!D206)","v":{"$error":"#REF!"}},{"$f":"IF(DataAll!F206=0,\"\",DataAll!F206)","v":{"$error":"#REF!"}},{"$f":"IF(DataAll!K206=0,\"\",DataAll!K206)","v":{"$error":"#REF!"}},{"$f":"IF(DataAll!L206=0,\"\",DataAll!L206)","v":{"$error":"#REF!"}},{"$f":"IF(DataAll!M206=0,\"\",DataAll!M206)","v":{"$error":"#REF!"}},{"$f":"IF(DataAll!N206=0,\"\",DataAll!N206)","v":{"$error":"#REF!"}},{"$f":"GrafikaHrany(E206,F206,G206,H206,DataAll!O206)","v":{"$error":"#VALUE!"}},{"$f":"IF(ISTEXT(DataAll!P206),DataAll!P206,\"\")","v":""},{"$f":"IF(AND(OR(ISTEXT(DataAll!Q206),DataAll!Q206<>0),A206<>\"\"),DataAll!Q206,\"\")","v":{"$error":"#REF!"}}]
[{"$f":"IF(ISTEXT(DataAll!A207),RemoveAccent(DataAll!A207),\"\")","v":""},{"$f":"IF(DataAll!B207=0,\"\",DataAll!B207)","v":{"$error":"#REF!"}},{"$f":"IF(DataAll!D207=0,\"\",DataAll!D207)","v":{"$error":"#REF!"}},{"$f":"IF(DataAll!F207=0,\"\",DataAll!F207)","v":{"$error":"#REF!"}},{"$f":"IF(DataAll!K207=0,\"\",DataAll!K207)","v":{"$error":"#REF!"}},{"$f":"IF(DataAll!L207=0,\"\",DataAll!L207)","v":{"$error":"#REF!"}},{"$f":"IF(DataAll!M207=0,\"\",DataAll!M207)","v":{"$error":"#REF!"}},{"$f":"IF(DataAll!N207=0,\"\",DataAll!N207)","v":{"$error":"#REF!"}},{"$f":"GrafikaHrany(E207,F207,G207,H207,DataAll!O207)","v":{"$error":"#VALUE!"}},{"$f":"IF(ISTEXT(DataAll!P207),DataAll!P207,\"\")","v":""},{"$f":"IF(AND(OR(ISTEXT(DataAll!Q207),DataAll!Q207<>0),A207<>\"\"),DataAll!Q207,\"\")","v":{"$error":"#REF!"}}]
[{"$f":"IF(ISTEXT(DataAll!A208),RemoveAccent(DataAll!A208),\"\")","v":""},{"$f":"IF(DataAll!B208=0,\"\",DataAll!B208)","v":{"$error":"#REF!"}},{"$f":"IF(DataAll!D208=0,\"\",DataAll!D208)","v":{"$error":"#REF!"}},{"$f":"IF(DataAll!F208=0,\"\",DataAll!F208)","v":{"$error":"#REF!"}},{"$f":"IF(DataAll!K208=0,\"\",DataAll!K208)","v":{"$error":"#REF!"}},{"$f":"IF(DataAll!L208=0,\"\",DataAll!L208)","v":{"$error":"#REF!"}},{"$f":"IF(DataAll!M208=0,\"\",DataAll!M208)","v":{"$error":"#REF!"}},{"$f":"IF(DataAll!N208=0,\"\",DataAll!N208)","v":{"$error":"#REF!"}},{"$f":"GrafikaHrany(E208,F208,G208,H208,DataAll!O208)","v":{"$error":"#VALUE!"}},{"$f":"IF(ISTEXT(DataAll!P208),DataAll!P208,\"\")","v":""},{"$f":"IF(AND(OR(ISTEXT(DataAll!Q208),DataAll!Q208<>0),A208<>\"\"),DataAll!Q208,\"\")","v":{"$error":"#REF!"}}]
[{"$f":"IF(ISTEXT(DataAll!A209),RemoveAccent(DataAll!A209),\"\")","v":""},{"$f":"IF(DataAll!B209=0,\"\",DataAll!B209)","v":{"$error":"#REF!"}},{"$f":"IF(DataAll!D209=0,\"\",DataAll!D209)","v":{"$error":"#REF!"}},{"$f":"IF(DataAll!F209=0,\"\",DataAll!F209)","v":{"$error":"#REF!"}},{"$f":"IF(DataAll!K209=0,\"\",DataAll!K209)","v":{"$error":"#REF!"}},{"$f":"IF(DataAll!L209=0,\"\",DataAll!L209)","v":{"$error":"#REF!"}},{"$f":"IF(DataAll!M209=0,\"\",DataAll!M209)","v":{"$error":"#REF!"}},{"$f":"IF(DataAll!N209=0,\"\",DataAll!N209)","v":{"$error":"#REF!"}},{"$f":"GrafikaHrany(E209,F209,G209,H209,DataAll!O209)","v":{"$error":"#VALUE!"}},{"$f":"IF(ISTEXT(DataAll!P209),DataAll!P209,\"\")","v":""},{"$f":"IF(AND(OR(ISTEXT(DataAll!Q209),DataAll!Q209<>0),A209<>\"\"),DataAll!Q209,\"\")","v":{"$error":"#REF!"}}]
[{"$f":"IF(ISTEXT(DataAll!A210),RemoveAccent(DataAll!A210),\"\")","v":""},{"$f":"IF(DataAll!B210=0,\"\",DataAll!B210)","v":{"$error":"#REF!"}},{"$f":"IF(DataAll!D210=0,\"\",DataAll!D210)","v":{"$error":"#REF!"}},{"$f":"IF(DataAll!F210=0,\"\",DataAll!F210)","v":{"$error":"#REF!"}},{"$f":"IF(DataAll!K210=0,\"\",DataAll!K210)","v":{"$error":"#REF!"}},{"$f":"IF(DataAll!L210=0,\"\",DataAll!L210)","v":{"$error":"#REF!"}},{"$f":"IF(DataAll!M210=0,\"\",DataAll!M210)","v":{"$error":"#REF!"}},{"$f":"IF(DataAll!N210=0,\"\",DataAll!N210)","v":{"$error":"#REF!"}},{"$f":"GrafikaHrany(E210,F210,G210,H210,DataAll!O210)","v":{"$error":"#VALUE!"}},{"$f":"IF(ISTEXT(DataAll!P210),DataAll!P210,\"\")","v":""},{"$f":"IF(AND(OR(ISTEXT(DataAll!Q210),DataAll!Q210<>0),A210<>\"\"),DataAll!Q210,\"\")","v":{"$error":"#REF!"}}]
[{"$f":"IF(ISTEXT(DataAll!A211),RemoveAccent(DataAll!A211),\"\")","v":""},{"$f":"IF(DataAll!B211=0,\"\",DataAll!B211)","v":{"$error":"#REF!"}},{"$f":"IF(DataAll!D211=0,\"\",DataAll!D211)","v":{"$error":"#REF!"}},{"$f":"IF(DataAll!F211=0,\"\",DataAll!F211)","v":{"$error":"#REF!"}},{"$f":"IF(DataAll!K211=0,\"\",DataAll!K211)","v":{"$error":"#REF!"}},{"$f":"IF(DataAll!L211=0,\"\",DataAll!L211)","v":{"$error":"#REF!"}},{"$f":"IF(DataAll!M211=0,\"\",DataAll!M211)","v":{"$error":"#REF!"}},{"$f":"IF(DataAll!N211=0,\"\",DataAll!N211)","v":{"$error":"#REF!"}},{"$f":"GrafikaHrany(E211,F211,G211,H211,DataAll!O211)","v":{"$error":"#VALUE!"}},{"$f":"IF(ISTEXT(DataAll!P211),DataAll!P211,\"\")","v":""},{"$f":"IF(AND(OR(ISTEXT(DataAll!Q211),DataAll!Q211<>0),A211<>\"\"),DataAll!Q211,\"\")","v":{"$error":"#REF!"}}]
[{"$f":"IF(ISTEXT(DataAll!A212),RemoveAccent(DataAll!A212),\"\")","v":""},{"$f":"IF(DataAll!B212=0,\"\",DataAll!B212)","v":{"$error":"#REF!"}},{"$f":"IF(DataAll!D212=0,\"\",DataAll!D212)","v":{"$error":"#REF!"}},{"$f":"IF(DataAll!F212=0,\"\",DataAll!F212)","v":{"$error":"#REF!"}},{"$f":"IF(DataAll!K212=0,\"\",DataAll!K212)","v":{"$error":"#REF!"}},{"$f":"IF(DataAll!L212=0,\"\",DataAll!L212)","v":{"$error":"#REF!"}},{"$f":"IF(DataAll!M212=0,\"\",DataAll!M212)","v":{"$error":"#REF!"}},{"$f":"IF(DataAll!N212=0,\"\",DataAll!N212)","v":{"$error":"#REF!"}},{"$f":"GrafikaHrany(E212,F212,G212,H212,DataAll!O212)","v":{"$error":"#VALUE!"}},{"$f":"IF(ISTEXT(DataAll!P212),DataAll!P212,\"\")","v":""},{"$f":"IF(AND(OR(ISTEXT(DataAll!Q212),DataAll!Q212<>0),A212<>\"\"),DataAll!Q212,\"\")","v":{"$error":"#REF!"}}]
[{"$f":"IF(ISTEXT(DataAll!A213),RemoveAccent(DataAll!A213),\"\")","v":""},{"$f":"IF(DataAll!B213=0,\"\",DataAll!B213)","v":{"$error":"#REF!"}},{"$f":"IF(DataAll!D213=0,\"\",DataAll!D213)","v":{"$error":"#REF!"}},{"$f":"IF(DataAll!F213=0,\"\",DataAll!F213)","v":{"$error":"#REF!"}},{"$f":"IF(DataAll!K213=0,\"\",DataAll!K213)","v":{"$error":"#REF!"}},{"$f":"IF(DataAll!L213=0,\"\",DataAll!L213)","v":{"$error":"#REF!"}},{"$f":"IF(DataAll!M213=0,\"\",DataAll!M213)","v":{"$error":"#REF!"}},{"$f":"IF(DataAll!N213=0,\"\",DataAll!N213)","v":{"$error":"#REF!"}},{"$f":"GrafikaHrany(E213,F213,G213,H213,DataAll!O213)","v":{"$error":"#VALUE!"}},{"$f":"IF(ISTEXT(DataAll!P213),DataAll!P213,\"\")","v":""},{"$f":"IF(AND(OR(ISTEXT(DataAll!Q213),DataAll!Q213<>0),A213<>\"\"),DataAll!Q213,\"\")","v":{"$error":"#REF!"}}]
[{"$f":"IF(ISTEXT(DataAll!A214),RemoveAccent(DataAll!A214),\"\")","v":""},{"$f":"IF(DataAll!B214=0,\"\",DataAll!B214)","v":{"$error":"#REF!"}},{"$f":"IF(DataAll!D214=0,\"\",DataAll!D214)","v":{"$error":"#REF!"}},{"$f":"IF(DataAll!F214=0,\"\",DataAll!F214)","v":{"$error":"#REF!"}},{"$f":"IF(DataAll!K214=0,\"\",DataAll!K214)","v":{"$error":"#REF!"}},{"$f":"IF(DataAll!L214=0,\"\",DataAll!L214)","v":{"$error":"#REF!"}},{"$f":"IF(DataAll!M214=0,\"\",DataAll!M214)","v":{"$error":"#REF!"}},{"$f":"IF(DataAll!N214=0,\"\",DataAll!N214)","v":{"$error":"#REF!"}},{"$f":"GrafikaHrany(E214,F214,G214,H214,DataAll!O214)","v":{"$error":"#VALUE!"}},{"$f":"IF(ISTEXT(DataAll!P214),DataAll!P214,\"\")","v":""},{"$f":"IF(AND(OR(ISTEXT(DataAll!Q214),DataAll!Q214<>0),A214<>\"\"),DataAll!Q214,\"\")","v":{"$error":"#REF!"}}]
[{"$f":"IF(ISTEXT(DataAll!A215),RemoveAccent(DataAll!A215),\"\")","v":""},{"$f":"IF(DataAll!B215=0,\"\",DataAll!B215)","v":{"$error":"#REF!"}},{"$f":"IF(DataAll!D215=0,\"\",DataAll!D215)","v":{"$error":"#REF!"}},{"$f":"IF(DataAll!F215=0,\"\",DataAll!F215)","v":{"$error":"#REF!"}},{"$f":"IF(DataAll!K215=0,\"\",DataAll!K215)","v":{"$error":"#REF!"}},{"$f":"IF(DataAll!L215=0,\"\",DataAll!L215)","v":{"$error":"#REF!"}},{"$f":"IF(DataAll!M215=0,\"\",DataAll!M215)","v":{"$error":"#REF!"}},{"$f":"IF(DataAll!N215=0,\"\",DataAll!N215)","v":{"$error":"#REF!"}},{"$f":"GrafikaHrany(E215,F215,G215,H215,DataAll!O215)","v":{"$error":"#VALUE!"}},{"$f":"IF(ISTEXT(DataAll!P215),DataAll!P215,\"\")","v":""},{"$f":"IF(AND(OR(ISTEXT(DataAll!Q215),DataAll!Q215<>0),A215<>\"\"),DataAll!Q215,\"\")","v":{"$error":"#REF!"}}]
[{"$f":"IF(ISTEXT(DataAll!A216),RemoveAccent(DataAll!A216),\"\")","v":""},{"$f":"IF(DataAll!B216=0,\"\",DataAll!B216)","v":{"$error":"#REF!"}},{"$f":"IF(DataAll!D216=0,\"\",DataAll!D216)","v":{"$error":"#REF!"}},{"$f":"IF(DataAll!F216=0,\"\",DataAll!F216)","v":{"$error":"#REF!"}},{"$f":"IF(DataAll!K216=0,\"\",DataAll!K216)","v":{"$error":"#REF!"}},{"$f":"IF(DataAll!L216=0,\"\",DataAll!L216)","v":{"$error":"#REF!"}},{"$f":"IF(DataAll!M216=0,\"\",DataAll!M216)","v":{"$error":"#REF!"}},{"$f":"IF(DataAll!N216=0,\"\",DataAll!N216)","v":{"$error":"#REF!"}},{"$f":"GrafikaHrany(E216,F216,G216,H216,DataAll!O216)","v":{"$error":"#VALUE!"}},{"$f":"IF(ISTEXT(DataAll!P216),DataAll!P216,\"\")","v":""},{"$f":"IF(AND(OR(ISTEXT(DataAll!Q216),DataAll!Q216<>0),A216<>\"\"),DataAll!Q216,\"\")","v":{"$error":"#REF!"}}]
[{"$f":"IF(ISTEXT(DataAll!A217),RemoveAccent(DataAll!A217),\"\")","v":""},{"$f":"IF(DataAll!B217=0,\"\",DataAll!B217)","v":{"$error":"#REF!"}},{"$f":"IF(DataAll!D217=0,\"\",DataAll!D217)","v":{"$error":"#REF!"}},{"$f":"IF(DataAll!F217=0,\"\",DataAll!F217)","v":{"$error":"#REF!"}},{"$f":"IF(DataAll!K217=0,\"\",DataAll!K217)","v":{"$error":"#REF!"}},{"$f":"IF(DataAll!L217=0,\"\",DataAll!L217)","v":{"$error":"#REF!"}},{"$f":"IF(DataAll!M217=0,\"\",DataAll!M217)","v":{"$error":"#REF!"}},{"$f":"IF(DataAll!N217=0,\"\",DataAll!N217)","v":{"$error":"#REF!"}},{"$f":"GrafikaHrany(E217,F217,G217,H217,DataAll!O217)","v":{"$error":"#VALUE!"}},{"$f":"IF(ISTEXT(DataAll!P217),DataAll!P217,\"\")","v":""},{"$f":"IF(AND(OR(ISTEXT(DataAll!Q217),DataAll!Q217<>0),A217<>\"\"),DataAll!Q217,\"\")","v":{"$error":"#REF!"}}]
[{"$f":"IF(ISTEXT(DataAll!A218),RemoveAccent(DataAll!A218),\"\")","v":""},{"$f":"IF(DataAll!B218=0,\"\",DataAll!B218)","v":{"$error":"#REF!"}},{"$f":"IF(DataAll!D218=0,\"\",DataAll!D218)","v":{"$error":"#REF!"}},{"$f":"IF(DataAll!F218=0,\"\",DataAll!F218)","v":{"$error":"#REF!"}},{"$f":"IF(DataAll!K218=0,\"\",DataAll!K218)","v":{"$error":"#REF!"}},{"$f":"IF(DataAll!L218=0,\"\",DataAll!L218)","v":{"$error":"#REF!"}},{"$f":"IF(DataAll!M218=0,\"\",DataAll!M218)","v":{"$error":"#REF!"}},{"$f":"IF(DataAll!N218=0,\"\",DataAll!N218)","v":{"$error":"#REF!"}},{"$f":"GrafikaHrany(E218,F218,G218,H218,DataAll!O218)","v":{"$error":"#VALUE!"}},{"$f":"IF(ISTEXT(DataAll!P218),DataAll!P218,\"\")","v":""},{"$f":"IF(AND(OR(ISTEXT(DataAll!Q218),DataAll!Q218<>0),A218<>\"\"),DataAll!Q218,\"\")","v":{"$error":"#REF!"}}]
[{"$f":"IF(ISTEXT(DataAll!A219),RemoveAccent(DataAll!A219),\"\")","v":""},{"$f":"IF(DataAll!B219=0,\"\",DataAll!B219)","v":{"$error":"#REF!"}},{"$f":"IF(DataAll!D219=0,\"\",DataAll!D219)","v":{"$error":"#REF!"}},{"$f":"IF(DataAll!F219=0,\"\",DataAll!F219)","v":{"$error":"#REF!"}},{"$f":"IF(DataAll!K219=0,\"\",DataAll!K219)","v":{"$error":"#REF!"}},{"$f":"IF(DataAll!L219=0,\"\",DataAll!L219)","v":{"$error":"#REF!"}},{"$f":"IF(DataAll!M219=0,\"\",DataAll!M219)","v":{"$error":"#REF!"}},{"$f":"IF(DataAll!N219=0,\"\",DataAll!N219)","v":{"$error":"#REF!"}},{"$f":"GrafikaHrany(E219,F219,G219,H219,DataAll!O219)","v":{"$error":"#VALUE!"}},{"$f":"IF(ISTEXT(DataAll!P219),DataAll!P219,\"\")","v":""},{"$f":"IF(AND(OR(ISTEXT(DataAll!Q219),DataAll!Q219<>0),A219<>\"\"),DataAll!Q219,\"\")","v":{"$error":"#REF!"}}]
[{"$f":"IF(ISTEXT(DataAll!A220),RemoveAccent(DataAll!A220),\"\")","v":""},{"$f":"IF(DataAll!B220=0,\"\",DataAll!B220)","v":{"$error":"#REF!"}},{"$f":"IF(DataAll!D220=0,\"\",DataAll!D220)","v":{"$error":"#REF!"}},{"$f":"IF(DataAll!F220=0,\"\",DataAll!F220)","v":{"$error":"#REF!"}},{"$f":"IF(DataAll!K220=0,\"\",DataAll!K220)","v":{"$error":"#REF!"}},{"$f":"IF(DataAll!L220=0,\"\",DataAll!L220)","v":{"$error":"#REF!"}},{"$f":"IF(DataAll!M220=0,\"\",DataAll!M220)","v":{"$error":"#REF!"}},{"$f":"IF(DataAll!N220=0,\"\",DataAll!N220)","v":{"$error":"#REF!"}},{"$f":"GrafikaHrany(E220,F220,G220,H220,DataAll!O220)","v":{"$error":"#VALUE!"}},{"$f":"IF(ISTEXT(DataAll!P220),DataAll!P220,\"\")","v":""},{"$f":"IF(AND(OR(ISTEXT(DataAll!Q220),DataAll!Q220<>0),A220<>\"\"),DataAll!Q220,\"\")","v":{"$error":"#REF!"}}]
[{"$f":"IF(ISTEXT(DataAll!A221),RemoveAccent(DataAll!A221),\"\")","v":""},{"$f":"IF(DataAll!B221=0,\"\",DataAll!B221)","v":{"$error":"#REF!"}},{"$f":"IF(DataAll!D221=0,\"\",DataAll!D221)","v":{"$error":"#REF!"}},{"$f":"IF(DataAll!F221=0,\"\",DataAll!F221)","v":{"$error":"#REF!"}},{"$f":"IF(DataAll!K221=0,\"\",DataAll!K221)","v":{"$error":"#REF!"}},{"$f":"IF(DataAll!L221=0,\"\",DataAll!L221)","v":{"$error":"#REF!"}},{"$f":"IF(DataAll!M221=0,\"\",DataAll!M221)","v":{"$error":"#REF!"}},{"$f":"IF(DataAll!N221=0,\"\",DataAll!N221)","v":{"$error":"#REF!"}},{"$f":"GrafikaHrany(E221,F221,G221,H221,DataAll!O221)","v":{"$error":"#VALUE!"}},{"$f":"IF(ISTEXT(DataAll!P221),DataAll!P221,\"\")","v":""},{"$f":"IF(AND(OR(ISTEXT(DataAll!Q221),DataAll!Q221<>0),A221<>\"\"),DataAll!Q221,\"\")","v":{"$error":"#REF!"}}]
[{"$f":"IF(ISTEXT(DataAll!A222),RemoveAccent(DataAll!A222),\"\")","v":""},{"$f":"IF(DataAll!B222=0,\"\",DataAll!B222)","v":{"$error":"#REF!"}},{"$f":"IF(DataAll!D222=0,\"\",DataAll!D222)","v":{"$error":"#REF!"}},{"$f":"IF(DataAll!F222=0,\"\",DataAll!F222)","v":{"$error":"#REF!"}},{"$f":"IF(DataAll!K222=0,\"\",DataAll!K222)","v":{"$error":"#REF!"}},{"$f":"IF(DataAll!L222=0,\"\",DataAll!L222)","v":{"$error":"#REF!"}},{"$f":"IF(DataAll!M222=0,\"\",DataAll!M222)","v":{"$error":"#REF!"}},{"$f":"IF(DataAll!N222=0,\"\",DataAll!N222)","v":{"$error":"#REF!"}},{"$f":"GrafikaHrany(E222,F222,G222,H222,DataAll!O222)","v":{"$error":"#VALUE!"}},{"$f":"IF(ISTEXT(DataAll!P222),DataAll!P222,\"\")","v":""},{"$f":"IF(AND(OR(ISTEXT(DataAll!Q222),DataAll!Q222<>0),A222<>\"\"),DataAll!Q222,\"\")","v":{"$error":"#REF!"}}]
[{"$f":"IF(ISTEXT(DataAll!A223),RemoveAccent(DataAll!A223),\"\")","v":""},{"$f":"IF(DataAll!B223=0,\"\",DataAll!B223)","v":{"$error":"#REF!"}},{"$f":"IF(DataAll!D223=0,\"\",DataAll!D223)","v":{"$error":"#REF!"}},{"$f":"IF(DataAll!F223=0,\"\",DataAll!F223)","v":{"$error":"#REF!"}},{"$f":"IF(DataAll!K223=0,\"\",DataAll!K223)","v":{"$error":"#REF!"}},{"$f":"IF(DataAll!L223=0,\"\",DataAll!L223)","v":{"$error":"#REF!"}},{"$f":"IF(DataAll!M223=0,\"\",DataAll!M223)","v":{"$error":"#REF!"}},{"$f":"IF(DataAll!N223=0,\"\",DataAll!N223)","v":{"$error":"#REF!"}},{"$f":"GrafikaHrany(E223,F223,G223,H223,DataAll!O223)","v":{"$error":"#VALUE!"}},{"$f":"IF(ISTEXT(DataAll!P223),DataAll!P223,\"\")","v":""},{"$f":"IF(AND(OR(ISTEXT(DataAll!Q223),DataAll!Q223<>0),A223<>\"\"),DataAll!Q223,\"\")","v":{"$error":"#REF!"}}]
[{"$f":"IF(ISTEXT(DataAll!A224),RemoveAccent(DataAll!A224),\"\")","v":""},{"$f":"IF(DataAll!B224=0,\"\",DataAll!B224)","v":{"$error":"#REF!"}},{"$f":"IF(DataAll!D224=0,\"\",DataAll!D224)","v":{"$error":"#REF!"}},{"$f":"IF(DataAll!F224=0,\"\",DataAll!F224)","v":{"$error":"#REF!"}},{"$f":"IF(DataAll!K224=0,\"\",DataAll!K224)","v":{"$error":"#REF!"}},{"$f":"IF(DataAll!L224=0,\"\",DataAll!L224)","v":{"$error":"#REF!"}},{"$f":"IF(DataAll!M224=0,\"\",DataAll!M224)","v":{"$error":"#REF!"}},{"$f":"IF(DataAll!N224=0,\"\",DataAll!N224)","v":{"$error":"#REF!"}},{"$f":"GrafikaHrany(E224,F224,G224,H224,DataAll!O224)","v":{"$error":"#VALUE!"}},{"$f":"IF(ISTEXT(DataAll!P224),DataAll!P224,\"\")","v":""},{"$f":"IF(AND(OR(ISTEXT(DataAll!Q224),DataAll!Q224<>0),A224<>\"\"),DataAll!Q224,\"\")","v":{"$error":"#REF!"}}]
[{"$f":"IF(ISTEXT(DataAll!A225),RemoveAccent(DataAll!A225),\"\")","v":""},{"$f":"IF(DataAll!B225=0,\"\",DataAll!B225)","v":{"$error":"#REF!"}},{"$f":"IF(DataAll!D225=0,\"\",DataAll!D225)","v":{"$error":"#REF!"}},{"$f":"IF(DataAll!F225=0,\"\",DataAll!F225)","v":{"$error":"#REF!"}},{"$f":"IF(DataAll!K225=0,\"\",DataAll!K225)","v":{"$error":"#REF!"}},{"$f":"IF(DataAll!L225=0,\"\",DataAll!L225)","v":{"$error":"#REF!"}},{"$f":"IF(DataAll!M225=0,\"\",DataAll!M225)","v":{"$error":"#REF!"}},{"$f":"IF(DataAll!N225=0,\"\",DataAll!N225)","v":{"$error":"#REF!"}},{"$f":"GrafikaHrany(E225,F225,G225,H225,DataAll!O225)","v":{"$error":"#VALUE!"}},{"$f":"IF(ISTEXT(DataAll!P225),DataAll!P225,\"\")","v":""},{"$f":"IF(AND(OR(ISTEXT(DataAll!Q225),DataAll!Q225<>0),A225<>\"\"),DataAll!Q225,\"\")","v":{"$error":"#REF!"}}]
[{"$f":"IF(ISTEXT(DataAll!A226),RemoveAccent(DataAll!A226),\"\")","v":""},{"$f":"IF(DataAll!B226=0,\"\",DataAll!B226)","v":{"$error":"#REF!"}},{"$f":"IF(DataAll!D226=0,\"\",DataAll!D226)","v":{"$error":"#REF!"}},{"$f":"IF(DataAll!F226=0,\"\",DataAll!F226)","v":{"$error":"#REF!"}},{"$f":"IF(DataAll!K226=0,\"\",DataAll!K226)","v":{"$error":"#REF!"}},{"$f":"IF(DataAll!L226=0,\"\",DataAll!L226)","v":{"$error":"#REF!"}},{"$f":"IF(DataAll!M226=0,\"\",DataAll!M226)","v":{"$error":"#REF!"}},{"$f":"IF(DataAll!N226=0,\"\",DataAll!N226)","v":{"$error":"#REF!"}},{"$f":"GrafikaHrany(E226,F226,G226,H226,DataAll!O226)","v":{"$error":"#VALUE!"}},{"$f":"IF(ISTEXT(DataAll!P226),DataAll!P226,\"\")","v":""},{"$f":"IF(AND(OR(ISTEXT(DataAll!Q226),DataAll!Q226<>0),A226<>\"\"),DataAll!Q226,\"\")","v":{"$error":"#REF!"}}]
[{"$f":"IF(ISTEXT(DataAll!A227),RemoveAccent(DataAll!A227),\"\")","v":""},{"$f":"IF(DataAll!B227=0,\"\",DataAll!B227)","v":{"$error":"#REF!"}},{"$f":"IF(DataAll!D227=0,\"\",DataAll!D227)","v":{"$error":"#REF!"}},{"$f":"IF(DataAll!F227=0,\"\",DataAll!F227)","v":{"$error":"#REF!"}},{"$f":"IF(DataAll!K227=0,\"\",DataAll!K227)","v":{"$error":"#REF!"}},{"$f":"IF(DataAll!L227=0,\"\",DataAll!L227)","v":{"$error":"#REF!"}},{"$f":"IF(DataAll!M227=0,\"\",DataAll!M227)","v":{"$error":"#REF!"}},{"$f":"IF(DataAll!N227=0,\"\",DataAll!N227)","v":{"$error":"#REF!"}},{"$f":"GrafikaHrany(E227,F227,G227,H227,DataAll!O227)","v":{"$error":"#VALUE!"}},{"$f":"IF(ISTEXT(DataAll!P227),DataAll!P227,\"\")","v":""},{"$f":"IF(AND(OR(ISTEXT(DataAll!Q227),DataAll!Q227<>0),A227<>\"\"),DataAll!Q227,\"\")","v":{"$error":"#REF!"}}]
[{"$f":"IF(ISTEXT(DataAll!A228),RemoveAccent(DataAll!A228),\"\")","v":""},{"$f":"IF(DataAll!B228=0,\"\",DataAll!B228)","v":{"$error":"#REF!"}},{"$f":"IF(DataAll!D228=0,\"\",DataAll!D228)","v":{"$error":"#REF!"}},{"$f":"IF(DataAll!F228=0,\"\",DataAll!F228)","v":{"$error":"#REF!"}},{"$f":"IF(DataAll!K228=0,\"\",DataAll!K228)","v":{"$error":"#REF!"}},{"$f":"IF(DataAll!L228=0,\"\",DataAll!L228)","v":{"$error":"#REF!"}},{"$f":"IF(DataAll!M228=0,\"\",DataAll!M228)","v":{"$error":"#REF!"}},{"$f":"IF(DataAll!N228=0,\"\",DataAll!N228)","v":{"$error":"#REF!"}},{"$f":"GrafikaHrany(E228,F228,G228,H228,DataAll!O228)","v":{"$error":"#VALUE!"}},{"$f":"IF(ISTEXT(DataAll!P228),DataAll!P228,\"\")","v":""},{"$f":"IF(AND(OR(ISTEXT(DataAll!Q228),DataAll!Q228<>0),A228<>\"\"),DataAll!Q228,\"\")","v":{"$error":"#REF!"}}]
[{"$f":"IF(ISTEXT(DataAll!A229),RemoveAccent(DataAll!A229),\"\")","v":""},{"$f":"IF(DataAll!B229=0,\"\",DataAll!B229)","v":{"$error":"#REF!"}},{"$f":"IF(DataAll!D229=0,\"\",DataAll!D229)","v":{"$error":"#REF!"}},{"$f":"IF(DataAll!F229=0,\"\",DataAll!F229)","v":{"$error":"#REF!"}},{"$f":"IF(DataAll!K229=0,\"\",DataAll!K229)","v":{"$error":"#REF!"}},{"$f":"IF(DataAll!L229=0,\"\",DataAll!L229)","v":{"$error":"#REF!"}},{"$f":"IF(DataAll!M229=0,\"\",DataAll!M229)","v":{"$error":"#REF!"}},{"$f":"IF(DataAll!N229=0,\"\",DataAll!N229)","v":{"$error":"#REF!"}},{"$f":"GrafikaHrany(E229,F229,G229,H229,DataAll!O229)","v":{"$error":"#VALUE!"}},{"$f":"IF(ISTEXT(DataAll!P229),DataAll!P229,\"\")","v":""},{"$f":"IF(AND(OR(ISTEXT(DataAll!Q229),DataAll!Q229<>0),A229<>\"\"),DataAll!Q229,\"\")","v":{"$error":"#REF!"}}]
[{"$f":"IF(ISTEXT(DataAll!A230),RemoveAccent(DataAll!A230),\"\")","v":""},{"$f":"IF(DataAll!B230=0,\"\",DataAll!B230)","v":{"$error":"#REF!"}},{"$f":"IF(DataAll!D230=0,\"\",DataAll!D230)","v":{"$error":"#REF!"}},{"$f":"IF(DataAll!F230=0,\"\",DataAll!F230)","v":{"$error":"#REF!"}},{"$f":"IF(DataAll!K230=0,\"\",DataAll!K230)","v":{"$error":"#REF!"}},{"$f":"IF(DataAll!L230=0,\"\",DataAll!L230)","v":{"$error":"#REF!"}},{"$f":"IF(DataAll!M230=0,\"\",DataAll!M230)","v":{"$error":"#REF!"}},{"$f":"IF(DataAll!N230=0,\"\",DataAll!N230)","v":{"$error":"#REF!"}},{"$f":"GrafikaHrany(E230,F230,G230,H230,DataAll!O230)","v":{"$error":"#VALUE!"}},{"$f":"IF(ISTEXT(DataAll!P230),DataAll!P230,\"\")","v":""},{"$f":"IF(AND(OR(ISTEXT(DataAll!Q230),DataAll!Q230<>0),A230<>\"\"),DataAll!Q230,\"\")","v":{"$error":"#REF!"}}]
[{"$f":"IF(ISTEXT(DataAll!A231),RemoveAccent(DataAll!A231),\"\")","v":""},{"$f":"IF(DataAll!B231=0,\"\",DataAll!B231)","v":{"$error":"#REF!"}},{"$f":"IF(DataAll!D231=0,\"\",DataAll!D231)","v":{"$error":"#REF!"}},{"$f":"IF(DataAll!F231=0,\"\",DataAll!F231)","v":{"$error":"#REF!"}},{"$f":"IF(DataAll!K231=0,\"\",DataAll!K231)","v":{"$error":"#REF!"}},{"$f":"IF(DataAll!L231=0,\"\",DataAll!L231)","v":{"$error":"#REF!"}},{"$f":"IF(DataAll!M231=0,\"\",DataAll!M231)","v":{"$error":"#REF!"}},{"$f":"IF(DataAll!N231=0,\"\",DataAll!N231)","v":{"$error":"#REF!"}},{"$f":"GrafikaHrany(E231,F231,G231,H231,DataAll!O231)","v":{"$error":"#VALUE!"}},{"$f":"IF(ISTEXT(DataAll!P231),DataAll!P231,\"\")","v":""},{"$f":"IF(AND(OR(ISTEXT(DataAll!Q231),DataAll!Q231<>0),A231<>\"\"),DataAll!Q231,\"\")","v":{"$error":"#REF!"}}]
[{"$f":"IF(ISTEXT(DataAll!A232),RemoveAccent(DataAll!A232),\"\")","v":""},{"$f":"IF(DataAll!B232=0,\"\",DataAll!B232)","v":{"$error":"#REF!"}},{"$f":"IF(DataAll!D232=0,\"\",DataAll!D232)","v":{"$error":"#REF!"}},{"$f":"IF(DataAll!F232=0,\"\",DataAll!F232)","v":{"$error":"#REF!"}},{"$f":"IF(DataAll!K232=0,\"\",DataAll!K232)","v":{"$error":"#REF!"}},{"$f":"IF(DataAll!L232=0,\"\",DataAll!L232)","v":{"$error":"#REF!"}},{"$f":"IF(DataAll!M232=0,\"\",DataAll!M232)","v":{"$error":"#REF!"}},{"$f":"IF(DataAll!N232=0,\"\",DataAll!N232)","v":{"$error":"#REF!"}},{"$f":"GrafikaHrany(E232,F232,G232,H232,DataAll!O232)","v":{"$error":"#VALUE!"}},{"$f":"IF(ISTEXT(DataAll!P232),DataAll!P232,\"\")","v":""},{"$f":"IF(AND(OR(ISTEXT(DataAll!Q232),DataAll!Q232<>0),A232<>\"\"),DataAll!Q232,\"\")","v":{"$error":"#REF!"}}]
[{"$f":"IF(ISTEXT(DataAll!A233),RemoveAccent(DataAll!A233),\"\")","v":""},{"$f":"IF(DataAll!B233=0,\"\",DataAll!B233)","v":{"$error":"#REF!"}},{"$f":"IF(DataAll!D233=0,\"\",DataAll!D233)","v":{"$error":"#REF!"}},{"$f":"IF(DataAll!F233=0,\"\",DataAll!F233)","v":{"$error":"#REF!"}},{"$f":"IF(DataAll!K233=0,\"\",DataAll!K233)","v":{"$error":"#REF!"}},{"$f":"IF(DataAll!L233=0,\"\",DataAll!L233)","v":{"$error":"#REF!"}},{"$f":"IF(DataAll!M233=0,\"\",DataAll!M233)","v":{"$error":"#REF!"}},{"$f":"IF(DataAll!N233=0,\"\",DataAll!N233)","v":{"$error":"#REF!"}},{"$f":"GrafikaHrany(E233,F233,G233,H233,DataAll!O233)","v":{"$error":"#VALUE!"}},{"$f":"IF(ISTEXT(DataAll!P233),DataAll!P233,\"\")","v":""},{"$f":"IF(AND(OR(ISTEXT(DataAll!Q233),DataAll!Q233<>0),A233<>\"\"),DataAll!Q233,\"\")","v":{"$error":"#REF!"}}]
[{"$f":"IF(ISTEXT(DataAll!A234),RemoveAccent(DataAll!A234),\"\")","v":""},{"$f":"IF(DataAll!B234=0,\"\",DataAll!B234)","v":{"$error":"#REF!"}},{"$f":"IF(DataAll!D234=0,\"\",DataAll!D234)","v":{"$error":"#REF!"}},{"$f":"IF(DataAll!F234=0,\"\",DataAll!F234)","v":{"$error":"#REF!"}},{"$f":"IF(DataAll!K234=0,\"\",DataAll!K234)","v":{"$error":"#REF!"}},{"$f":"IF(DataAll!L234=0,\"\",DataAll!L234)","v":{"$error":"#REF!"}},{"$f":"IF(DataAll!M234=0,\"\",DataAll!M234)","v":{"$error":"#REF!"}},{"$f":"IF(DataAll!N234=0,\"\",DataAll!N234)","v":{"$error":"#REF!"}},{"$f":"GrafikaHrany(E234,F234,G234,H234,DataAll!O234)","v":{"$error":"#VALUE!"}},{"$f":"IF(ISTEXT(DataAll!P234),DataAll!P234,\"\")","v":""},{"$f":"IF(AND(OR(ISTEXT(DataAll!Q234),DataAll!Q234<>0),A234<>\"\"),DataAll!Q234,\"\")","v":{"$error":"#REF!"}}]
[{"$f":"IF(ISTEXT(DataAll!A235),RemoveAccent(DataAll!A235),\"\")","v":""},{"$f":"IF(DataAll!B235=0,\"\",DataAll!B235)","v":{"$error":"#REF!"}},{"$f":"IF(DataAll!D235=0,\"\",DataAll!D235)","v":{"$error":"#REF!"}},{"$f":"IF(DataAll!F235=0,\"\",DataAll!F235)","v":{"$error":"#REF!"}},{"$f":"IF(DataAll!K235=0,\"\",DataAll!K235)","v":{"$error":"#REF!"}},{"$f":"IF(DataAll!L235=0,\"\",DataAll!L235)","v":{"$error":"#REF!"}},{"$f":"IF(DataAll!M235=0,\"\",DataAll!M235)","v":{"$error":"#REF!"}},{"$f":"IF(DataAll!N235=0,\"\",DataAll!N235)","v":{"$error":"#REF!"}},{"$f":"GrafikaHrany(E235,F235,G235,H235,DataAll!O235)","v":{"$error":"#VALUE!"}},{"$f":"IF(ISTEXT(DataAll!P235),DataAll!P235,\"\")","v":""},{"$f":"IF(AND(OR(ISTEXT(DataAll!Q235),DataAll!Q235<>0),A235<>\"\"),DataAll!Q235,\"\")","v":{"$error":"#REF!"}}]
[{"$f":"IF(ISTEXT(DataAll!A236),RemoveAccent(DataAll!A236),\"\")","v":""},{"$f":"IF(DataAll!B236=0,\"\",DataAll!B236)","v":{"$error":"#REF!"}},{"$f":"IF(DataAll!D236=0,\"\",DataAll!D236)","v":{"$error":"#REF!"}},{"$f":"IF(DataAll!F236=0,\"\",DataAll!F236)","v":{"$error":"#REF!"}},{"$f":"IF(DataAll!K236=0,\"\",DataAll!K236)","v":{"$error":"#REF!"}},{"$f":"IF(DataAll!L236=0,\"\",DataAll!L236)","v":{"$error":"#REF!"}},{"$f":"IF(DataAll!M236=0,\"\",DataAll!M236)","v":{"$error":"#REF!"}},{"$f":"IF(DataAll!N236=0,\"\",DataAll!N236)","v":{"$error":"#REF!"}},{"$f":"GrafikaHrany(E236,F236,G236,H236,DataAll!O236)","v":{"$error":"#VALUE!"}},{"$f":"IF(ISTEXT(DataAll!P236),DataAll!P236,\"\")","v":""},{"$f":"IF(AND(OR(ISTEXT(DataAll!Q236),DataAll!Q236<>0),A236<>\"\"),DataAll!Q236,\"\")","v":{"$error":"#REF!"}}]
[{"$f":"IF(ISTEXT(DataAll!A237),RemoveAccent(DataAll!A237),\"\")","v":""},{"$f":"IF(DataAll!B237=0,\"\",DataAll!B237)","v":{"$error":"#REF!"}},{"$f":"IF(DataAll!D237=0,\"\",DataAll!D237)","v":{"$error":"#REF!"}},{"$f":"IF(DataAll!F237=0,\"\",DataAll!F237)","v":{"$error":"#REF!"}},{"$f":"IF(DataAll!K237=0,\"\",DataAll!K237)","v":{"$error":"#REF!"}},{"$f":"IF(DataAll!L237=0,\"\",DataAll!L237)","v":{"$error":"#REF!"}},{"$f":"IF(DataAll!M237=0,\"\",DataAll!M237)","v":{"$error":"#REF!"}},{"$f":"IF(DataAll!N237=0,\"\",DataAll!N237)","v":{"$error":"#REF!"}},{"$f":"GrafikaHrany(E237,F237,G237,H237,DataAll!O237)","v":{"$error":"#VALUE!"}},{"$f":"IF(ISTEXT(DataAll!P237),DataAll!P237,\"\")","v":""},{"$f":"IF(AND(OR(ISTEXT(DataAll!Q237),DataAll!Q237<>0),A237<>\"\"),DataAll!Q237,\"\")","v":{"$error":"#REF!"}}]
[{"$f":"IF(ISTEXT(DataAll!A238),RemoveAccent(DataAll!A238),\"\")","v":""},{"$f":"IF(DataAll!B238=0,\"\",DataAll!B238)","v":{"$error":"#REF!"}},{"$f":"IF(DataAll!D238=0,\"\",DataAll!D238)","v":{"$error":"#REF!"}},{"$f":"IF(DataAll!F238=0,\"\",DataAll!F238)","v":{"$error":"#REF!"}},{"$f":"IF(DataAll!K238=0,\"\",DataAll!K238)","v":{"$error":"#REF!"}},{"$f":"IF(DataAll!L238=0,\"\",DataAll!L238)","v":{"$error":"#REF!"}},{"$f":"IF(DataAll!M238=0,\"\",DataAll!M238)","v":{"$error":"#REF!"}},{"$f":"IF(DataAll!N238=0,\"\",DataAll!N238)","v":{"$error":"#REF!"}},{"$f":"GrafikaHrany(E238,F238,G238,H238,DataAll!O238)","v":{"$error":"#VALUE!"}},{"$f":"IF(ISTEXT(DataAll!P238),DataAll!P238,\"\")","v":""},{"$f":"IF(AND(OR(ISTEXT(DataAll!Q238),DataAll!Q238<>0),A238<>\"\"),DataAll!Q238,\"\")","v":{"$error":"#REF!"}}]
[{"$f":"IF(ISTEXT(DataAll!A239),RemoveAccent(DataAll!A239),\"\")","v":""},{"$f":"IF(DataAll!B239=0,\"\",DataAll!B239)","v":{"$error":"#REF!"}},{"$f":"IF(DataAll!D239=0,\"\",DataAll!D239)","v":{"$error":"#REF!"}},{"$f":"IF(DataAll!F239=0,\"\",DataAll!F239)","v":{"$error":"#REF!"}},{"$f":"IF(DataAll!K239=0,\"\",DataAll!K239)","v":{"$error":"#REF!"}},{"$f":"IF(DataAll!L239=0,\"\",DataAll!L239)","v":{"$error":"#REF!"}},{"$f":"IF(DataAll!M239=0,\"\",DataAll!M239)","v":{"$error":"#REF!"}},{"$f":"IF(DataAll!N239=0,\"\",DataAll!N239)","v":{"$error":"#REF!"}},{"$f":"GrafikaHrany(E239,F239,G239,H239,DataAll!O239)","v":{"$error":"#VALUE!"}},{"$f":"IF(ISTEXT(DataAll!P239),DataAll!P239,\"\")","v":""},{"$f":"IF(AND(OR(ISTEXT(DataAll!Q239),DataAll!Q239<>0),A239<>\"\"),DataAll!Q239,\"\")","v":{"$error":"#REF!"}}]
[{"$f":"IF(ISTEXT(DataAll!A240),RemoveAccent(DataAll!A240),\"\")","v":""},{"$f":"IF(DataAll!B240=0,\"\",DataAll!B240)","v":{"$error":"#REF!"}},{"$f":"IF(DataAll!D240=0,\"\",DataAll!D240)","v":{"$error":"#REF!"}},{"$f":"IF(DataAll!F240=0,\"\",DataAll!F240)","v":{"$error":"#REF!"}},{"$f":"IF(DataAll!K240=0,\"\",DataAll!K240)","v":{"$error":"#REF!"}},{"$f":"IF(DataAll!L240=0,\"\",DataAll!L240)","v":{"$error":"#REF!"}},{"$f":"IF(DataAll!M240=0,\"\",DataAll!M240)","v":{"$error":"#REF!"}},{"$f":"IF(DataAll!N240=0,\"\",DataAll!N240)","v":{"$error":"#REF!"}},{"$f":"GrafikaHrany(E240,F240,G240,H240,DataAll!O240)","v":{"$error":"#VALUE!"}},{"$f":"IF(ISTEXT(DataAll!P240),DataAll!P240,\"\")","v":""},{"$f":"IF(AND(OR(ISTEXT(DataAll!Q240),DataAll!Q240<>0),A240<>\"\"),DataAll!Q240,\"\")","v":{"$error":"#REF!"}}]
[{"$f":"IF(ISTEXT(DataAll!A241),RemoveAccent(DataAll!A241),\"\")","v":""},{"$f":"IF(DataAll!B241=0,\"\",DataAll!B241)","v":{"$error":"#REF!"}},{"$f":"IF(DataAll!D241=0,\"\",DataAll!D241)","v":{"$error":"#REF!"}},{"$f":"IF(DataAll!F241=0,\"\",DataAll!F241)","v":{"$error":"#REF!"}},{"$f":"IF(DataAll!K241=0,\"\",DataAll!K241)","v":{"$error":"#REF!"}},{"$f":"IF(DataAll!L241=0,\"\",DataAll!L241)","v":{"$error":"#REF!"}},{"$f":"IF(DataAll!M241=0,\"\",DataAll!M241)","v":{"$error":"#REF!"}},{"$f":"IF(DataAll!N241=0,\"\",DataAll!N241)","v":{"$error":"#REF!"}},{"$f":"GrafikaHrany(E241,F241,G241,H241,DataAll!O241)","v":{"$error":"#VALUE!"}},{"$f":"IF(ISTEXT(DataAll!P241),DataAll!P241,\"\")","v":""},{"$f":"IF(AND(OR(ISTEXT(DataAll!Q241),DataAll!Q241<>0),A241<>\"\"),DataAll!Q241,\"\")","v":{"$error":"#REF!"}}]
[{"$f":"IF(ISTEXT(DataAll!A242),RemoveAccent(DataAll!A242),\"\")","v":""},{"$f":"IF(DataAll!B242=0,\"\",DataAll!B242)","v":{"$error":"#REF!"}},{"$f":"IF(DataAll!D242=0,\"\",DataAll!D242)","v":{"$error":"#REF!"}},{"$f":"IF(DataAll!F242=0,\"\",DataAll!F242)","v":{"$error":"#REF!"}},{"$f":"IF(DataAll!K242=0,\"\",DataAll!K242)","v":{"$error":"#REF!"}},{"$f":"IF(DataAll!L242=0,\"\",DataAll!L242)","v":{"$error":"#REF!"}},{"$f":"IF(DataAll!M242=0,\"\",DataAll!M242)","v":{"$error":"#REF!"}},{"$f":"IF(DataAll!N242=0,\"\",DataAll!N242)","v":{"$error":"#REF!"}},{"$f":"GrafikaHrany(E242,F242,G242,H242,DataAll!O242)","v":{"$error":"#VALUE!"}},{"$f":"IF(ISTEXT(DataAll!P242),DataAll!P242,\"\")","v":""},{"$f":"IF(AND(OR(ISTEXT(DataAll!Q242),DataAll!Q242<>0),A242<>\"\"),DataAll!Q242,\"\")","v":{"$error":"#REF!"}}]
[{"$f":"IF(ISTEXT(DataAll!A243),RemoveAccent(DataAll!A243),\"\")","v":""},{"$f":"IF(DataAll!B243=0,\"\",DataAll!B243)","v":{"$error":"#REF!"}},{"$f":"IF(DataAll!D243=0,\"\",DataAll!D243)","v":{"$error":"#REF!"}},{"$f":"IF(DataAll!F243=0,\"\",DataAll!F243)","v":{"$error":"#REF!"}},{"$f":"IF(DataAll!K243=0,\"\",DataAll!K243)","v":{"$error":"#REF!"}},{"$f":"IF(DataAll!L243=0,\"\",DataAll!L243)","v":{"$error":"#REF!"}},{"$f":"IF(DataAll!M243=0,\"\",DataAll!M243)","v":{"$error":"#REF!"}},{"$f":"IF(DataAll!N243=0,\"\",DataAll!N243)","v":{"$error":"#REF!"}},{"$f":"GrafikaHrany(E243,F243,G243,H243,DataAll!O243)","v":{"$error":"#VALUE!"}},{"$f":"IF(ISTEXT(DataAll!P243),DataAll!P243,\"\")","v":""},{"$f":"IF(AND(OR(ISTEXT(DataAll!Q243),DataAll!Q243<>0),A243<>\"\"),DataAll!Q243,\"\")","v":{"$error":"#REF!"}}]
[{"$f":"IF(ISTEXT(DataAll!A244),RemoveAccent(DataAll!A244),\"\")","v":""},{"$f":"IF(DataAll!B244=0,\"\",DataAll!B244)","v":{"$error":"#REF!"}},{"$f":"IF(DataAll!D244=0,\"\",DataAll!D244)","v":{"$error":"#REF!"}},{"$f":"IF(DataAll!F244=0,\"\",DataAll!F244)","v":{"$error":"#REF!"}},{"$f":"IF(DataAll!K244=0,\"\",DataAll!K244)","v":{"$error":"#REF!"}},{"$f":"IF(DataAll!L244=0,\"\",DataAll!L244)","v":{"$error":"#REF!"}},{"$f":"IF(DataAll!M244=0,\"\",DataAll!M244)","v":{"$error":"#REF!"}},{"$f":"IF(DataAll!N244=0,\"\",DataAll!N244)","v":{"$error":"#REF!"}},{"$f":"GrafikaHrany(E244,F244,G244,H244,DataAll!O244)","v":{"$error":"#VALUE!"}},{"$f":"IF(ISTEXT(DataAll!P244),DataAll!P244,\"\")","v":""},{"$f":"IF(AND(OR(ISTEXT(DataAll!Q244),DataAll!Q244<>0),A244<>\"\"),DataAll!Q244,\"\")","v":{"$error":"#REF!"}}]
[{"$f":"IF(ISTEXT(DataAll!A245),RemoveAccent(DataAll!A245),\"\")","v":""},{"$f":"IF(DataAll!B245=0,\"\",DataAll!B245)","v":{"$error":"#REF!"}},{"$f":"IF(DataAll!D245=0,\"\",DataAll!D245)","v":{"$error":"#REF!"}},{"$f":"IF(DataAll!F245=0,\"\",DataAll!F245)","v":{"$error":"#REF!"}},{"$f":"IF(DataAll!K245=0,\"\",DataAll!K245)","v":{"$error":"#REF!"}},{"$f":"IF(DataAll!L245=0,\"\",DataAll!L245)","v":{"$error":"#REF!"}},{"$f":"IF(DataAll!M245=0,\"\",DataAll!M245)","v":{"$error":"#REF!"}},{"$f":"IF(DataAll!N245=0,\"\",DataAll!N245)","v":{"$error":"#REF!"}},{"$f":"GrafikaHrany(E245,F245,G245,H245,DataAll!O245)","v":{"$error":"#VALUE!"}},{"$f":"IF(ISTEXT(DataAll!P245),DataAll!P245,\"\")","v":""},{"$f":"IF(AND(OR(ISTEXT(DataAll!Q245),DataAll!Q245<>0),A245<>\"\"),DataAll!Q245,\"\")","v":{"$error":"#REF!"}}]
[{"$f":"IF(ISTEXT(DataAll!A246),RemoveAccent(DataAll!A246),\"\")","v":""},{"$f":"IF(DataAll!B246=0,\"\",DataAll!B246)","v":{"$error":"#REF!"}},{"$f":"IF(DataAll!D246=0,\"\",DataAll!D246)","v":{"$error":"#REF!"}},{"$f":"IF(DataAll!F246=0,\"\",DataAll!F246)","v":{"$error":"#REF!"}},{"$f":"IF(DataAll!K246=0,\"\",DataAll!K246)","v":{"$error":"#REF!"}},{"$f":"IF(DataAll!L246=0,\"\",DataAll!L246)","v":{"$error":"#REF!"}},{"$f":"IF(DataAll!M246=0,\"\",DataAll!M246)","v":{"$error":"#REF!"}},{"$f":"IF(DataAll!N246=0,\"\",DataAll!N246)","v":{"$error":"#REF!"}},{"$f":"GrafikaHrany(E246,F246,G246,H246,DataAll!O246)","v":{"$error":"#VALUE!"}},{"$f":"IF(ISTEXT(DataAll!P246),DataAll!P246,\"\")","v":""},{"$f":"IF(AND(OR(ISTEXT(DataAll!Q246),DataAll!Q246<>0),A246<>\"\"),DataAll!Q246,\"\")","v":{"$error":"#REF!"}}]
[{"$f":"IF(ISTEXT(DataAll!A247),RemoveAccent(DataAll!A247),\"\")","v":""},{"$f":"IF(DataAll!B247=0,\"\",DataAll!B247)","v":{"$error":"#REF!"}},{"$f":"IF(DataAll!D247=0,\"\",DataAll!D247)","v":{"$error":"#REF!"}},{"$f":"IF(DataAll!F247=0,\"\",DataAll!F247)","v":{"$error":"#REF!"}},{"$f":"IF(DataAll!K247=0,\"\",DataAll!K247)","v":{"$error":"#REF!"}},{"$f":"IF(DataAll!L247=0,\"\",DataAll!L247)","v":{"$error":"#REF!"}},{"$f":"IF(DataAll!M247=0,\"\",DataAll!M247)","v":{"$error":"#REF!"}},{"$f":"IF(DataAll!N247=0,\"\",DataAll!N247)","v":{"$error":"#REF!"}},{"$f":"GrafikaHrany(E247,F247,G247,H247,DataAll!O247)","v":{"$error":"#VALUE!"}},{"$f":"IF(ISTEXT(DataAll!P247),DataAll!P247,\"\")","v":""},{"$f":"IF(AND(OR(ISTEXT(DataAll!Q247),DataAll!Q247<>0),A247<>\"\"),DataAll!Q247,\"\")","v":{"$error":"#REF!"}}]
[{"$f":"IF(ISTEXT(DataAll!A248),RemoveAccent(DataAll!A248),\"\")","v":""},{"$f":"IF(DataAll!B248=0,\"\",DataAll!B248)","v":{"$error":"#REF!"}},{"$f":"IF(DataAll!D248=0,\"\",DataAll!D248)","v":{"$error":"#REF!"}},{"$f":"IF(DataAll!F248=0,\"\",DataAll!F248)","v":{"$error":"#REF!"}},{"$f":"IF(DataAll!K248=0,\"\",DataAll!K248)","v":{"$error":"#REF!"}},{"$f":"IF(DataAll!L248=0,\"\",DataAll!L248)","v":{"$error":"#REF!"}},{"$f":"IF(DataAll!M248=0,\"\",DataAll!M248)","v":{"$error":"#REF!"}},{"$f":"IF(DataAll!N248=0,\"\",DataAll!N248)","v":{"$error":"#REF!"}},{"$f":"GrafikaHrany(E248,F248,G248,H248,DataAll!O248)","v":{"$error":"#VALUE!"}},{"$f":"IF(ISTEXT(DataAll!P248),DataAll!P248,\"\")","v":""},{"$f":"IF(AND(OR(ISTEXT(DataAll!Q248),DataAll!Q248<>0),A248<>\"\"),DataAll!Q248,\"\")","v":{"$error":"#REF!"}}]
[{"$f":"IF(ISTEXT(DataAll!A249),RemoveAccent(DataAll!A249),\"\")","v":""},{"$f":"IF(DataAll!B249=0,\"\",DataAll!B249)","v":{"$error":"#REF!"}},{"$f":"IF(DataAll!D249=0,\"\",DataAll!D249)","v":{"$error":"#REF!"}},{"$f":"IF(DataAll!F249=0,\"\",DataAll!F249)","v":{"$error":"#REF!"}},{"$f":"IF(DataAll!K249=0,\"\",DataAll!K249)","v":{"$error":"#REF!"}},{"$f":"IF(DataAll!L249=0,\"\",DataAll!L249)","v":{"$error":"#REF!"}},{"$f":"IF(DataAll!M249=0,\"\",DataAll!M249)","v":{"$error":"#REF!"}},{"$f":"IF(DataAll!N249=0,\"\",DataAll!N249)","v":{"$error":"#REF!"}},{"$f":"GrafikaHrany(E249,F249,G249,H249,DataAll!O249)","v":{"$error":"#VALUE!"}},{"$f":"IF(ISTEXT(DataAll!P249),DataAll!P249,\"\")","v":""},{"$f":"IF(AND(OR(ISTEXT(DataAll!Q249),DataAll!Q249<>0),A249<>\"\"),DataAll!Q249,\"\")","v":{"$error":"#REF!"}}]
[{"$f":"IF(ISTEXT(DataAll!A250),RemoveAccent(DataAll!A250),\"\")","v":""},{"$f":"IF(DataAll!B250=0,\"\",DataAll!B250)","v":{"$error":"#REF!"}},{"$f":"IF(DataAll!D250=0,\"\",DataAll!D250)","v":{"$error":"#REF!"}},{"$f":"IF(DataAll!F250=0,\"\",DataAll!F250)","v":{"$error":"#REF!"}},{"$f":"IF(DataAll!K250=0,\"\",DataAll!K250)","v":{"$error":"#REF!"}},{"$f":"IF(DataAll!L250=0,\"\",DataAll!L250)","v":{"$error":"#REF!"}},{"$f":"IF(DataAll!M250=0,\"\",DataAll!M250)","v":{"$error":"#REF!"}},{"$f":"IF(DataAll!N250=0,\"\",DataAll!N250)","v":{"$error":"#REF!"}},{"$f":"GrafikaHrany(E250,F250,G250,H250,DataAll!O250)","v":{"$error":"#VALUE!"}},{"$f":"IF(ISTEXT(DataAll!P250),DataAll!P250,\"\")","v":""},{"$f":"IF(AND(OR(ISTEXT(DataAll!Q250),DataAll!Q250<>0),A250<>\"\"),DataAll!Q250,\"\")","v":{"$error":"#REF!"}}]
[{"$f":"IF(ISTEXT(DataAll!A251),RemoveAccent(DataAll!A251),\"\")","v":""},{"$f":"IF(DataAll!B251=0,\"\",DataAll!B251)","v":{"$error":"#REF!"}},{"$f":"IF(DataAll!D251=0,\"\",DataAll!D251)","v":{"$error":"#REF!"}},{"$f":"IF(DataAll!F251=0,\"\",DataAll!F251)","v":{"$error":"#REF!"}},{"$f":"IF(DataAll!K251=0,\"\",DataAll!K251)","v":{"$error":"#REF!"}},{"$f":"IF(DataAll!L251=0,\"\",DataAll!L251)","v":{"$error":"#REF!"}},{"$f":"IF(DataAll!M251=0,\"\",DataAll!M251)","v":{"$error":"#REF!"}},{"$f":"IF(DataAll!N251=0,\"\",DataAll!N251)","v":{"$error":"#REF!"}},{"$f":"GrafikaHrany(E251,F251,G251,H251,DataAll!O251)","v":{"$error":"#VALUE!"}},{"$f":"IF(ISTEXT(DataAll!P251),DataAll!P251,\"\")","v":""},{"$f":"IF(AND(OR(ISTEXT(DataAll!Q251),DataAll!Q251<>0),A251<>\"\"),DataAll!Q251,\"\")","v":{"$error":"#REF!"}}]

{"sheet":"DataAll","index":11,"n_rows":251,"n_cols":17,"rows_kept":251,"cut":false,"hidden":true,"merged":[]}
["nazev","x",null,"y",null,"ks",null,null,null,null,"x1","x2","y1","y2","hrana","poznamka","obj.cislo"]
[{"$f":"#REF!","v":{"$error":"#REF!"}},{"$f":"#REF!","v":{"$error":"#REF!"}},{"$f":"#REF!","v":{"$error":"#REF!"}},{"$f":"#REF!","v":{"$error":"#REF!"}},{"$f":"#REF!","v":{"$error":"#REF!"}},{"$f":"#REF!","v":{"$error":"#REF!"}},{"$f":"#REF!","v":{"$error":"#REF!"}},{"$f":"#REF!","v":{"$error":"#REF!"}},{"$f":"#REF!","v":{"$error":"#REF!"}},{"$f":"#REF!","v":{"$error":"#REF!"}},{"$f":"#REF!","v":{"$error":"#REF!"}},{"$f":"#REF!","v":{"$error":"#REF!"}},{"$f":"#REF!","v":{"$error":"#REF!"}},{"$f":"#REF!","v":{"$error":"#REF!"}},{"$f":"#REF!","v":{"$error":"#REF!"}},{"$f":"#REF!","v":{"$error":"#REF!"}},{"$f":"#REF!","v":{"$error":"#REF!"}}]
[{"$f":"#REF!","v":{"$error":"#REF!"}},{"$f":"#REF!","v":{"$error":"#REF!"}},{"$f":"#REF!","v":{"$error":"#REF!"}},{"$f":"#REF!","v":{"$error":"#REF!"}},{"$f":"#REF!","v":{"$error":"#REF!"}},{"$f":"#REF!","v":{"$error":"#REF!"}},{"$f":"#REF!","v":{"$error":"#REF!"}},{"$f":"#REF!","v":{"$error":"#REF!"}},{"$f":"#REF!","v":{"$error":"#REF!"}},{"$f":"#REF!","v":{"$error":"#REF!"}},{"$f":"#REF!","v":{"$error":"#REF!"}},{"$f":"#REF!","v":{"$error":"#REF!"}},{"$f":"#REF!","v":{"$error":"#REF!"}},{"$f":"#REF!","v":{"$error":"#REF!"}},{"$f":"#REF!","v":{"$error":"#REF!"}},{"$f":"#REF!","v":{"$error":"#REF!"}},{"$f":"#REF!","v":{"$error":"#REF!"}}]
[{"$f":"#REF!","v":{"$error":"#REF!"}},{"$f":"#REF!","v":{"$error":"#REF!"}},{"$f":"#REF!","v":{"$error":"#REF!"}},{"$f":"#REF!","v":{"$error":"#REF!"}},{"$f":"#REF!","v":{"$error":"#REF!"}},{"$f":"#REF!","v":{"$error":"#REF!"}},{"$f":"#REF!","v":{"$error":"#REF!"}},{"$f":"#REF!","v":{"$error":"#REF!"}},{"$f":"#REF!","v":{"$error":"#REF!"}},{"$f":"#REF!","v":{"$error":"#REF!"}},{"$f":"#REF!","v":{"$error":"#REF!"}},{"$f":"#REF!","v":{"$error":"#REF!"}},{"$f":"#REF!","v":{"$error":"#REF!"}},{"$f":"#REF!","v":{"$error":"#REF!"}},{"$f":"#REF!","v":{"$error":"#REF!"}},{"$f":"#REF!","v":{"$error":"#REF!"}},{"$f":"#REF!","v":{"$error":"#REF!"}}]
[{"$f":"#REF!","v":{"$error":"#REF!"}},{"$f":"#REF!","v":{"$error":"#REF!"}},{"$f":"#REF!","v":{"$error":"#REF!"}},{"$f":"#REF!","v":{"$error":"#REF!"}},{"$f":"#REF!","v":{"$error":"#REF!"}},{"$f":"#REF!","v":{"$error":"#REF!"}},{"$f":"#REF!","v":{"$error":"#REF!"}},{"$f":"#REF!","v":{"$error":"#REF!"}},{"$f":"#REF!","v":{"$error":"#REF!"}},{"$f":"#REF!","v":{"$error":"#REF!"}},{"$f":"#REF!","v":{"$error":"#REF!"}},{"$f":"#REF!","v":{"$error":"#REF!"}},{"$f":"#REF!","v":{"$error":"#REF!"}},{"$f":"#REF!","v":{"$error":"#REF!"}},{"$f":"#REF!","v":{"$error":"#REF!"}},{"$f":"#REF!","v":{"$error":"#REF!"}},{"$f":"#REF!","v":{"$error":"#REF!"}}]
[{"$f":"#REF!","v":{"$error":"#REF!"}},{"$f":"#REF!","v":{"$error":"#REF!"}},{"$f":"#REF!","v":{"$error":"#REF!"}},{"$f":"#REF!","v":{"$error":"#REF!"}},{"$f":"#REF!","v":{"$error":"#REF!"}},{"$f":"#REF!","v":{"$error":"#REF!"}},{"$f":"#REF!","v":{"$error":"#REF!"}},{"$f":"#REF!","v":{"$error":"#REF!"}},{"$f":"#REF!","v":{"$error":"#REF!"}},{"$f":"#REF!","v":{"$error":"#REF!"}},{"$f":"#REF!","v":{"$error":"#REF!"}},{"$f":"#REF!","v":{"$error":"#REF!"}},{"$f":"#REF!","v":{"$error":"#REF!"}},{"$f":"#REF!","v":{"$error":"#REF!"}},{"$f":"#REF!","v":{"$error":"#REF!"}},{"$f":"#REF!","v":{"$error":"#REF!"}},{"$f":"#REF!","v":{"$error":"#REF!"}}]
[{"$f":"#REF!","v":{"$error":"#REF!"}},{"$f":"#REF!","v":{"$error":"#REF!"}},{"$f":"#REF!","v":{"$error":"#REF!"}},{"$f":"#REF!","v":{"$error":"#REF!"}},{"$f":"#REF!","v":{"$error":"#REF!"}},{"$f":"#REF!","v":{"$error":"#REF!"}},{"$f":"#REF!","v":{"$error":"#REF!"}},{"$f":"#REF!","v":{"$error":"#REF!"}},{"$f":"#REF!","v":{"$error":"#REF!"}},{"$f":"#REF!","v":{"$error":"#REF!"}},{"$f":"#REF!","v":{"$error":"#REF!"}},{"$f":"#REF!","v":{"$error":"#REF!"}},{"$f":"#REF!","v":{"$error":"#REF!"}},{"$f":"#REF!","v":{"$error":"#REF!"}},{"$f":"#REF!","v":{"$error":"#REF!"}},{"$f":"#REF!","v":{"$error":"#REF!"}},{"$f":"#REF!","v":{"$error":"#REF!"}}]
[{"$f":"#REF!","v":{"$error":"#REF!"}},{"$f":"#REF!","v":{"$error":"#REF!"}},{"$f":"#REF!","v":{"$error":"#REF!"}},{"$f":"#REF!","v":{"$error":"#REF!"}},{"$f":"#REF!","v":{"$error":"#REF!"}},{"$f":"#REF!","v":{"$error":"#REF!"}},{"$f":"#REF!","v":{"$error":"#REF!"}},{"$f":"#REF!","v":{"$error":"#REF!"}},{"$f":"#REF!","v":{"$error":"#REF!"}},{"$f":"#REF!","v":{"$error":"#REF!"}},{"$f":"#REF!","v":{"$error":"#REF!"}},{"$f":"#REF!","v":{"$error":"#REF!"}},{"$f":"#REF!","v":{"$error":"#REF!"}},{"$f":"#REF!","v":{"$error":"#REF!"}},{"$f":"#REF!","v":{"$error":"#REF!"}},{"$f":"#REF!","v":{"$error":"#REF!"}},{"$f":"#REF!","v":{"$error":"#REF!"}}]
[{"$f":"#REF!","v":{"$error":"#REF!"}},{"$f":"#REF!","v":{"$error":"#REF!"}},{"$f":"#REF!","v":{"$error":"#REF!"}},{"$f":"#REF!","v":{"$error":"#REF!"}},{"$f":"#REF!","v":{"$error":"#REF!"}},{"$f":"#REF!","v":{"$error":"#REF!"}},{"$f":"#REF!","v":{"$error":"#REF!"}},{"$f":"#REF!","v":{"$error":"#REF!"}},{"$f":"#REF!","v":{"$error":"#REF!"}},{"$f":"#REF!","v":{"$error":"#REF!"}},{"$f":"#REF!","v":{"$error":"#REF!"}},{"$f":"#REF!","v":{"$error":"#REF!"}},{"$f":"#REF!","v":{"$error":"#REF!"}},{"$f":"#REF!","v":{"$error":"#REF!"}},{"$f":"#REF!","v":{"$error":"#REF!"}},{"$f":"#REF!","v":{"$error":"#REF!"}},{"$f":"#REF!","v":{"$error":"#REF!"}}]
[{"$f":"#REF!","v":{"$error":"#REF!"}},{"$f":"#REF!","v":{"$error":"#REF!"}},{"$f":"#REF!","v":{"$error":"#REF!"}},{"$f":"#REF!","v":{"$error":"#REF!"}},{"$f":"#REF!","v":{"$error":"#REF!"}},{"$f":"#REF!","v":{"$error":"#REF!"}},{"$f":"#REF!","v":{"$error":"#REF!"}},{"$f":"#REF!","v":{"$error":"#REF!"}},{"$f":"#REF!","v":{"$error":"#REF!"}},{"$f":"#REF!","v":{"$error":"#REF!"}},{"$f":"#REF!","v":{"$error":"#REF!"}},{"$f":"#REF!","v":{"$error":"#REF!"}},{"$f":"#REF!","v":{"$error":"#REF!"}},{"$f":"#REF!","v":{"$error":"#REF!"}},{"$f":"#REF!","v":{"$error":"#REF!"}},{"$f":"#REF!","v":{"$error":"#REF!"}},{"$f":"#REF!","v":{"$error":"#REF!"}}]
[{"$f":"#REF!","v":{"$error":"#REF!"}},{"$f":"#REF!","v":{"$error":"#REF!"}},{"$f":"#REF!","v":{"$error":"#REF!"}},{"$f":"#REF!","v":{"$error":"#REF!"}},{"$f":"#REF!","v":{"$error":"#REF!"}},{"$f":"#REF!","v":{"$error":"#REF!"}},{"$f":"#REF!","v":{"$error":"#REF!"}},{"$f":"#REF!","v":{"$error":"#REF!"}},{"$f":"#REF!","v":{"$error":"#REF!"}},{"$f":"#REF!","v":{"$error":"#REF!"}},{"$f":"#REF!","v":{"$error":"#REF!"}},{"$f":"#REF!","v":{"$error":"#REF!"}},{"$f":"#REF!","v":{"$error":"#REF!"}},{"$f":"#REF!","v":{"$error":"#REF!"}},{"$f":"#REF!","v":{"$error":"#REF!"}},{"$f":"#REF!","v":{"$error":"#REF!"}},{"$f":"#REF!","v":{"$error":"#REF!"}}]
[{"$f":"#REF!","v":{"$error":"#REF!"}},{"$f":"#REF!","v":{"$error":"#REF!"}},{"$f":"#REF!","v":{"$error":"#REF!"}},{"$f":"#REF!","v":{"$error":"#REF!"}},{"$f":"#REF!","v":{"$error":"#REF!"}},{"$f":"#REF!","v":{"$error":"#REF!"}},{"$f":"#REF!","v":{"$error":"#REF!"}},{"$f":"#REF!","v":{"$error":"#REF!"}},{"$f":"#REF!","v":{"$error":"#REF!"}},{"$f":"#REF!","v":{"$error":"#REF!"}},{"$f":"#REF!","v":{"$error":"#REF!"}},{"$f":"#REF!","v":{"$error":"#REF!"}},{"$f":"#REF!","v":{"$error":"#REF!"}},{"$f":"#REF!","v":{"$error":"#REF!"}},{"$f":"#REF!","v":{"$error":"#REF!"}},{"$f":"#REF!","v":{"$error":"#REF!"}},{"$f":"#REF!","v":{"$error":"#REF!"}}]
[{"$f":"#REF!","v":{"$error":"#REF!"}},{"$f":"#REF!","v":{"$error":"#REF!"}},{"$f":"#REF!","v":{"$error":"#REF!"}},{"$f":"#REF!","v":{"$error":"#REF!"}},{"$f":"#REF!","v":{"$error":"#REF!"}},{"$f":"#REF!","v":{"$error":"#REF!"}},{"$f":"#REF!","v":{"$error":"#REF!"}},{"$f":"#REF!","v":{"$error":"#REF!"}},{"$f":"#REF!","v":{"$error":"#REF!"}},{"$f":"#REF!","v":{"$error":"#REF!"}},{"$f":"#REF!","v":{"$error":"#REF!"}},{"$f":"#REF!","v":{"$error":"#REF!"}},{"$f":"#REF!","v":{"$error":"#REF!"}},{"$f":"#REF!","v":{"$error":"#REF!"}},{"$f":"#REF!","v":{"$error":"#REF!"}},{"$f":"#REF!","v":{"$error":"#REF!"}},{"$f":"#REF!","v":{"$error":"#REF!"}}]
[{"$f":"#REF!","v":{"$error":"#REF!"}},{"$f":"#REF!","v":{"$error":"#REF!"}},{"$f":"#REF!","v":{"$error":"#REF!"}},{"$f":"#REF!","v":{"$error":"#REF!"}},{"$f":"#REF!","v":{"$error":"#REF!"}},{"$f":"#REF!","v":{"$error":"#REF!"}},{"$f":"#REF!","v":{"$error":"#REF!"}},{"$f":"#REF!","v":{"$error":"#REF!"}},{"$f":"#REF!","v":{"$error":"#REF!"}},{"$f":"#REF!","v":{"$error":"#REF!"}},{"$f":"#REF!","v":{"$error":"#REF!"}},{"$f":"#REF!","v":{"$error":"#REF!"}},{"$f":"#REF!","v":{"$error":"#REF!"}},{"$f":"#REF!","v":{"$error":"#REF!"}},{"$f":"#REF!","v":{"$error":"#REF!"}},{"$f":"#REF!","v":{"$error":"#REF!"}},{"$f":"#REF!","v":{"$error":"#REF!"}}]
[{"$f":"#REF!","v":{"$error":"#REF!"}},{"$f":"#REF!","v":{"$error":"#REF!"}},{"$f":"#REF!","v":{"$error":"#REF!"}},{"$f":"#REF!","v":{"$error":"#REF!"}},{"$f":"#REF!","v":{"$error":"#REF!"}},{"$f":"#REF!","v":{"$error":"#REF!"}},{"$f":"#REF!","v":{"$error":"#REF!"}},{"$f":"#REF!","v":{"$error":"#REF!"}},{"$f":"#REF!","v":{"$error":"#REF!"}},{"$f":"#REF!","v":{"$error":"#REF!"}},{"$f":"#REF!","v":{"$error":"#REF!"}},{"$f":"#REF!","v":{"$error":"#REF!"}},{"$f":"#REF!","v":{"$error":"#REF!"}},{"$f":"#REF!","v":{"$error":"#REF!"}},{"$f":"#REF!","v":{"$error":"#REF!"}},{"$f":"#REF!","v":{"$error":"#REF!"}},{"$f":"#REF!","v":{"$error":"#REF!"}}]
[{"$f":"#REF!","v":{"$error":"#REF!"}},{"$f":"#REF!","v":{"$error":"#REF!"}},{"$f":"#REF!","v":{"$error":"#REF!"}},{"$f":"#REF!","v":{"$error":"#REF!"}},{"$f":"#REF!","v":{"$error":"#REF!"}},{"$f":"#REF!","v":{"$error":"#REF!"}},{"$f":"#REF!","v":{"$error":"#REF!"}},{"$f":"#REF!","v":{"$error":"#REF!"}},{"$f":"#REF!","v":{"$error":"#REF!"}},{"$f":"#REF!","v":{"$error":"#REF!"}},{"$f":"#REF!","v":{"$error":"#REF!"}},{"$f":"#REF!","v":{"$error":"#REF!"}},{"$f":"#REF!","v":{"$error":"#REF!"}},{"$f":"#REF!","v":{"$error":"#REF!"}},{"$f":"#REF!","v":{"$error":"#REF!"}},{"$f":"#REF!","v":{"$error":"#REF!"}},{"$f":"#REF!","v":{"$error":"#REF!"}}]
[{"$f":"#REF!","v":{"$error":"#REF!"}},{"$f":"#REF!","v":{"$error":"#REF!"}},{"$f":"#REF!","v":{"$error":"#REF!"}},{"$f":"#REF!","v":{"$error":"#REF!"}},{"$f":"#REF!","v":{"$error":"#REF!"}},{"$f":"#REF!","v":{"$error":"#REF!"}},{"$f":"#REF!","v":{"$error":"#REF!"}},{"$f":"#REF!","v":{"$error":"#REF!"}},{"$f":"#REF!","v":{"$error":"#REF!"}},{"$f":"#REF!","v":{"$error":"#REF!"}},{"$f":"#REF!","v":{"$error":"#REF!"}},{"$f":"#REF!","v":{"$error":"#REF!"}},{"$f":"#REF!","v":{"$error":"#REF!"}},{"$f":"#REF!","v":{"$error":"#REF!"}},{"$f":"#REF!","v":{"$error":"#REF!"}},{"$f":"#REF!","v":{"$error":"#REF!"}},{"$f":"#REF!","v":{"$error":"#REF!"}}]
[{"$f":"#REF!","v":{"$error":"#REF!"}},{"$f":"#REF!","v":{"$error":"#REF!"}},{"$f":"#REF!","v":{"$error":"#REF!"}},{"$f":"#REF!","v":{"$error":"#REF!"}},{"$f":"#REF!","v":{"$error":"#REF!"}},{"$f":"#REF!","v":{"$error":"#REF!"}},{"$f":"#REF!","v":{"$error":"#REF!"}},{"$f":"#REF!","v":{"$error":"#REF!"}},{"$f":"#REF!","v":{"$error":"#REF!"}},{"$f":"#REF!","v":{"$error":"#REF!"}},{"$f":"#REF!","v":{"$error":"#REF!"}},{"$f":"#REF!","v":{"$error":"#REF!"}},{"$f":"#REF!","v":{"$error":"#REF!"}},{"$f":"#REF!","v":{"$error":"#REF!"}},{"$f":"#REF!","v":{"$error":"#REF!"}},{"$f":"#REF!","v":{"$error":"#REF!"}},{"$f":"#REF!","v":{"$error":"#REF!"}}]
[{"$f":"#REF!","v":{"$error":"#REF!"}},{"$f":"#REF!","v":{"$error":"#REF!"}},{"$f":"#REF!","v":{"$error":"#REF!"}},{"$f":"#REF!","v":{"$error":"#REF!"}},{"$f":"#REF!","v":{"$error":"#REF!"}},{"$f":"#REF!","v":{"$error":"#REF!"}},{"$f":"#REF!","v":{"$error":"#REF!"}},{"$f":"#REF!","v":{"$error":"#REF!"}},{"$f":"#REF!","v":{"$error":"#REF!"}},{"$f":"#REF!","v":{"$error":"#REF!"}},{"$f":"#REF!","v":{"$error":"#REF!"}},{"$f":"#REF!","v":{"$error":"#REF!"}},{"$f":"#REF!","v":{"$error":"#REF!"}},{"$f":"#REF!","v":{"$error":"#REF!"}},{"$f":"#REF!","v":{"$error":"#REF!"}},{"$f":"#REF!","v":{"$error":"#REF!"}},{"$f":"#REF!","v":{"$error":"#REF!"}}]
[{"$f":"#REF!","v":{"$error":"#REF!"}},{"$f":"#REF!","v":{"$error":"#REF!"}},{"$f":"#REF!","v":{"$error":"#REF!"}},{"$f":"#REF!","v":{"$error":"#REF!"}},{"$f":"#REF!","v":{"$error":"#REF!"}},{"$f":"#REF!","v":{"$error":"#REF!"}},{"$f":"#REF!","v":{"$error":"#REF!"}},{"$f":"#REF!","v":{"$error":"#REF!"}},{"$f":"#REF!","v":{"$error":"#REF!"}},{"$f":"#REF!","v":{"$error":"#REF!"}},{"$f":"#REF!","v":{"$error":"#REF!"}},{"$f":"#REF!","v":{"$error":"#REF!"}},{"$f":"#REF!","v":{"$error":"#REF!"}},{"$f":"#REF!","v":{"$error":"#REF!"}},{"$f":"#REF!","v":{"$error":"#REF!"}},{"$f":"#REF!","v":{"$error":"#REF!"}},{"$f":"#REF!","v":{"$error":"#REF!"}}]
[{"$f":"#REF!","v":{"$error":"#REF!"}},{"$f":"#REF!","v":{"$error":"#REF!"}},{"$f":"#REF!","v":{"$error":"#REF!"}},{"$f":"#REF!","v":{"$error":"#REF!"}},{"$f":"#REF!","v":{"$error":"#REF!"}},{"$f":"#REF!","v":{"$error":"#REF!"}},{"$f":"#REF!","v":{"$error":"#REF!"}},{"$f":"#REF!","v":{"$error":"#REF!"}},{"$f":"#REF!","v":{"$error":"#REF!"}},{"$f":"#REF!","v":{"$error":"#REF!"}},{"$f":"#REF!","v":{"$error":"#REF!"}},{"$f":"#REF!","v":{"$error":"#REF!"}},{"$f":"#REF!","v":{"$error":"#REF!"}},{"$f":"#REF!","v":{"$error":"#REF!"}},{"$f":"#REF!","v":{"$error":"#REF!"}},{"$f":"#REF!","v":{"$error":"#REF!"}},{"$f":"#REF!","v":{"$error":"#REF!"}}]
[{"$f":"#REF!","v":{"$error":"#REF!"}},{"$f":"#REF!","v":{"$error":"#REF!"}},{"$f":"#REF!","v":{"$error":"#REF!"}},{"$f":"#REF!","v":{"$error":"#REF!"}},{"$f":"#REF!","v":{"$error":"#REF!"}},{"$f":"#REF!","v":{"$error":"#REF!"}},{"$f":"#REF!","v":{"$error":"#REF!"}},{"$f":"#REF!","v":{"$error":"#REF!"}},{"$f":"#REF!","v":{"$error":"#REF!"}},{"$f":"#REF!","v":{"$error":"#REF!"}},{"$f":"#REF!","v":{"$error":"#REF!"}},{"$f":"#REF!","v":{"$error":"#REF!"}},{"$f":"#REF!","v":{"$error":"#REF!"}},{"$f":"#REF!","v":{"$error":"#REF!"}},{"$f":"#REF!","v":{"$error":"#REF!"}},{"$f":"#REF!","v":{"$error":"#REF!"}},{"$f":"#REF!","v":{"$error":"#REF!"}}]
[{"$f":"#REF!","v":{"$error":"#REF!"}},{"$f":"#REF!","v":{"$error":"#REF!"}},{"$f":"#REF!","v":{"$error":"#REF!"}},{"$f":"#REF!","v":{"$error":"#REF!"}},{"$f":"#REF!","v":{"$error":"#REF!"}},{"$f":"#REF!","v":{"$error":"#REF!"}},{"$f":"#REF!","v":{"$error":"#REF!"}},{"$f":"#REF!","v":{"$error":"#REF!"}},{"$f":"#REF!","v":{"$error":"#REF!"}},{"$f":"#REF!","v":{"$error":"#REF!"}},{"$f":"#REF!","v":{"$error":"#REF!"}},{"$f":"#REF!","v":{"$error":"#REF!"}},{"$f":"#REF!","v":{"$error":"#REF!"}},{"$f":"#REF!","v":{"$error":"#REF!"}},{"$f":"#REF!","v":{"$error":"#REF!"}},{"$f":"#REF!","v":{"$error":"#REF!"}},{"$f":"#REF!","v":{"$error":"#REF!"}}]
[{"$f":"#REF!","v":{"$error":"#REF!"}},{"$f":"#REF!","v":{"$error":"#REF!"}},{"$f":"#REF!","v":{"$error":"#REF!"}},{"$f":"#REF!","v":{"$error":"#REF!"}},{"$f":"#REF!","v":{"$error":"#REF!"}},{"$f":"#REF!","v":{"$error":"#REF!"}},{"$f":"#REF!","v":{"$error":"#REF!"}},{"$f":"#REF!","v":{"$error":"#REF!"}},{"$f":"#REF!","v":{"$error":"#REF!"}},{"$f":"#REF!","v":{"$error":"#REF!"}},{"$f":"#REF!","v":{"$error":"#REF!"}},{"$f":"#REF!","v":{"$error":"#REF!"}},{"$f":"#REF!","v":{"$error":"#REF!"}},{"$f":"#REF!","v":{"$error":"#REF!"}},{"$f":"#REF!","v":{"$error":"#REF!"}},{"$f":"#REF!","v":{"$error":"#REF!"}},{"$f":"#REF!","v":{"$error":"#REF!"}}]
[{"$f":"#REF!","v":{"$error":"#REF!"}},{"$f":"#REF!","v":{"$error":"#REF!"}},{"$f":"#REF!","v":{"$error":"#REF!"}},{"$f":"#REF!","v":{"$error":"#REF!"}},{"$f":"#REF!","v":{"$error":"#REF!"}},{"$f":"#REF!","v":{"$error":"#REF!"}},{"$f":"#REF!","v":{"$error":"#REF!"}},{"$f":"#REF!","v":{"$error":"#REF!"}},{"$f":"#REF!","v":{"$error":"#REF!"}},{"$f":"#REF!","v":{"$error":"#REF!"}},{"$f":"#REF!","v":{"$error":"#REF!"}},{"$f":"#REF!","v":{"$error":"#REF!"}},{"$f":"#REF!","v":{"$error":"#REF!"}},{"$f":"#REF!","v":{"$error":"#REF!"}},{"$f":"#REF!","v":{"$error":"#REF!"}},{"$f":"#REF!","v":{"$error":"#REF!"}},{"$f":"#REF!","v":{"$error":"#REF!"}}]
[{"$f":"#REF!","v":{"$error":"#REF!"}},{"$f":"#REF!","v":{"$error":"#REF!"}},{"$f":"#REF!","v":{"$error":"#REF!"}},{"$f":"#REF!","v":{"$error":"#REF!"}},{"$f":"#REF!","v":{"$error":"#REF!"}},{"$f":"#REF!","v":{"$error":"#REF!"}},{"$f":"#REF!","v":{"$error":"#REF!"}},{"$f":"#REF!","v":{"$error":"#REF!"}},{"$f":"#REF!","v":{"$error":"#REF!"}},{"$f":"#REF!","v":{"$error":"#REF!"}},{"$f":"#REF!","v":{"$error":"#REF!"}},{"$f":"#REF!","v":{"$error":"#REF!"}},{"$f":"#REF!","v":{"$error":"#REF!"}},{"$f":"#REF!","v":{"$error":"#REF!"}},{"$f":"#REF!","v":{"$error":"#REF!"}},{"$f":"#REF!","v":{"$error":"#REF!"}},{"$f":"#REF!","v":{"$error":"#REF!"}}]
[{"$f":"#REF!","v":{"$error":"#REF!"}},{"$f":"#REF!","v":{"$error":"#REF!"}},{"$f":"#REF!","v":{"$error":"#REF!"}},{"$f":"#REF!","v":{"$error":"#REF!"}},{"$f":"#REF!","v":{"$error":"#REF!"}},{"$f":"#REF!","v":{"$error":"#REF!"}},{"$f":"#REF!","v":{"$error":"#REF!"}},{"$f":"#REF!","v":{"$error":"#REF!"}},{"$f":"#REF!","v":{"$error":"#REF!"}},{"$f":"#REF!","v":{"$error":"#REF!"}},{"$f":"#REF!","v":{"$error":"#REF!"}},{"$f":"#REF!","v":{"$error":"#REF!"}},{"$f":"#REF!","v":{"$error":"#REF!"}},{"$f":"#REF!","v":{"$error":"#REF!"}},{"$f":"#REF!","v":{"$error":"#REF!"}},{"$f":"#REF!","v":{"$error":"#REF!"}},{"$f":"#REF!","v":{"$error":"#REF!"}}]
[{"$f":"#REF!","v":{"$error":"#REF!"}},{"$f":"#REF!","v":{"$error":"#REF!"}},{"$f":"#REF!","v":{"$error":"#REF!"}},{"$f":"#REF!","v":{"$error":"#REF!"}},{"$f":"#REF!","v":{"$error":"#REF!"}},{"$f":"#REF!","v":{"$error":"#REF!"}},{"$f":"#REF!","v":{"$error":"#REF!"}},{"$f":"#REF!","v":{"$error":"#REF!"}},{"$f":"#REF!","v":{"$error":"#REF!"}},{"$f":"#REF!","v":{"$error":"#REF!"}},{"$f":"#REF!","v":{"$error":"#REF!"}},{"$f":"#REF!","v":{"$error":"#REF!"}},{"$f":"#REF!","v":{"$error":"#REF!"}},{"$f":"#REF!","v":{"$error":"#REF!"}},{"$f":"#REF!","v":{"$error":"#REF!"}},{"$f":"#REF!","v":{"$error":"#REF!"}},{"$f":"#REF!","v":{"$error":"#REF!"}}]
[{"$f":"#REF!","v":{"$error":"#REF!"}},{"$f":"#REF!","v":{"$error":"#REF!"}},{"$f":"#REF!","v":{"$error":"#REF!"}},{"$f":"#REF!","v":{"$error":"#REF!"}},{"$f":"#REF!","v":{"$error":"#REF!"}},{"$f":"#REF!","v":{"$error":"#REF!"}},{"$f":"#REF!","v":{"$error":"#REF!"}},{"$f":"#REF!","v":{"$error":"#REF!"}},{"$f":"#REF!","v":{"$error":"#REF!"}},{"$f":"#REF!","v":{"$error":"#REF!"}},{"$f":"#REF!","v":{"$error":"#REF!"}},{"$f":"#REF!","v":{"$error":"#REF!"}},{"$f":"#REF!","v":{"$error":"#REF!"}},{"$f":"#REF!","v":{"$error":"#REF!"}},{"$f":"#REF!","v":{"$error":"#REF!"}},{"$f":"#REF!","v":{"$error":"#REF!"}},{"$f":"#REF!","v":{"$error":"#REF!"}}]
[{"$f":"#REF!","v":{"$error":"#REF!"}},{"$f":"#REF!","v":{"$error":"#REF!"}},{"$f":"#REF!","v":{"$error":"#REF!"}},{"$f":"#REF!","v":{"$error":"#REF!"}},{"$f":"#REF!","v":{"$error":"#REF!"}},{"$f":"#REF!","v":{"$error":"#REF!"}},{"$f":"#REF!","v":{"$error":"#REF!"}},{"$f":"#REF!","v":{"$error":"#REF!"}},{"$f":"#REF!","v":{"$error":"#REF!"}},{"$f":"#REF!","v":{"$error":"#REF!"}},{"$f":"#REF!","v":{"$error":"#REF!"}},{"$f":"#REF!","v":{"$error":"#REF!"}},{"$f":"#REF!","v":{"$error":"#REF!"}},{"$f":"#REF!","v":{"$error":"#REF!"}},{"$f":"#REF!","v":{"$error":"#REF!"}},{"$f":"#REF!","v":{"$error":"#REF!"}},{"$f":"#REF!","v":{"$error":"#REF!"}}]
[{"$f":"#REF!","v":{"$error":"#REF!"}},{"$f":"#REF!","v":{"$error":"#REF!"}},{"$f":"#REF!","v":{"$error":"#REF!"}},{"$f":"#REF!","v":{"$error":"#REF!"}},{"$f":"#REF!","v":{"$error":"#REF!"}},{"$f":"#REF!","v":{"$error":"#REF!"}},{"$f":"#REF!","v":{"$error":"#REF!"}},{"$f":"#REF!","v":{"$error":"#REF!"}},{"$f":"#REF!","v":{"$error":"#REF!"}},{"$f":"#REF!","v":{"$error":"#REF!"}},{"$f":"#REF!","v":{"$error":"#REF!"}},{"$f":"#REF!","v":{"$error":"#REF!"}},{"$f":"#REF!","v":{"$error":"#REF!"}},{"$f":"#REF!","v":{"$error":"#REF!"}},{"$f":"#REF!","v":{"$error":"#REF!"}},{"$f":"#REF!","v":{"$error":"#REF!"}},{"$f":"#REF!","v":{"$error":"#REF!"}}]
[{"$f":"#REF!","v":{"$error":"#REF!"}},{"$f":"#REF!","v":{"$error":"#REF!"}},{"$f":"#REF!","v":{"$error":"#REF!"}},{"$f":"#REF!","v":{"$error":"#REF!"}},{"$f":"#REF!","v":{"$error":"#REF!"}},{"$f":"#REF!","v":{"$error":"#REF!"}},{"$f":"#REF!","v":{"$error":"#REF!"}},{"$f":"#REF!","v":{"$error":"#REF!"}},{"$f":"#REF!","v":{"$error":"#REF!"}},{"$f":"#REF!","v":{"$error":"#REF!"}},{"$f":"#REF!","v":{"$error":"#REF!"}},{"$f":"#REF!","v":{"$error":"#REF!"}},{"$f":"#REF!","v":{"$error":"#REF!"}},{"$f":"#REF!","v":{"$error":"#REF!"}},{"$f":"#REF!","v":{"$error":"#REF!"}},{"$f":"#REF!","v":{"$error":"#REF!"}},{"$f":"#REF!","v":{"$error":"#REF!"}}]
[{"$f":"#REF!","v":{"$error":"#REF!"}},{"$f":"#REF!","v":{"$error":"#REF!"}},{"$f":"#REF!","v":{"$error":"#REF!"}},{"$f":"#REF!","v":{"$error":"#REF!"}},{"$f":"#REF!","v":{"$error":"#REF!"}},{"$f":"#REF!","v":{"$error":"#REF!"}},{"$f":"#REF!","v":{"$error":"#REF!"}},{"$f":"#REF!","v":{"$error":"#REF!"}},{"$f":"#REF!","v":{"$error":"#REF!"}},{"$f":"#REF!","v":{"$error":"#REF!"}},{"$f":"#REF!","v":{"$error":"#REF!"}},{"$f":"#REF!","v":{"$error":"#REF!"}},{"$f":"#REF!","v":{"$error":"#REF!"}},{"$f":"#REF!","v":{"$error":"#REF!"}},{"$f":"#REF!","v":{"$error":"#REF!"}},{"$f":"#REF!","v":{"$error":"#REF!"}},{"$f":"#REF!","v":{"$error":"#REF!"}}]
[{"$f":"#REF!","v":{"$error":"#REF!"}},{"$f":"#REF!","v":{"$error":"#REF!"}},{"$f":"#REF!","v":{"$error":"#REF!"}},{"$f":"#REF!","v":{"$error":"#REF!"}},{"$f":"#REF!","v":{"$error":"#REF!"}},{"$f":"#REF!","v":{"$error":"#REF!"}},{"$f":"#REF!","v":{"$error":"#REF!"}},{"$f":"#REF!","v":{"$error":"#REF!"}},{"$f":"#REF!","v":{"$error":"#REF!"}},{"$f":"#REF!","v":{"$error":"#REF!"}},{"$f":"#REF!","v":{"$error":"#REF!"}},{"$f":"#REF!","v":{"$error":"#REF!"}},{"$f":"#REF!","v":{"$error":"#REF!"}},{"$f":"#REF!","v":{"$error":"#REF!"}},{"$f":"#REF!","v":{"$error":"#REF!"}},{"$f":"#REF!","v":{"$error":"#REF!"}},{"$f":"#REF!","v":{"$error":"#REF!"}}]
[{"$f":"#REF!","v":{"$error":"#REF!"}},{"$f":"#REF!","v":{"$error":"#REF!"}},{"$f":"#REF!","v":{"$error":"#REF!"}},{"$f":"#REF!","v":{"$error":"#REF!"}},{"$f":"#REF!","v":{"$error":"#REF!"}},{"$f":"#REF!","v":{"$error":"#REF!"}},{"$f":"#REF!","v":{"$error":"#REF!"}},{"$f":"#REF!","v":{"$error":"#REF!"}},{"$f":"#REF!","v":{"$error":"#REF!"}},{"$f":"#REF!","v":{"$error":"#REF!"}},{"$f":"#REF!","v":{"$error":"#REF!"}},{"$f":"#REF!","v":{"$error":"#REF!"}},{"$f":"#REF!","v":{"$error":"#REF!"}},{"$f":"#REF!","v":{"$error":"#REF!"}},{"$f":"#REF!","v":{"$error":"#REF!"}},{"$f":"#REF!","v":{"$error":"#REF!"}},{"$f":"#REF!","v":{"$error":"#REF!"}}]
[{"$f":"#REF!","v":{"$error":"#REF!"}},{"$f":"#REF!","v":{"$error":"#REF!"}},{"$f":"#REF!","v":{"$error":"#REF!"}},{"$f":"#REF!","v":{"$error":"#REF!"}},{"$f":"#REF!","v":{"$error":"#REF!"}},{"$f":"#REF!","v":{"$error":"#REF!"}},{"$f":"#REF!","v":{"$error":"#REF!"}},{"$f":"#REF!","v":{"$error":"#REF!"}},{"$f":"#REF!","v":{"$error":"#REF!"}},{"$f":"#REF!","v":{"$error":"#REF!"}},{"$f":"#REF!","v":{"$error":"#REF!"}},{"$f":"#REF!","v":{"$error":"#REF!"}},{"$f":"#REF!","v":{"$error":"#REF!"}},{"$f":"#REF!","v":{"$error":"#REF!"}},{"$f":"#REF!","v":{"$error":"#REF!"}},{"$f":"#REF!","v":{"$error":"#REF!"}},{"$f":"#REF!","v":{"$error":"#REF!"}}]
[{"$f":"#REF!","v":{"$error":"#REF!"}},{"$f":"#REF!","v":{"$error":"#REF!"}},{"$f":"#REF!","v":{"$error":"#REF!"}},{"$f":"#REF!","v":{"$error":"#REF!"}},{"$f":"#REF!","v":{"$error":"#REF!"}},{"$f":"#REF!","v":{"$error":"#REF!"}},{"$f":"#REF!","v":{"$error":"#REF!"}},{"$f":"#REF!","v":{"$error":"#REF!"}},{"$f":"#REF!","v":{"$error":"#REF!"}},{"$f":"#REF!","v":{"$error":"#REF!"}},{"$f":"#REF!","v":{"$error":"#REF!"}},{"$f":"#REF!","v":{"$error":"#REF!"}},{"$f":"#REF!","v":{"$error":"#REF!"}},{"$f":"#REF!","v":{"$error":"#REF!"}},{"$f":"#REF!","v":{"$error":"#REF!"}},{"$f":"#REF!","v":{"$error":"#REF!"}},{"$f":"#REF!","v":{"$error":"#REF!"}}]
[{"$f":"#REF!","v":{"$error":"#REF!"}},{"$f":"#REF!","v":{"$error":"#REF!"}},{"$f":"#REF!","v":{"$error":"#REF!"}},{"$f":"#REF!","v":{"$error":"#REF!"}},{"$f":"#REF!","v":{"$error":"#REF!"}},{"$f":"#REF!","v":{"$error":"#REF!"}},{"$f":"#REF!","v":{"$error":"#REF!"}},{"$f":"#REF!","v":{"$error":"#REF!"}},{"$f":"#REF!","v":{"$error":"#REF!"}},{"$f":"#REF!","v":{"$error":"#REF!"}},{"$f":"#REF!","v":{"$error":"#REF!"}},{"$f":"#REF!","v":{"$error":"#REF!"}},{"$f":"#REF!","v":{"$error":"#REF!"}},{"$f":"#REF!","v":{"$error":"#REF!"}},{"$f":"#REF!","v":{"$error":"#REF!"}},{"$f":"#REF!","v":{"$error":"#REF!"}},{"$f":"#REF!","v":{"$error":"#REF!"}}]
[{"$f":"#REF!","v":{"$error":"#REF!"}},{"$f":"#REF!","v":{"$error":"#REF!"}},{"$f":"#REF!","v":{"$error":"#REF!"}},{"$f":"#REF!","v":{"$error":"#REF!"}},{"$f":"#REF!","v":{"$error":"#REF!"}},{"$f":"#REF!","v":{"$error":"#REF!"}},{"$f":"#REF!","v":{"$error":"#REF!"}},{"$f":"#REF!","v":{"$error":"#REF!"}},{"$f":"#REF!","v":{"$error":"#REF!"}},{"$f":"#REF!","v":{"$error":"#REF!"}},{"$f":"#REF!","v":{"$error":"#REF!"}},{"$f":"#REF!","v":{"$error":"#REF!"}},{"$f":"#REF!","v":{"$error":"#REF!"}},{"$f":"#REF!","v":{"$error":"#REF!"}},{"$f":"#REF!","v":{"$error":"#REF!"}},{"$f":"#REF!","v":{"$error":"#REF!"}},{"$f":"#REF!","v":{"$error":"#REF!"}}]
[{"$f":"#REF!","v":{"$error":"#REF!"}},{"$f":"#REF!","v":{"$error":"#REF!"}},{"$f":"#REF!","v":{"$error":"#REF!"}},{"$f":"#REF!","v":{"$error":"#REF!"}},{"$f":"#REF!","v":{"$error":"#REF!"}},{"$f":"#REF!","v":{"$error":"#REF!"}},{"$f":"#REF!","v":{"$error":"#REF!"}},{"$f":"#REF!","v":{"$error":"#REF!"}},{"$f":"#REF!","v":{"$error":"#REF!"}},{"$f":"#REF!","v":{"$error":"#REF!"}},{"$f":"#REF!","v":{"$error":"#REF!"}},{"$f":"#REF!","v":{"$error":"#REF!"}},{"$f":"#REF!","v":{"$error":"#REF!"}},{"$f":"#REF!","v":{"$error":"#REF!"}},{"$f":"#REF!","v":{"$error":"#REF!"}},{"$f":"#REF!","v":{"$error":"#REF!"}},{"$f":"#REF!","v":{"$error":"#REF!"}}]
[{"$f":"#REF!","v":{"$error":"#REF!"}},{"$f":"#REF!","v":{"$error":"#REF!"}},{"$f":"#REF!","v":{"$error":"#REF!"}},{"$f":"#REF!","v":{"$error":"#REF!"}},{"$f":"#REF!","v":{"$error":"#REF!"}},{"$f":"#REF!","v":{"$error":"#REF!"}},{"$f":"#REF!","v":{"$error":"#REF!"}},{"$f":"#REF!","v":{"$error":"#REF!"}},{"$f":"#REF!","v":{"$error":"#REF!"}},{"$f":"#REF!","v":{"$error":"#REF!"}},{"$f":"#REF!","v":{"$error":"#REF!"}},{"$f":"#REF!","v":{"$error":"#REF!"}},{"$f":"#REF!","v":{"$error":"#REF!"}},{"$f":"#REF!","v":{"$error":"#REF!"}},{"$f":"#REF!","v":{"$error":"#REF!"}},{"$f":"#REF!","v":{"$error":"#REF!"}},{"$f":"#REF!","v":{"$error":"#REF!"}}]
[{"$f":"#REF!","v":{"$error":"#REF!"}},{"$f":"#REF!","v":{"$error":"#REF!"}},{"$f":"#REF!","v":{"$error":"#REF!"}},{"$f":"#REF!","v":{"$error":"#REF!"}},{"$f":"#REF!","v":{"$error":"#REF!"}},{"$f":"#REF!","v":{"$error":"#REF!"}},{"$f":"#REF!","v":{"$error":"#REF!"}},{"$f":"#REF!","v":{"$error":"#REF!"}},{"$f":"#REF!","v":{"$error":"#REF!"}},{"$f":"#REF!","v":{"$error":"#REF!"}},{"$f":"#REF!","v":{"$error":"#REF!"}},{"$f":"#REF!","v":{"$error":"#REF!"}},{"$f":"#REF!","v":{"$error":"#REF!"}},{"$f":"#REF!","v":{"$error":"#REF!"}},{"$f":"#REF!","v":{"$error":"#REF!"}},{"$f":"#REF!","v":{"$error":"#REF!"}},{"$f":"#REF!","v":{"$error":"#REF!"}}]
[{"$f":"#REF!","v":{"$error":"#REF!"}},{"$f":"#REF!","v":{"$error":"#REF!"}},{"$f":"#REF!","v":{"$error":"#REF!"}},{"$f":"#REF!","v":{"$error":"#REF!"}},{"$f":"#REF!","v":{"$error":"#REF!"}},{"$f":"#REF!","v":{"$error":"#REF!"}},{"$f":"#REF!","v":{"$error":"#REF!"}},{"$f":"#REF!","v":{"$error":"#REF!"}},{"$f":"#REF!","v":{"$error":"#REF!"}},{"$f":"#REF!","v":{"$error":"#REF!"}},{"$f":"#REF!","v":{"$error":"#REF!"}},{"$f":"#REF!","v":{"$error":"#REF!"}},{"$f":"#REF!","v":{"$error":"#REF!"}},{"$f":"#REF!","v":{"$error":"#REF!"}},{"$f":"#REF!","v":{"$error":"#REF!"}},{"$f":"#REF!","v":{"$error":"#REF!"}},{"$f":"#REF!","v":{"$error":"#REF!"}}]
[{"$f":"#REF!","v":{"$error":"#REF!"}},{"$f":"#REF!","v":{"$error":"#REF!"}},{"$f":"#REF!","v":{"$error":"#REF!"}},{"$f":"#REF!","v":{"$error":"#REF!"}},{"$f":"#REF!","v":{"$error":"#REF!"}},{"$f":"#REF!","v":{"$error":"#REF!"}},{"$f":"#REF!","v":{"$error":"#REF!"}},{"$f":"#REF!","v":{"$error":"#REF!"}},{"$f":"#REF!","v":{"$error":"#REF!"}},{"$f":"#REF!","v":{"$error":"#REF!"}},{"$f":"#REF!","v":{"$error":"#REF!"}},{"$f":"#REF!","v":{"$error":"#REF!"}},{"$f":"#REF!","v":{"$error":"#REF!"}},{"$f":"#REF!","v":{"$error":"#REF!"}},{"$f":"#REF!","v":{"$error":"#REF!"}},{"$f":"#REF!","v":{"$error":"#REF!"}},{"$f":"#REF!","v":{"$error":"#REF!"}}]
[{"$f":"#REF!","v":{"$error":"#REF!"}},{"$f":"#REF!","v":{"$error":"#REF!"}},{"$f":"#REF!","v":{"$error":"#REF!"}},{"$f":"#REF!","v":{"$error":"#REF!"}},{"$f":"#REF!","v":{"$error":"#REF!"}},{"$f":"#REF!","v":{"$error":"#REF!"}},{"$f":"#REF!","v":{"$error":"#REF!"}},{"$f":"#REF!","v":{"$error":"#REF!"}},{"$f":"#REF!","v":{"$error":"#REF!"}},{"$f":"#REF!","v":{"$error":"#REF!"}},{"$f":"#REF!","v":{"$error":"#REF!"}},{"$f":"#REF!","v":{"$error":"#REF!"}},{"$f":"#REF!","v":{"$error":"#REF!"}},{"$f":"#REF!","v":{"$error":"#REF!"}},{"$f":"#REF!","v":{"$error":"#REF!"}},{"$f":"#REF!","v":{"$error":"#REF!"}},{"$f":"#REF!","v":{"$error":"#REF!"}}]
[{"$f":"#REF!","v":{"$error":"#REF!"}},{"$f":"#REF!","v":{"$error":"#REF!"}},{"$f":"#REF!","v":{"$error":"#REF!"}},{"$f":"#REF!","v":{"$error":"#REF!"}},{"$f":"#REF!","v":{"$error":"#REF!"}},{"$f":"#REF!","v":{"$error":"#REF!"}},{"$f":"#REF!","v":{"$error":"#REF!"}},{"$f":"#REF!","v":{"$error":"#REF!"}},{"$f":"#REF!","v":{"$error":"#REF!"}},{"$f":"#REF!","v":{"$error":"#REF!"}},{"$f":"#REF!","v":{"$error":"#REF!"}},{"$f":"#REF!","v":{"$error":"#REF!"}},{"$f":"#REF!","v":{"$error":"#REF!"}},{"$f":"#REF!","v":{"$error":"#REF!"}},{"$f":"#REF!","v":{"$error":"#REF!"}},{"$f":"#REF!","v":{"$error":"#REF!"}},{"$f":"#REF!","v":{"$error":"#REF!"}}]
[{"$f":"#REF!","v":{"$error":"#REF!"}},{"$f":"#REF!","v":{"$error":"#REF!"}},{"$f":"#REF!","v":{"$error":"#REF!"}},{"$f":"#REF!","v":{"$error":"#REF!"}},{"$f":"#REF!","v":{"$error":"#REF!"}},{"$f":"#REF!","v":{"$error":"#REF!"}},{"$f":"#REF!","v":{"$error":"#REF!"}},{"$f":"#REF!","v":{"$error":"#REF!"}},{"$f":"#REF!","v":{"$error":"#REF!"}},{"$f":"#REF!","v":{"$error":"#REF!"}},{"$f":"#REF!","v":{"$error":"#REF!"}},{"$f":"#REF!","v":{"$error":"#REF!"}},{"$f":"#REF!","v":{"$error":"#REF!"}},{"$f":"#REF!","v":{"$error":"#REF!"}},{"$f":"#REF!","v":{"$error":"#REF!"}},{"$f":"#REF!","v":{"$error":"#REF!"}},{"$f":"#REF!","v":{"$error":"#REF!"}}]
[{"$f":"#REF!","v":{"$error":"#REF!"}},{"$f":"#REF!","v":{"$error":"#REF!"}},{"$f":"#REF!","v":{"$error":"#REF!"}},{"$f":"#REF!","v":{"$error":"#REF!"}},{"$f":"#REF!","v":{"$error":"#REF!"}},{"$f":"#REF!","v":{"$error":"#REF!"}},{"$f":"#REF!","v":{"$error":"#REF!"}},{"$f":"#REF!","v":{"$error":"#REF!"}},{"$f":"#REF!","v":{"$error":"#REF!"}},{"$f":"#REF!","v":{"$error":"#REF!"}},{"$f":"#REF!","v":{"$error":"#REF!"}},{"$f":"#REF!","v":{"$error":"#REF!"}},{"$f":"#REF!","v":{"$error":"#REF!"}},{"$f":"#REF!","v":{"$error":"#REF!"}},{"$f":"#REF!","v":{"$error":"#REF!"}},{"$f":"#REF!","v":{"$error":"#REF!"}},{"$f":"#REF!","v":{"$error":"#REF!"}}]
[{"$f":"#REF!","v":{"$error":"#REF!"}},{"$f":"#REF!","v":{"$error":"#REF!"}},{"$f":"#REF!","v":{"$error":"#REF!"}},{"$f":"#REF!","v":{"$error":"#REF!"}},{"$f":"#REF!","v":{"$error":"#REF!"}},{"$f":"#REF!","v":{"$error":"#REF!"}},{"$f":"#REF!","v":{"$error":"#REF!"}},{"$f":"#REF!","v":{"$error":"#REF!"}},{"$f":"#REF!","v":{"$error":"#REF!"}},{"$f":"#REF!","v":{"$error":"#REF!"}},{"$f":"#REF!","v":{"$error":"#REF!"}},{"$f":"#REF!","v":{"$error":"#REF!"}},{"$f":"#REF!","v":{"$error":"#REF!"}},{"$f":"#REF!","v":{"$error":"#REF!"}},{"$f":"#REF!","v":{"$error":"#REF!"}},{"$f":"#REF!","v":{"$error":"#REF!"}},{"$f":"#REF!","v":{"$error":"#REF!"}}]
[{"$f":"#REF!","v":{"$error":"#REF!"}},{"$f":"#REF!","v":{"$error":"#REF!"}},{"$f":"#REF!","v":{"$error":"#REF!"}},{"$f":"#REF!","v":{"$error":"#REF!"}},{"$f":"#REF!","v":{"$error":"#REF!"}},{"$f":"#REF!","v":{"$error":"#REF!"}},{"$f":"#REF!","v":{"$error":"#REF!"}},{"$f":"#REF!","v":{"$error":"#REF!"}},{"$f":"#REF!","v":{"$error":"#REF!"}},{"$f":"#REF!","v":{"$error":"#REF!"}},{"$f":"#REF!","v":{"$error":"#REF!"}},{"$f":"#REF!","v":{"$error":"#REF!"}},{"$f":"#REF!","v":{"$error":"#REF!"}},{"$f":"#REF!","v":{"$error":"#REF!"}},{"$f":"#REF!","v":{"$error":"#REF!"}},{"$f":"#REF!","v":{"$error":"#REF!"}},{"$f":"#REF!","v":{"$error":"#REF!"}}]
[{"$f":"#REF!","v":{"$error":"#REF!"}},{"$f":"#REF!","v":{"$error":"#REF!"}},{"$f":"#REF!","v":{"$error":"#REF!"}},{"$f":"#REF!","v":{"$error":"#REF!"}},{"$f":"#REF!","v":{"$error":"#REF!"}},{"$f":"#REF!","v":{"$error":"#REF!"}},{"$f":"#REF!","v":{"$error":"#REF!"}},{"$f":"#REF!","v":{"$error":"#REF!"}},{"$f":"#REF!","v":{"$error":"#REF!"}},{"$f":"#REF!","v":{"$error":"#REF!"}},{"$f":"#REF!","v":{"$error":"#REF!"}},{"$f":"#REF!","v":{"$error":"#REF!"}},{"$f":"#REF!","v":{"$error":"#REF!"}},{"$f":"#REF!","v":{"$error":"#REF!"}},{"$f":"#REF!","v":{"$error":"#REF!"}},{"$f":"#REF!","v":{"$error":"#REF!"}},{"$f":"#REF!","v":{"$error":"#REF!"}}]
[{"$f":"#REF!","v":{"$error":"#REF!"}},{"$f":"#REF!","v":{"$error":"#REF!"}},{"$f":"#REF!","v":{"$error":"#REF!"}},{"$f":"#REF!","v":{"$error":"#REF!"}},{"$f":"#REF!","v":{"$error":"#REF!"}},{"$f":"#REF!","v":{"$error":"#REF!"}},{"$f":"#REF!","v":{"$error":"#REF!"}},{"$f":"#REF!","v":{"$error":"#REF!"}},{"$f":"#REF!","v":{"$error":"#REF!"}},{"$f":"#REF!","v":{"$error":"#REF!"}},{"$f":"#REF!","v":{"$error":"#REF!"}},{"$f":"#REF!","v":{"$error":"#REF!"}},{"$f":"#REF!","v":{"$error":"#REF!"}},{"$f":"#REF!","v":{"$error":"#REF!"}},{"$f":"#REF!","v":{"$error":"#REF!"}},{"$f":"#REF!","v":{"$error":"#REF!"}},{"$f":"#REF!","v":{"$error":"#REF!"}}]
[{"$f":"#REF!","v":{"$error":"#REF!"}},{"$f":"#REF!","v":{"$error":"#REF!"}},{"$f":"#REF!","v":{"$error":"#REF!"}},{"$f":"#REF!","v":{"$error":"#REF!"}},{"$f":"#REF!","v":{"$error":"#REF!"}},{"$f":"#REF!","v":{"$error":"#REF!"}},{"$f":"#REF!","v":{"$error":"#REF!"}},{"$f":"#REF!","v":{"$error":"#REF!"}},{"$f":"#REF!","v":{"$error":"#REF!"}},{"$f":"#REF!","v":{"$error":"#REF!"}},{"$f":"#REF!","v":{"$error":"#REF!"}},{"$f":"#REF!","v":{"$error":"#REF!"}},{"$f":"#REF!","v":{"$error":"#REF!"}},{"$f":"#REF!","v":{"$error":"#REF!"}},{"$f":"#REF!","v":{"$error":"#REF!"}},{"$f":"#REF!","v":{"$error":"#REF!"}},{"$f":"#REF!","v":{"$error":"#REF!"}}]
[{"$f":"#REF!","v":{"$error":"#REF!"}},{"$f":"#REF!","v":{"$error":"#REF!"}},{"$f":"#REF!","v":{"$error":"#REF!"}},{"$f":"#REF!","v":{"$error":"#REF!"}},{"$f":"#REF!","v":{"$error":"#REF!"}},{"$f":"#REF!","v":{"$error":"#REF!"}},{"$f":"#REF!","v":{"$error":"#REF!"}},{"$f":"#REF!","v":{"$error":"#REF!"}},{"$f":"#REF!","v":{"$error":"#REF!"}},{"$f":"#REF!","v":{"$error":"#REF!"}},{"$f":"#REF!","v":{"$error":"#REF!"}},{"$f":"#REF!","v":{"$error":"#REF!"}},{"$f":"#REF!","v":{"$error":"#REF!"}},{"$f":"#REF!","v":{"$error":"#REF!"}},{"$f":"#REF!","v":{"$error":"#REF!"}},{"$f":"#REF!","v":{"$error":"#REF!"}},{"$f":"#REF!","v":{"$error":"#REF!"}}]
[{"$f":"#REF!","v":{"$error":"#REF!"}},{"$f":"#REF!","v":{"$error":"#REF!"}},{"$f":"#REF!","v":{"$error":"#REF!"}},{"$f":"#REF!","v":{"$error":"#REF!"}},{"$f":"#REF!","v":{"$error":"#REF!"}},{"$f":"#REF!","v":{"$error":"#REF!"}},{"$f":"#REF!","v":{"$error":"#REF!"}},{"$f":"#REF!","v":{"$error":"#REF!"}},{"$f":"#REF!","v":{"$error":"#REF!"}},{"$f":"#REF!","v":{"$error":"#REF!"}},{"$f":"#REF!","v":{"$error":"#REF!"}},{"$f":"#REF!","v":{"$error":"#REF!"}},{"$f":"#REF!","v":{"$error":"#REF!"}},{"$f":"#REF!","v":{"$error":"#REF!"}},{"$f":"#REF!","v":{"$error":"#REF!"}},{"$f":"#REF!","v":{"$error":"#REF!"}},{"$f":"#REF!","v":{"$error":"#REF!"}}]
[{"$f":"#REF!","v":{"$error":"#REF!"}},{"$f":"#REF!","v":{"$error":"#REF!"}},{"$f":"#REF!","v":{"$error":"#REF!"}},{"$f":"#REF!","v":{"$error":"#REF!"}},{"$f":"#REF!","v":{"$error":"#REF!"}},{"$f":"#REF!","v":{"$error":"#REF!"}},{"$f":"#REF!","v":{"$error":"#REF!"}},{"$f":"#REF!","v":{"$error":"#REF!"}},{"$f":"#REF!","v":{"$error":"#REF!"}},{"$f":"#REF!","v":{"$error":"#REF!"}},{"$f":"#REF!","v":{"$error":"#REF!"}},{"$f":"#REF!","v":{"$error":"#REF!"}},{"$f":"#REF!","v":{"$error":"#REF!"}},{"$f":"#REF!","v":{"$error":"#REF!"}},{"$f":"#REF!","v":{"$error":"#REF!"}},{"$f":"#REF!","v":{"$error":"#REF!"}},{"$f":"#REF!","v":{"$error":"#REF!"}}]
[{"$f":"#REF!","v":{"$error":"#REF!"}},{"$f":"#REF!","v":{"$error":"#REF!"}},{"$f":"#REF!","v":{"$error":"#REF!"}},{"$f":"#REF!","v":{"$error":"#REF!"}},{"$f":"#REF!","v":{"$error":"#REF!"}},{"$f":"#REF!","v":{"$error":"#REF!"}},{"$f":"#REF!","v":{"$error":"#REF!"}},{"$f":"#REF!","v":{"$error":"#REF!"}},{"$f":"#REF!","v":{"$error":"#REF!"}},{"$f":"#REF!","v":{"$error":"#REF!"}},{"$f":"#REF!","v":{"$error":"#REF!"}},{"$f":"#REF!","v":{"$error":"#REF!"}},{"$f":"#REF!","v":{"$error":"#REF!"}},{"$f":"#REF!","v":{"$error":"#REF!"}},{"$f":"#REF!","v":{"$error":"#REF!"}},{"$f":"#REF!","v":{"$error":"#REF!"}},{"$f":"#REF!","v":{"$error":"#REF!"}}]
[{"$f":"#REF!","v":{"$error":"#REF!"}},{"$f":"#REF!","v":{"$error":"#REF!"}},{"$f":"#REF!","v":{"$error":"#REF!"}},{"$f":"#REF!","v":{"$error":"#REF!"}},{"$f":"#REF!","v":{"$error":"#REF!"}},{"$f":"#REF!","v":{"$error":"#REF!"}},{"$f":"#REF!","v":{"$error":"#REF!"}},{"$f":"#REF!","v":{"$error":"#REF!"}},{"$f":"#REF!","v":{"$error":"#REF!"}},{"$f":"#REF!","v":{"$error":"#REF!"}},{"$f":"#REF!","v":{"$error":"#REF!"}},{"$f":"#REF!","v":{"$error":"#REF!"}},{"$f":"#REF!","v":{"$error":"#REF!"}},{"$f":"#REF!","v":{"$error":"#REF!"}},{"$f":"#REF!","v":{"$error":"#REF!"}},{"$f":"#REF!","v":{"$error":"#REF!"}},{"$f":"#REF!","v":{"$error":"#REF!"}}]
[{"$f":"#REF!","v":{"$error":"#REF!"}},{"$f":"#REF!","v":{"$error":"#REF!"}},{"$f":"#REF!","v":{"$error":"#REF!"}},{"$f":"#REF!","v":{"$error":"#REF!"}},{"$f":"#REF!","v":{"$error":"#REF!"}},{"$f":"#REF!","v":{"$error":"#REF!"}},{"$f":"#REF!","v":{"$error":"#REF!"}},{"$f":"#REF!","v":{"$error":"#REF!"}},{"$f":"#REF!","v":{"$error":"#REF!"}},{"$f":"#REF!","v":{"$error":"#REF!"}},{"$f":"#REF!","v":{"$error":"#REF!"}},{"$f":"#REF!","v":{"$error":"#REF!"}},{"$f":"#REF!","v":{"$error":"#REF!"}},{"$f":"#REF!","v":{"$error":"#REF!"}},{"$f":"#REF!","v":{"$error":"#REF!"}},{"$f":"#REF!","v":{"$error":"#REF!"}},{"$f":"#REF!","v":{"$error":"#REF!"}}]
[{"$f":"#REF!","v":{"$error":"#REF!"}},{"$f":"#REF!","v":{"$error":"#REF!"}},{"$f":"#REF!","v":{"$error":"#REF!"}},{"$f":"#REF!","v":{"$error":"#REF!"}},{"$f":"#REF!","v":{"$error":"#REF!"}},{"$f":"#REF!","v":{"$error":"#REF!"}},{"$f":"#REF!","v":{"$error":"#REF!"}},{"$f":"#REF!","v":{"$error":"#REF!"}},{"$f":"#REF!","v":{"$error":"#REF!"}},{"$f":"#REF!","v":{"$error":"#REF!"}},{"$f":"#REF!","v":{"$error":"#REF!"}},{"$f":"#REF!","v":{"$error":"#REF!"}},{"$f":"#REF!","v":{"$error":"#REF!"}},{"$f":"#REF!","v":{"$error":"#REF!"}},{"$f":"#REF!","v":{"$error":"#REF!"}},{"$f":"#REF!","v":{"$error":"#REF!"}},{"$f":"#REF!","v":{"$error":"#REF!"}}]
[{"$f":"#REF!","v":{"$error":"#REF!"}},{"$f":"#REF!","v":{"$error":"#REF!"}},{"$f":"#REF!","v":{"$error":"#REF!"}},{"$f":"#REF!","v":{"$error":"#REF!"}},{"$f":"#REF!","v":{"$error":"#REF!"}},{"$f":"#REF!","v":{"$error":"#REF!"}},{"$f":"#REF!","v":{"$error":"#REF!"}},{"$f":"#REF!","v":{"$error":"#REF!"}},{"$f":"#REF!","v":{"$error":"#REF!"}},{"$f":"#REF!","v":{"$error":"#REF!"}},{"$f":"#REF!","v":{"$error":"#REF!"}},{"$f":"#REF!","v":{"$error":"#REF!"}},{"$f":"#REF!","v":{"$error":"#REF!"}},{"$f":"#REF!","v":{"$error":"#REF!"}},{"$f":"#REF!","v":{"$error":"#REF!"}},{"$f":"#REF!","v":{"$error":"#REF!"}},{"$f":"#REF!","v":{"$error":"#REF!"}}]
[{"$f":"#REF!","v":{"$error":"#REF!"}},{"$f":"#REF!","v":{"$error":"#REF!"}},{"$f":"#REF!","v":{"$error":"#REF!"}},{"$f":"#REF!","v":{"$error":"#REF!"}},{"$f":"#REF!","v":{"$error":"#REF!"}},{"$f":"#REF!","v":{"$error":"#REF!"}},{"$f":"#REF!","v":{"$error":"#REF!"}},{"$f":"#REF!","v":{"$error":"#REF!"}},{"$f":"#REF!","v":{"$error":"#REF!"}},{"$f":"#REF!","v":{"$error":"#REF!"}},{"$f":"#REF!","v":{"$error":"#REF!"}},{"$f":"#REF!","v":{"$error":"#REF!"}},{"$f":"#REF!","v":{"$error":"#REF!"}},{"$f":"#REF!","v":{"$error":"#REF!"}},{"$f":"#REF!","v":{"$error":"#REF!"}},{"$f":"#REF!","v":{"$error":"#REF!"}},{"$f":"#REF!","v":{"$error":"#REF!"}}]
[{"$f":"#REF!","v":{"$error":"#REF!"}},{"$f":"#REF!","v":{"$error":"#REF!"}},{"$f":"#REF!","v":{"$error":"#REF!"}},{"$f":"#REF!","v":{"$error":"#REF!"}},{"$f":"#REF!","v":{"$error":"#REF!"}},{"$f":"#REF!","v":{"$error":"#REF!"}},{"$f":"#REF!","v":{"$error":"#REF!"}},{"$f":"#REF!","v":{"$error":"#REF!"}},{"$f":"#REF!","v":{"$error":"#REF!"}},{"$f":"#REF!","v":{"$error":"#REF!"}},{"$f":"#REF!","v":{"$error":"#REF!"}},{"$f":"#REF!","v":{"$error":"#REF!"}},{"$f":"#REF!","v":{"$error":"#REF!"}},{"$f":"#REF!","v":{"$error":"#REF!"}},{"$f":"#REF!","v":{"$error":"#REF!"}},{"$f":"#REF!","v":{"$error":"#REF!"}},{"$f":"#REF!","v":{"$error":"#REF!"}}]
[{"$f":"#REF!","v":{"$error":"#REF!"}},{"$f":"#REF!","v":{"$error":"#REF!"}},{"$f":"#REF!","v":{"$error":"#REF!"}},{"$f":"#REF!","v":{"$error":"#REF!"}},{"$f":"#REF!","v":{"$error":"#REF!"}},{"$f":"#REF!","v":{"$error":"#REF!"}},{"$f":"#REF!","v":{"$error":"#REF!"}},{"$f":"#REF!","v":{"$error":"#REF!"}},{"$f":"#REF!","v":{"$error":"#REF!"}},{"$f":"#REF!","v":{"$error":"#REF!"}},{"$f":"#REF!","v":{"$error":"#REF!"}},{"$f":"#REF!","v":{"$error":"#REF!"}},{"$f":"#REF!","v":{"$error":"#REF!"}},{"$f":"#REF!","v":{"$error":"#REF!"}},{"$f":"#REF!","v":{"$error":"#REF!"}},{"$f":"#REF!","v":{"$error":"#REF!"}},{"$f":"#REF!","v":{"$error":"#REF!"}}]
[{"$f":"#REF!","v":{"$error":"#REF!"}},{"$f":"#REF!","v":{"$error":"#REF!"}},{"$f":"#REF!","v":{"$error":"#REF!"}},{"$f":"#REF!","v":{"$error":"#REF!"}},{"$f":"#REF!","v":{"$error":"#REF!"}},{"$f":"#REF!","v":{"$error":"#REF!"}},{"$f":"#REF!","v":{"$error":"#REF!"}},{"$f":"#REF!","v":{"$error":"#REF!"}},{"$f":"#REF!","v":{"$error":"#REF!"}},{"$f":"#REF!","v":{"$error":"#REF!"}},{"$f":"#REF!","v":{"$error":"#REF!"}},{"$f":"#REF!","v":{"$error":"#REF!"}},{"$f":"#REF!","v":{"$error":"#REF!"}},{"$f":"#REF!","v":{"$error":"#REF!"}},{"$f":"#REF!","v":{"$error":"#REF!"}},{"$f":"#REF!","v":{"$error":"#REF!"}},{"$f":"#REF!","v":{"$error":"#REF!"}}]
[{"$f":"#REF!","v":{"$error":"#REF!"}},{"$f":"#REF!","v":{"$error":"#REF!"}},{"$f":"#REF!","v":{"$error":"#REF!"}},{"$f":"#REF!","v":{"$error":"#REF!"}},{"$f":"#REF!","v":{"$error":"#REF!"}},{"$f":"#REF!","v":{"$error":"#REF!"}},{"$f":"#REF!","v":{"$error":"#REF!"}},{"$f":"#REF!","v":{"$error":"#REF!"}},{"$f":"#REF!","v":{"$error":"#REF!"}},{"$f":"#REF!","v":{"$error":"#REF!"}},{"$f":"#REF!","v":{"$error":"#REF!"}},{"$f":"#REF!","v":{"$error":"#REF!"}},{"$f":"#REF!","v":{"$error":"#REF!"}},{"$f":"#REF!","v":{"$error":"#REF!"}},{"$f":"#REF!","v":{"$error":"#REF!"}},{"$f":"#REF!","v":{"$error":"#REF!"}},{"$f":"#REF!","v":{"$error":"#REF!"}}]
[{"$f":"#REF!","v":{"$error":"#REF!"}},{"$f":"#REF!","v":{"$error":"#REF!"}},{"$f":"#REF!","v":{"$error":"#REF!"}},{"$f":"#REF!","v":{"$error":"#REF!"}},{"$f":"#REF!","v":{"$error":"#REF!"}},{"$f":"#REF!","v":{"$error":"#REF!"}},{"$f":"#REF!","v":{"$error":"#REF!"}},{"$f":"#REF!","v":{"$error":"#REF!"}},{"$f":"#REF!","v":{"$error":"#REF!"}},{"$f":"#REF!","v":{"$error":"#REF!"}},{"$f":"#REF!","v":{"$error":"#REF!"}},{"$f":"#REF!","v":{"$error":"#REF!"}},{"$f":"#REF!","v":{"$error":"#REF!"}},{"$f":"#REF!","v":{"$error":"#REF!"}},{"$f":"#REF!","v":{"$error":"#REF!"}},{"$f":"#REF!","v":{"$error":"#REF!"}},{"$f":"#REF!","v":{"$error":"#REF!"}}]
[{"$f":"#REF!","v":{"$error":"#REF!"}},{"$f":"#REF!","v":{"$error":"#REF!"}},{"$f":"#REF!","v":{"$error":"#REF!"}},{"$f":"#REF!","v":{"$error":"#REF!"}},{"$f":"#REF!","v":{"$error":"#REF!"}},{"$f":"#REF!","v":{"$error":"#REF!"}},{"$f":"#REF!","v":{"$error":"#REF!"}},{"$f":"#REF!","v":{"$error":"#REF!"}},{"$f":"#REF!","v":{"$error":"#REF!"}},{"$f":"#REF!","v":{"$error":"#REF!"}},{"$f":"#REF!","v":{"$error":"#REF!"}},{"$f":"#REF!","v":{"$error":"#REF!"}},{"$f":"#REF!","v":{"$error":"#REF!"}},{"$f":"#REF!","v":{"$error":"#REF!"}},{"$f":"#REF!","v":{"$error":"#REF!"}},{"$f":"#REF!","v":{"$error":"#REF!"}},{"$f":"#REF!","v":{"$error":"#REF!"}}]
[{"$f":"#REF!","v":{"$error":"#REF!"}},{"$f":"#REF!","v":{"$error":"#REF!"}},{"$f":"#REF!","v":{"$error":"#REF!"}},{"$f":"#REF!","v":{"$error":"#REF!"}},{"$f":"#REF!","v":{"$error":"#REF!"}},{"$f":"#REF!","v":{"$error":"#REF!"}},{"$f":"#REF!","v":{"$error":"#REF!"}},{"$f":"#REF!","v":{"$error":"#REF!"}},{"$f":"#REF!","v":{"$error":"#REF!"}},{"$f":"#REF!","v":{"$error":"#REF!"}},{"$f":"#REF!","v":{"$error":"#REF!"}},{"$f":"#REF!","v":{"$error":"#REF!"}},{"$f":"#REF!","v":{"$error":"#REF!"}},{"$f":"#REF!","v":{"$error":"#REF!"}},{"$f":"#REF!","v":{"$error":"#REF!"}},{"$f":"#REF!","v":{"$error":"#REF!"}},{"$f":"#REF!","v":{"$error":"#REF!"}}]
[{"$f":"#REF!","v":{"$error":"#REF!"}},{"$f":"#REF!","v":{"$error":"#REF!"}},{"$f":"#REF!","v":{"$error":"#REF!"}},{"$f":"#REF!","v":{"$error":"#REF!"}},{"$f":"#REF!","v":{"$error":"#REF!"}},{"$f":"#REF!","v":{"$error":"#REF!"}},{"$f":"#REF!","v":{"$error":"#REF!"}},{"$f":"#REF!","v":{"$error":"#REF!"}},{"$f":"#REF!","v":{"$error":"#REF!"}},{"$f":"#REF!","v":{"$error":"#REF!"}},{"$f":"#REF!","v":{"$error":"#REF!"}},{"$f":"#REF!","v":{"$error":"#REF!"}},{"$f":"#REF!","v":{"$error":"#REF!"}},{"$f":"#REF!","v":{"$error":"#REF!"}},{"$f":"#REF!","v":{"$error":"#REF!"}},{"$f":"#REF!","v":{"$error":"#REF!"}},{"$f":"#REF!","v":{"$error":"#REF!"}}]
[{"$f":"#REF!","v":{"$error":"#REF!"}},{"$f":"#REF!","v":{"$error":"#REF!"}},{"$f":"#REF!","v":{"$error":"#REF!"}},{"$f":"#REF!","v":{"$error":"#REF!"}},{"$f":"#REF!","v":{"$error":"#REF!"}},{"$f":"#REF!","v":{"$error":"#REF!"}},{"$f":"#REF!","v":{"$error":"#REF!"}},{"$f":"#REF!","v":{"$error":"#REF!"}},{"$f":"#REF!","v":{"$error":"#REF!"}},{"$f":"#REF!","v":{"$error":"#REF!"}},{"$f":"#REF!","v":{"$error":"#REF!"}},{"$f":"#REF!","v":{"$error":"#REF!"}},{"$f":"#REF!","v":{"$error":"#REF!"}},{"$f":"#REF!","v":{"$error":"#REF!"}},{"$f":"#REF!","v":{"$error":"#REF!"}},{"$f":"#REF!","v":{"$error":"#REF!"}},{"$f":"#REF!","v":{"$error":"#REF!"}}]
[{"$f":"#REF!","v":{"$error":"#REF!"}},{"$f":"#REF!","v":{"$error":"#REF!"}},{"$f":"#REF!","v":{"$error":"#REF!"}},{"$f":"#REF!","v":{"$error":"#REF!"}},{"$f":"#REF!","v":{"$error":"#REF!"}},{"$f":"#REF!","v":{"$error":"#REF!"}},{"$f":"#REF!","v":{"$error":"#REF!"}},{"$f":"#REF!","v":{"$error":"#REF!"}},{"$f":"#REF!","v":{"$error":"#REF!"}},{"$f":"#REF!","v":{"$error":"#REF!"}},{"$f":"#REF!","v":{"$error":"#REF!"}},{"$f":"#REF!","v":{"$error":"#REF!"}},{"$f":"#REF!","v":{"$error":"#REF!"}},{"$f":"#REF!","v":{"$error":"#REF!"}},{"$f":"#REF!","v":{"$error":"#REF!"}},{"$f":"#REF!","v":{"$error":"#REF!"}},{"$f":"#REF!","v":{"$error":"#REF!"}}]
[{"$f":"#REF!","v":{"$error":"#REF!"}},{"$f":"#REF!","v":{"$error":"#REF!"}},{"$f":"#REF!","v":{"$error":"#REF!"}},{"$f":"#REF!","v":{"$error":"#REF!"}},{"$f":"#REF!","v":{"$error":"#REF!"}},{"$f":"#REF!","v":{"$error":"#REF!"}},{"$f":"#REF!","v":{"$error":"#REF!"}},{"$f":"#REF!","v":{"$error":"#REF!"}},{"$f":"#REF!","v":{"$error":"#REF!"}},{"$f":"#REF!","v":{"$error":"#REF!"}},{"$f":"#REF!","v":{"$error":"#REF!"}},{"$f":"#REF!","v":{"$error":"#REF!"}},{"$f":"#REF!","v":{"$error":"#REF!"}},{"$f":"#REF!","v":{"$error":"#REF!"}},{"$f":"#REF!","v":{"$error":"#REF!"}},{"$f":"#REF!","v":{"$error":"#REF!"}},{"$f":"#REF!","v":{"$error":"#REF!"}}]
[{"$f":"#REF!","v":{"$error":"#REF!"}},{"$f":"#REF!","v":{"$error":"#REF!"}},{"$f":"#REF!","v":{"$error":"#REF!"}},{"$f":"#REF!","v":{"$error":"#REF!"}},{"$f":"#REF!","v":{"$error":"#REF!"}},{"$f":"#REF!","v":{"$error":"#REF!"}},{"$f":"#REF!","v":{"$error":"#REF!"}},{"$f":"#REF!","v":{"$error":"#REF!"}},{"$f":"#REF!","v":{"$error":"#REF!"}},{"$f":"#REF!","v":{"$error":"#REF!"}},{"$f":"#REF!","v":{"$error":"#REF!"}},{"$f":"#REF!","v":{"$error":"#REF!"}},{"$f":"#REF!","v":{"$error":"#REF!"}},{"$f":"#REF!","v":{"$error":"#REF!"}},{"$f":"#REF!","v":{"$error":"#REF!"}},{"$f":"#REF!","v":{"$error":"#REF!"}},{"$f":"#REF!","v":{"$error":"#REF!"}}]
[{"$f":"#REF!","v":{"$error":"#REF!"}},{"$f":"#REF!","v":{"$error":"#REF!"}},{"$f":"#REF!","v":{"$error":"#REF!"}},{"$f":"#REF!","v":{"$error":"#REF!"}},{"$f":"#REF!","v":{"$error":"#REF!"}},{"$f":"#REF!","v":{"$error":"#REF!"}},{"$f":"#REF!","v":{"$error":"#REF!"}},{"$f":"#REF!","v":{"$error":"#REF!"}},{"$f":"#REF!","v":{"$error":"#REF!"}},{"$f":"#REF!","v":{"$error":"#REF!"}},{"$f":"#REF!","v":{"$error":"#REF!"}},{"$f":"#REF!","v":{"$error":"#REF!"}},{"$f":"#REF!","v":{"$error":"#REF!"}},{"$f":"#REF!","v":{"$error":"#REF!"}},{"$f":"#REF!","v":{"$error":"#REF!"}},{"$f":"#REF!","v":{"$error":"#REF!"}},{"$f":"#REF!","v":{"$error":"#REF!"}}]
[{"$f":"#REF!","v":{"$error":"#REF!"}},{"$f":"#REF!","v":{"$error":"#REF!"}},{"$f":"#REF!","v":{"$error":"#REF!"}},{"$f":"#REF!","v":{"$error":"#REF!"}},{"$f":"#REF!","v":{"$error":"#REF!"}},{"$f":"#REF!","v":{"$error":"#REF!"}},{"$f":"#REF!","v":{"$error":"#REF!"}},{"$f":"#REF!","v":{"$error":"#REF!"}},{"$f":"#REF!","v":{"$error":"#REF!"}},{"$f":"#REF!","v":{"$error":"#REF!"}},{"$f":"#REF!","v":{"$error":"#REF!"}},{"$f":"#REF!","v":{"$error":"#REF!"}},{"$f":"#REF!","v":{"$error":"#REF!"}},{"$f":"#REF!","v":{"$error":"#REF!"}},{"$f":"#REF!","v":{"$error":"#REF!"}},{"$f":"#REF!","v":{"$error":"#REF!"}},{"$f":"#REF!","v":{"$error":"#REF!"}}]
[{"$f":"#REF!","v":{"$error":"#REF!"}},{"$f":"#REF!","v":{"$error":"#REF!"}},{"$f":"#REF!","v":{"$error":"#REF!"}},{"$f":"#REF!","v":{"$error":"#REF!"}},{"$f":"#REF!","v":{"$error":"#REF!"}},{"$f":"#REF!","v":{"$error":"#REF!"}},{"$f":"#REF!","v":{"$error":"#REF!"}},{"$f":"#REF!","v":{"$error":"#REF!"}},{"$f":"#REF!","v":{"$error":"#REF!"}},{"$f":"#REF!","v":{"$error":"#REF!"}},{"$f":"#REF!","v":{"$error":"#REF!"}},{"$f":"#REF!","v":{"$error":"#REF!"}},{"$f":"#REF!","v":{"$error":"#REF!"}},{"$f":"#REF!","v":{"$error":"#REF!"}},{"$f":"#REF!","v":{"$error":"#REF!"}},{"$f":"#REF!","v":{"$error":"#REF!"}},{"$f":"#REF!","v":{"$error":"#REF!"}}]
[{"$f":"#REF!","v":{"$error":"#REF!"}},{"$f":"#REF!","v":{"$error":"#REF!"}},{"$f":"#REF!","v":{"$error":"#REF!"}},{"$f":"#REF!","v":{"$error":"#REF!"}},{"$f":"#REF!","v":{"$error":"#REF!"}},{"$f":"#REF!","v":{"$error":"#REF!"}},{"$f":"#REF!","v":{"$error":"#REF!"}},{"$f":"#REF!","v":{"$error":"#REF!"}},{"$f":"#REF!","v":{"$error":"#REF!"}},{"$f":"#REF!","v":{"$error":"#REF!"}},{"$f":"#REF!","v":{"$error":"#REF!"}},{"$f":"#REF!","v":{"$error":"#REF!"}},{"$f":"#REF!","v":{"$error":"#REF!"}},{"$f":"#REF!","v":{"$error":"#REF!"}},{"$f":"#REF!","v":{"$error":"#REF!"}},{"$f":"#REF!","v":{"$error":"#REF!"}},{"$f":"#REF!","v":{"$error":"#REF!"}}]
[{"$f":"#REF!","v":{"$error":"#REF!"}},{"$f":"#REF!","v":{"$error":"#REF!"}},{"$f":"#REF!","v":{"$error":"#REF!"}},{"$f":"#REF!","v":{"$error":"#REF!"}},{"$f":"#REF!","v":{"$error":"#REF!"}},{"$f":"#REF!","v":{"$error":"#REF!"}},{"$f":"#REF!","v":{"$error":"#REF!"}},{"$f":"#REF!","v":{"$error":"#REF!"}},{"$f":"#REF!","v":{"$error":"#REF!"}},{"$f":"#REF!","v":{"$error":"#REF!"}},{"$f":"#REF!","v":{"$error":"#REF!"}},{"$f":"#REF!","v":{"$error":"#REF!"}},{"$f":"#REF!","v":{"$error":"#REF!"}},{"$f":"#REF!","v":{"$error":"#REF!"}},{"$f":"#REF!","v":{"$error":"#REF!"}},{"$f":"#REF!","v":{"$error":"#REF!"}},{"$f":"#REF!","v":{"$error":"#REF!"}}]
[{"$f":"#REF!","v":{"$error":"#REF!"}},{"$f":"#REF!","v":{"$error":"#REF!"}},{"$f":"#REF!","v":{"$error":"#REF!"}},{"$f":"#REF!","v":{"$error":"#REF!"}},{"$f":"#REF!","v":{"$error":"#REF!"}},{"$f":"#REF!","v":{"$error":"#REF!"}},{"$f":"#REF!","v":{"$error":"#REF!"}},{"$f":"#REF!","v":{"$error":"#REF!"}},{"$f":"#REF!","v":{"$error":"#REF!"}},{"$f":"#REF!","v":{"$error":"#REF!"}},{"$f":"#REF!","v":{"$error":"#REF!"}},{"$f":"#REF!","v":{"$error":"#REF!"}},{"$f":"#REF!","v":{"$error":"#REF!"}},{"$f":"#REF!","v":{"$error":"#REF!"}},{"$f":"#REF!","v":{"$error":"#REF!"}},{"$f":"#REF!","v":{"$error":"#REF!"}},{"$f":"#REF!","v":{"$error":"#REF!"}}]
[{"$f":"#REF!","v":{"$error":"#REF!"}},{"$f":"#REF!","v":{"$error":"#REF!"}},{"$f":"#REF!","v":{"$error":"#REF!"}},{"$f":"#REF!","v":{"$error":"#REF!"}},{"$f":"#REF!","v":{"$error":"#REF!"}},{"$f":"#REF!","v":{"$error":"#REF!"}},{"$f":"#REF!","v":{"$error":"#REF!"}},{"$f":"#REF!","v":{"$error":"#REF!"}},{"$f":"#REF!","v":{"$error":"#REF!"}},{"$f":"#REF!","v":{"$error":"#REF!"}},{"$f":"#REF!","v":{"$error":"#REF!"}},{"$f":"#REF!","v":{"$error":"#REF!"}},{"$f":"#REF!","v":{"$error":"#REF!"}},{"$f":"#REF!","v":{"$error":"#REF!"}},{"$f":"#REF!","v":{"$error":"#REF!"}},{"$f":"#REF!","v":{"$error":"#REF!"}},{"$f":"#REF!","v":{"$error":"#REF!"}}]
[{"$f":"#REF!","v":{"$error":"#REF!"}},{"$f":"#REF!","v":{"$error":"#REF!"}},{"$f":"#REF!","v":{"$error":"#REF!"}},{"$f":"#REF!","v":{"$error":"#REF!"}},{"$f":"#REF!","v":{"$error":"#REF!"}},{"$f":"#REF!","v":{"$error":"#REF!"}},{"$f":"#REF!","v":{"$error":"#REF!"}},{"$f":"#REF!","v":{"$error":"#REF!"}},{"$f":"#REF!","v":{"$error":"#REF!"}},{"$f":"#REF!","v":{"$error":"#REF!"}},{"$f":"#REF!","v":{"$error":"#REF!"}},{"$f":"#REF!","v":{"$error":"#REF!"}},{"$f":"#REF!","v":{"$error":"#REF!"}},{"$f":"#REF!","v":{"$error":"#REF!"}},{"$f":"#REF!","v":{"$error":"#REF!"}},{"$f":"#REF!","v":{"$error":"#REF!"}},{"$f":"#REF!","v":{"$error":"#REF!"}}]
[{"$f":"#REF!","v":{"$error":"#REF!"}},{"$f":"#REF!","v":{"$error":"#REF!"}},{"$f":"#REF!","v":{"$error":"#REF!"}},{"$f":"#REF!","v":{"$error":"#REF!"}},{"$f":"#REF!","v":{"$error":"#REF!"}},{"$f":"#REF!","v":{"$error":"#REF!"}},{"$f":"#REF!","v":{"$error":"#REF!"}},{"$f":"#REF!","v":{"$error":"#REF!"}},{"$f":"#REF!","v":{"$error":"#REF!"}},{"$f":"#REF!","v":{"$error":"#REF!"}},{"$f":"#REF!","v":{"$error":"#REF!"}},{"$f":"#REF!","v":{"$error":"#REF!"}},{"$f":"#REF!","v":{"$error":"#REF!"}},{"$f":"#REF!","v":{"$error":"#REF!"}},{"$f":"#REF!","v":{"$error":"#REF!"}},{"$f":"#REF!","v":{"$error":"#REF!"}},{"$f":"#REF!","v":{"$error":"#REF!"}}]
[{"$f":"#REF!","v":{"$error":"#REF!"}},{"$f":"#REF!","v":{"$error":"#REF!"}},{"$f":"#REF!","v":{"$error":"#REF!"}},{"$f":"#REF!","v":{"$error":"#REF!"}},{"$f":"#REF!","v":{"$error":"#REF!"}},{"$f":"#REF!","v":{"$error":"#REF!"}},{"$f":"#REF!","v":{"$error":"#REF!"}},{"$f":"#REF!","v":{"$error":"#REF!"}},{"$f":"#REF!","v":{"$error":"#REF!"}},{"$f":"#REF!","v":{"$error":"#REF!"}},{"$f":"#REF!","v":{"$error":"#REF!"}},{"$f":"#REF!","v":{"$error":"#REF!"}},{"$f":"#REF!","v":{"$error":"#REF!"}},{"$f":"#REF!","v":{"$error":"#REF!"}},{"$f":"#REF!","v":{"$error":"#REF!"}},{"$f":"#REF!","v":{"$error":"#REF!"}},{"$f":"#REF!","v":{"$error":"#REF!"}}]
[{"$f":"#REF!","v":{"$error":"#REF!"}},{"$f":"#REF!","v":{"$error":"#REF!"}},{"$f":"#REF!","v":{"$error":"#REF!"}},{"$f":"#REF!","v":{"$error":"#REF!"}},{"$f":"#REF!","v":{"$error":"#REF!"}},{"$f":"#REF!","v":{"$error":"#REF!"}},{"$f":"#REF!","v":{"$error":"#REF!"}},{"$f":"#REF!","v":{"$error":"#REF!"}},{"$f":"#REF!","v":{"$error":"#REF!"}},{"$f":"#REF!","v":{"$error":"#REF!"}},{"$f":"#REF!","v":{"$error":"#REF!"}},{"$f":"#REF!","v":{"$error":"#REF!"}},{"$f":"#REF!","v":{"$error":"#REF!"}},{"$f":"#REF!","v":{"$error":"#REF!"}},{"$f":"#REF!","v":{"$error":"#REF!"}},{"$f":"#REF!","v":{"$error":"#REF!"}},{"$f":"#REF!","v":{"$error":"#REF!"}}]
[{"$f":"#REF!","v":{"$error":"#REF!"}},{"$f":"#REF!","v":{"$error":"#REF!"}},{"$f":"#REF!","v":{"$error":"#REF!"}},{"$f":"#REF!","v":{"$error":"#REF!"}},{"$f":"#REF!","v":{"$error":"#REF!"}},{"$f":"#REF!","v":{"$error":"#REF!"}},{"$f":"#REF!","v":{"$error":"#REF!"}},{"$f":"#REF!","v":{"$error":"#REF!"}},{"$f":"#REF!","v":{"$error":"#REF!"}},{"$f":"#REF!","v":{"$error":"#REF!"}},{"$f":"#REF!","v":{"$error":"#REF!"}},{"$f":"#REF!","v":{"$error":"#REF!"}},{"$f":"#REF!","v":{"$error":"#REF!"}},{"$f":"#REF!","v":{"$error":"#REF!"}},{"$f":"#REF!","v":{"$error":"#REF!"}},{"$f":"#REF!","v":{"$error":"#REF!"}},{"$f":"#REF!","v":{"$error":"#REF!"}}]
[{"$f":"#REF!","v":{"$error":"#REF!"}},{"$f":"#REF!","v":{"$error":"#REF!"}},{"$f":"#REF!","v":{"$error":"#REF!"}},{"$f":"#REF!","v":{"$error":"#REF!"}},{"$f":"#REF!","v":{"$error":"#REF!"}},{"$f":"#REF!","v":{"$error":"#REF!"}},{"$f":"#REF!","v":{"$error":"#REF!"}},{"$f":"#REF!","v":{"$error":"#REF!"}},{"$f":"#REF!","v":{"$error":"#REF!"}},{"$f":"#REF!","v":{"$error":"#REF!"}},{"$f":"#REF!","v":{"$error":"#REF!"}},{"$f":"#REF!","v":{"$error":"#REF!"}},{"$f":"#REF!","v":{"$error":"#REF!"}},{"$f":"#REF!","v":{"$error":"#REF!"}},{"$f":"#REF!","v":{"$error":"#REF!"}},{"$f":"#REF!","v":{"$error":"#REF!"}},{"$f":"#REF!","v":{"$error":"#REF!"}}]
[{"$f":"#REF!","v":{"$error":"#REF!"}},{"$f":"#REF!","v":{"$error":"#REF!"}},{"$f":"#REF!","v":{"$error":"#REF!"}},{"$f":"#REF!","v":{"$error":"#REF!"}},{"$f":"#REF!","v":{"$error":"#REF!"}},{"$f":"#REF!","v":{"$error":"#REF!"}},{"$f":"#REF!","v":{"$error":"#REF!"}},{"$f":"#REF!","v":{"$error":"#REF!"}},{"$f":"#REF!","v":{"$error":"#REF!"}},{"$f":"#REF!","v":{"$error":"#REF!"}},{"$f":"#REF!","v":{"$error":"#REF!"}},{"$f":"#REF!","v":{"$error":"#REF!"}},{"$f":"#REF!","v":{"$error":"#REF!"}},{"$f":"#REF!","v":{"$error":"#REF!"}},{"$f":"#REF!","v":{"$error":"#REF!"}},{"$f":"#REF!","v":{"$error":"#REF!"}},{"$f":"#REF!","v":{"$error":"#REF!"}}]
[{"$f":"#REF!","v":{"$error":"#REF!"}},{"$f":"#REF!","v":{"$error":"#REF!"}},{"$f":"#REF!","v":{"$error":"#REF!"}},{"$f":"#REF!","v":{"$error":"#REF!"}},{"$f":"#REF!","v":{"$error":"#REF!"}},{"$f":"#REF!","v":{"$error":"#REF!"}},{"$f":"#REF!","v":{"$error":"#REF!"}},{"$f":"#REF!","v":{"$error":"#REF!"}},{"$f":"#REF!","v":{"$error":"#REF!"}},{"$f":"#REF!","v":{"$error":"#REF!"}},{"$f":"#REF!","v":{"$error":"#REF!"}},{"$f":"#REF!","v":{"$error":"#REF!"}},{"$f":"#REF!","v":{"$error":"#REF!"}},{"$f":"#REF!","v":{"$error":"#REF!"}},{"$f":"#REF!","v":{"$error":"#REF!"}},{"$f":"#REF!","v":{"$error":"#REF!"}},{"$f":"#REF!","v":{"$error":"#REF!"}}]
[{"$f":"#REF!","v":{"$error":"#REF!"}},{"$f":"#REF!","v":{"$error":"#REF!"}},{"$f":"#REF!","v":{"$error":"#REF!"}},{"$f":"#REF!","v":{"$error":"#REF!"}},{"$f":"#REF!","v":{"$error":"#REF!"}},{"$f":"#REF!","v":{"$error":"#REF!"}},{"$f":"#REF!","v":{"$error":"#REF!"}},{"$f":"#REF!","v":{"$error":"#REF!"}},{"$f":"#REF!","v":{"$error":"#REF!"}},{"$f":"#REF!","v":{"$error":"#REF!"}},{"$f":"#REF!","v":{"$error":"#REF!"}},{"$f":"#REF!","v":{"$error":"#REF!"}},{"$f":"#REF!","v":{"$error":"#REF!"}},{"$f":"#REF!","v":{"$error":"#REF!"}},{"$f":"#REF!","v":{"$error":"#REF!"}},{"$f":"#REF!","v":{"$error":"#REF!"}},{"$f":"#REF!","v":{"$error":"#REF!"}}]
[{"$f":"#REF!","v":{"$error":"#REF!"}},{"$f":"#REF!","v":{"$error":"#REF!"}},{"$f":"#REF!","v":{"$error":"#REF!"}},{"$f":"#REF!","v":{"$error":"#REF!"}},{"$f":"#REF!","v":{"$error":"#REF!"}},{"$f":"#REF!","v":{"$error":"#REF!"}},{"$f":"#REF!","v":{"$error":"#REF!"}},{"$f":"#REF!","v":{"$error":"#REF!"}},{"$f":"#REF!","v":{"$error":"#REF!"}},{"$f":"#REF!","v":{"$error":"#REF!"}},{"$f":"#REF!","v":{"$error":"#REF!"}},{"$f":"#REF!","v":{"$error":"#REF!"}},{"$f":"#REF!","v":{"$error":"#REF!"}},{"$f":"#REF!","v":{"$error":"#REF!"}},{"$f":"#REF!","v":{"$error":"#REF!"}},{"$f":"#REF!","v":{"$error":"#REF!"}},{"$f":"#REF!","v":{"$error":"#REF!"}}]
[{"$f":"#REF!","v":{"$error":"#REF!"}},{"$f":"#REF!","v":{"$error":"#REF!"}},{"$f":"#REF!","v":{"$error":"#REF!"}},{"$f":"#REF!","v":{"$error":"#REF!"}},{"$f":"#REF!","v":{"$error":"#REF!"}},{"$f":"#REF!","v":{"$error":"#REF!"}},{"$f":"#REF!","v":{"$error":"#REF!"}},{"$f":"#REF!","v":{"$error":"#REF!"}},{"$f":"#REF!","v":{"$error":"#REF!"}},{"$f":"#REF!","v":{"$error":"#REF!"}},{"$f":"#REF!","v":{"$error":"#REF!"}},{"$f":"#REF!","v":{"$error":"#REF!"}},{"$f":"#REF!","v":{"$error":"#REF!"}},{"$f":"#REF!","v":{"$error":"#REF!"}},{"$f":"#REF!","v":{"$error":"#REF!"}},{"$f":"#REF!","v":{"$error":"#REF!"}},{"$f":"#REF!","v":{"$error":"#REF!"}}]
[{"$f":"#REF!","v":{"$error":"#REF!"}},{"$f":"#REF!","v":{"$error":"#REF!"}},{"$f":"#REF!","v":{"$error":"#REF!"}},{"$f":"#REF!","v":{"$error":"#REF!"}},{"$f":"#REF!","v":{"$error":"#REF!"}},{"$f":"#REF!","v":{"$error":"#REF!"}},{"$f":"#REF!","v":{"$error":"#REF!"}},{"$f":"#REF!","v":{"$error":"#REF!"}},{"$f":"#REF!","v":{"$error":"#REF!"}},{"$f":"#REF!","v":{"$error":"#REF!"}},{"$f":"#REF!","v":{"$error":"#REF!"}},{"$f":"#REF!","v":{"$error":"#REF!"}},{"$f":"#REF!","v":{"$error":"#REF!"}},{"$f":"#REF!","v":{"$error":"#REF!"}},{"$f":"#REF!","v":{"$error":"#REF!"}},{"$f":"#REF!","v":{"$error":"#REF!"}},{"$f":"#REF!","v":{"$error":"#REF!"}}]
[{"$f":"#REF!","v":{"$error":"#REF!"}},{"$f":"#REF!","v":{"$error":"#REF!"}},{"$f":"#REF!","v":{"$error":"#REF!"}},{"$f":"#REF!","v":{"$error":"#REF!"}},{"$f":"#REF!","v":{"$error":"#REF!"}},{"$f":"#REF!","v":{"$error":"#REF!"}},{"$f":"#REF!","v":{"$error":"#REF!"}},{"$f":"#REF!","v":{"$error":"#REF!"}},{"$f":"#REF!","v":{"$error":"#REF!"}},{"$f":"#REF!","v":{"$error":"#REF!"}},{"$f":"#REF!","v":{"$error":"#REF!"}},{"$f":"#REF!","v":{"$error":"#REF!"}},{"$f":"#REF!","v":{"$error":"#REF!"}},{"$f":"#REF!","v":{"$error":"#REF!"}},{"$f":"#REF!","v":{"$error":"#REF!"}},{"$f":"#REF!","v":{"$error":"#REF!"}},{"$f":"#REF!","v":{"$error":"#REF!"}}]
[{"$f":"#REF!","v":{"$error":"#REF!"}},{"$f":"#REF!","v":{"$error":"#REF!"}},{"$f":"#REF!","v":{"$error":"#REF!"}},{"$f":"#REF!","v":{"$error":"#REF!"}},{"$f":"#REF!","v":{"$error":"#REF!"}},{"$f":"#REF!","v":{"$error":"#REF!"}},{"$f":"#REF!","v":{"$error":"#REF!"}},{"$f":"#REF!","v":{"$error":"#REF!"}},{"$f":"#REF!","v":{"$error":"#REF!"}},{"$f":"#REF!","v":{"$error":"#REF!"}},{"$f":"#REF!","v":{"$error":"#REF!"}},{"$f":"#REF!","v":{"$error":"#REF!"}},{"$f":"#REF!","v":{"$error":"#REF!"}},{"$f":"#REF!","v":{"$error":"#REF!"}},{"$f":"#REF!","v":{"$error":"#REF!"}},{"$f":"#REF!","v":{"$error":"#REF!"}},{"$f":"#REF!","v":{"$error":"#REF!"}}]
[{"$f":"#REF!","v":{"$error":"#REF!"}},{"$f":"#REF!","v":{"$error":"#REF!"}},{"$f":"#REF!","v":{"$error":"#REF!"}},{"$f":"#REF!","v":{"$error":"#REF!"}},{"$f":"#REF!","v":{"$error":"#REF!"}},{"$f":"#REF!","v":{"$error":"#REF!"}},{"$f":"#REF!","v":{"$error":"#REF!"}},{"$f":"#REF!","v":{"$error":"#REF!"}},{"$f":"#REF!","v":{"$error":"#REF!"}},{"$f":"#REF!","v":{"$error":"#REF!"}},{"$f":"#REF!","v":{"$error":"#REF!"}},{"$f":"#REF!","v":{"$error":"#REF!"}},{"$f":"#REF!","v":{"$error":"#REF!"}},{"$f":"#REF!","v":{"$error":"#REF!"}},{"$f":"#REF!","v":{"$error":"#REF!"}},{"$f":"#REF!","v":{"$error":"#REF!"}},{"$f":"#REF!","v":{"$error":"#REF!"}}]
[{"$f":"#REF!","v":{"$error":"#REF!"}},{"$f":"#REF!","v":{"$error":"#REF!"}},{"$f":"#REF!","v":{"$error":"#REF!"}},{"$f":"#REF!","v":{"$error":"#REF!"}},{"$f":"#REF!","v":{"$error":"#REF!"}},{"$f":"#REF!","v":{"$error":"#REF!"}},{"$f":"#REF!","v":{"$error":"#REF!"}},{"$f":"#REF!","v":{"$error":"#REF!"}},{"$f":"#REF!","v":{"$error":"#REF!"}},{"$f":"#REF!","v":{"$error":"#REF!"}},{"$f":"#REF!","v":{"$error":"#REF!"}},{"$f":"#REF!","v":{"$error":"#REF!"}},{"$f":"#REF!","v":{"$error":"#REF!"}},{"$f":"#REF!","v":{"$error":"#REF!"}},{"$f":"#REF!","v":{"$error":"#REF!"}},{"$f":"#REF!","v":{"$error":"#REF!"}},{"$f":"#REF!","v":{"$error":"#REF!"}}]
[{"$f":"#REF!","v":{"$error":"#REF!"}},{"$f":"#REF!","v":{"$error":"#REF!"}},{"$f":"#REF!","v":{"$error":"#REF!"}},{"$f":"#REF!","v":{"$error":"#REF!"}},{"$f":"#REF!","v":{"$error":"#REF!"}},{"$f":"#REF!","v":{"$error":"#REF!"}},{"$f":"#REF!","v":{"$error":"#REF!"}},{"$f":"#REF!","v":{"$error":"#REF!"}},{"$f":"#REF!","v":{"$error":"#REF!"}},{"$f":"#REF!","v":{"$error":"#REF!"}},{"$f":"#REF!","v":{"$error":"#REF!"}},{"$f":"#REF!","v":{"$error":"#REF!"}},{"$f":"#REF!","v":{"$error":"#REF!"}},{"$f":"#REF!","v":{"$error":"#REF!"}},{"$f":"#REF!","v":{"$error":"#REF!"}},{"$f":"#REF!","v":{"$error":"#REF!"}},{"$f":"#REF!","v":{"$error":"#REF!"}}]
[{"$f":"#REF!","v":{"$error":"#REF!"}},{"$f":"#REF!","v":{"$error":"#REF!"}},{"$f":"#REF!","v":{"$error":"#REF!"}},{"$f":"#REF!","v":{"$error":"#REF!"}},{"$f":"#REF!","v":{"$error":"#REF!"}},{"$f":"#REF!","v":{"$error":"#REF!"}},{"$f":"#REF!","v":{"$error":"#REF!"}},{"$f":"#REF!","v":{"$error":"#REF!"}},{"$f":"#REF!","v":{"$error":"#REF!"}},{"$f":"#REF!","v":{"$error":"#REF!"}},{"$f":"#REF!","v":{"$error":"#REF!"}},{"$f":"#REF!","v":{"$error":"#REF!"}},{"$f":"#REF!","v":{"$error":"#REF!"}},{"$f":"#REF!","v":{"$error":"#REF!"}},{"$f":"#REF!","v":{"$error":"#REF!"}},{"$f":"#REF!","v":{"$error":"#REF!"}},{"$f":"#REF!","v":{"$error":"#REF!"}}]
[{"$f":"#REF!","v":{"$error":"#REF!"}},{"$f":"#REF!","v":{"$error":"#REF!"}},{"$f":"#REF!","v":{"$error":"#REF!"}},{"$f":"#REF!","v":{"$error":"#REF!"}},{"$f":"#REF!","v":{"$error":"#REF!"}},{"$f":"#REF!","v":{"$error":"#REF!"}},{"$f":"#REF!","v":{"$error":"#REF!"}},{"$f":"#REF!","v":{"$error":"#REF!"}},{"$f":"#REF!","v":{"$error":"#REF!"}},{"$f":"#REF!","v":{"$error":"#REF!"}},{"$f":"#REF!","v":{"$error":"#REF!"}},{"$f":"#REF!","v":{"$error":"#REF!"}},{"$f":"#REF!","v":{"$error":"#REF!"}},{"$f":"#REF!","v":{"$error":"#REF!"}},{"$f":"#REF!","v":{"$error":"#REF!"}},{"$f":"#REF!","v":{"$error":"#REF!"}},{"$f":"#REF!","v":{"$error":"#REF!"}}]
[{"$f":"#REF!","v":{"$error":"#REF!"}},{"$f":"#REF!","v":{"$error":"#REF!"}},{"$f":"#REF!","v":{"$error":"#REF!"}},{"$f":"#REF!","v":{"$error":"#REF!"}},{"$f":"#REF!","v":{"$error":"#REF!"}},{"$f":"#REF!","v":{"$error":"#REF!"}},{"$f":"#REF!","v":{"$error":"#REF!"}},{"$f":"#REF!","v":{"$error":"#REF!"}},{"$f":"#REF!","v":{"$error":"#REF!"}},{"$f":"#REF!","v":{"$error":"#REF!"}},{"$f":"#REF!","v":{"$error":"#REF!"}},{"$f":"#REF!","v":{"$error":"#REF!"}},{"$f":"#REF!","v":{"$error":"#REF!"}},{"$f":"#REF!","v":{"$error":"#REF!"}},{"$f":"#REF!","v":{"$error":"#REF!"}},{"$f":"#REF!","v":{"$error":"#REF!"}},{"$f":"#REF!","v":{"$error":"#REF!"}}]
[{"$f":"#REF!","v":{"$error":"#REF!"}},{"$f":"#REF!","v":{"$error":"#REF!"}},{"$f":"#REF!","v":{"$error":"#REF!"}},{"$f":"#REF!","v":{"$error":"#REF!"}},{"$f":"#REF!","v":{"$error":"#REF!"}},{"$f":"#REF!","v":{"$error":"#REF!"}},{"$f":"#REF!","v":{"$error":"#REF!"}},{"$f":"#REF!","v":{"$error":"#REF!"}},{"$f":"#REF!","v":{"$error":"#REF!"}},{"$f":"#REF!","v":{"$error":"#REF!"}},{"$f":"#REF!","v":{"$error":"#REF!"}},{"$f":"#REF!","v":{"$error":"#REF!"}},{"$f":"#REF!","v":{"$error":"#REF!"}},{"$f":"#REF!","v":{"$error":"#REF!"}},{"$f":"#REF!","v":{"$error":"#REF!"}},{"$f":"#REF!","v":{"$error":"#REF!"}},{"$f":"#REF!","v":{"$error":"#REF!"}}]
[{"$f":"#REF!","v":{"$error":"#REF!"}},{"$f":"#REF!","v":{"$error":"#REF!"}},{"$f":"#REF!","v":{"$error":"#REF!"}},{"$f":"#REF!","v":{"$error":"#REF!"}},{"$f":"#REF!","v":{"$error":"#REF!"}},{"$f":"#REF!","v":{"$error":"#REF!"}},{"$f":"#REF!","v":{"$error":"#REF!"}},{"$f":"#REF!","v":{"$error":"#REF!"}},{"$f":"#REF!","v":{"$error":"#REF!"}},{"$f":"#REF!","v":{"$error":"#REF!"}},{"$f":"#REF!","v":{"$error":"#REF!"}},{"$f":"#REF!","v":{"$error":"#REF!"}},{"$f":"#REF!","v":{"$error":"#REF!"}},{"$f":"#REF!","v":{"$error":"#REF!"}},{"$f":"#REF!","v":{"$error":"#REF!"}},{"$f":"#REF!","v":{"$error":"#REF!"}},{"$f":"#REF!","v":{"$error":"#REF!"}}]
[{"$f":"#REF!","v":{"$error":"#REF!"}},{"$f":"#REF!","v":{"$error":"#REF!"}},{"$f":"#REF!","v":{"$error":"#REF!"}},{"$f":"#REF!","v":{"$error":"#REF!"}},{"$f":"#REF!","v":{"$error":"#REF!"}},{"$f":"#REF!","v":{"$error":"#REF!"}},{"$f":"#REF!","v":{"$error":"#REF!"}},{"$f":"#REF!","v":{"$error":"#REF!"}},{"$f":"#REF!","v":{"$error":"#REF!"}},{"$f":"#REF!","v":{"$error":"#REF!"}},{"$f":"#REF!","v":{"$error":"#REF!"}},{"$f":"#REF!","v":{"$error":"#REF!"}},{"$f":"#REF!","v":{"$error":"#REF!"}},{"$f":"#REF!","v":{"$error":"#REF!"}},{"$f":"#REF!","v":{"$error":"#REF!"}},{"$f":"#REF!","v":{"$error":"#REF!"}},{"$f":"#REF!","v":{"$error":"#REF!"}}]
[{"$f":"#REF!","v":{"$error":"#REF!"}},{"$f":"#REF!","v":{"$error":"#REF!"}},{"$f":"#REF!","v":{"$error":"#REF!"}},{"$f":"#REF!","v":{"$error":"#REF!"}},{"$f":"#REF!","v":{"$error":"#REF!"}},{"$f":"#REF!","v":{"$error":"#REF!"}},{"$f":"#REF!","v":{"$error":"#REF!"}},{"$f":"#REF!","v":{"$error":"#REF!"}},{"$f":"#REF!","v":{"$error":"#REF!"}},{"$f":"#REF!","v":{"$error":"#REF!"}},{"$f":"#REF!","v":{"$error":"#REF!"}},{"$f":"#REF!","v":{"$error":"#REF!"}},{"$f":"#REF!","v":{"$error":"#REF!"}},{"$f":"#REF!","v":{"$error":"#REF!"}},{"$f":"#REF!","v":{"$error":"#REF!"}},{"$f":"#REF!","v":{"$error":"#REF!"}},{"$f":"#REF!","v":{"$error":"#REF!"}}]
[{"$f":"#REF!","v":{"$error":"#REF!"}},{"$f":"#REF!","v":{"$error":"#REF!"}},{"$f":"#REF!","v":{"$error":"#REF!"}},{"$f":"#REF!","v":{"$error":"#REF!"}},{"$f":"#REF!","v":{"$error":"#REF!"}},{"$f":"#REF!","v":{"$error":"#REF!"}},{"$f":"#REF!","v":{"$error":"#REF!"}},{"$f":"#REF!","v":{"$error":"#REF!"}},{"$f":"#REF!","v":{"$error":"#REF!"}},{"$f":"#REF!","v":{"$error":"#REF!"}},{"$f":"#REF!","v":{"$error":"#REF!"}},{"$f":"#REF!","v":{"$error":"#REF!"}},{"$f":"#REF!","v":{"$error":"#REF!"}},{"$f":"#REF!","v":{"$error":"#REF!"}},{"$f":"#REF!","v":{"$error":"#REF!"}},{"$f":"#REF!","v":{"$error":"#REF!"}},{"$f":"#REF!","v":{"$error":"#REF!"}}]
[{"$f":"#REF!","v":{"$error":"#REF!"}},{"$f":"#REF!","v":{"$error":"#REF!"}},{"$f":"#REF!","v":{"$error":"#REF!"}},{"$f":"#REF!","v":{"$error":"#REF!"}},{"$f":"#REF!","v":{"$error":"#REF!"}},{"$f":"#REF!","v":{"$error":"#REF!"}},{"$f":"#REF!","v":{"$error":"#REF!"}},{"$f":"#REF!","v":{"$error":"#REF!"}},{"$f":"#REF!","v":{"$error":"#REF!"}},{"$f":"#REF!","v":{"$error":"#REF!"}},{"$f":"#REF!","v":{"$error":"#REF!"}},{"$f":"#REF!","v":{"$error":"#REF!"}},{"$f":"#REF!","v":{"$error":"#REF!"}},{"$f":"#REF!","v":{"$error":"#REF!"}},{"$f":"#REF!","v":{"$error":"#REF!"}},{"$f":"#REF!","v":{"$error":"#REF!"}},{"$f":"#REF!","v":{"$error":"#REF!"}}]
[{"$f":"#REF!","v":{"$error":"#REF!"}},{"$f":"#REF!","v":{"$error":"#REF!"}},{"$f":"#REF!","v":{"$error":"#REF!"}},{"$f":"#REF!","v":{"$error":"#REF!"}},{"$f":"#REF!","v":{"$error":"#REF!"}},{"$f":"#REF!","v":{"$error":"#REF!"}},{"$f":"#REF!","v":{"$error":"#REF!"}},{"$f":"#REF!","v":{"$error":"#REF!"}},{"$f":"#REF!","v":{"$error":"#REF!"}},{"$f":"#REF!","v":{"$error":"#REF!"}},{"$f":"#REF!","v":{"$error":"#REF!"}},{"$f":"#REF!","v":{"$error":"#REF!"}},{"$f":"#REF!","v":{"$error":"#REF!"}},{"$f":"#REF!","v":{"$error":"#REF!"}},{"$f":"#REF!","v":{"$error":"#REF!"}},{"$f":"#REF!","v":{"$error":"#REF!"}},{"$f":"#REF!","v":{"$error":"#REF!"}}]
[{"$f":"#REF!","v":{"$error":"#REF!"}},{"$f":"#REF!","v":{"$error":"#REF!"}},{"$f":"#REF!","v":{"$error":"#REF!"}},{"$f":"#REF!","v":{"$error":"#REF!"}},{"$f":"#REF!","v":{"$error":"#REF!"}},{"$f":"#REF!","v":{"$error":"#REF!"}},{"$f":"#REF!","v":{"$error":"#REF!"}},{"$f":"#REF!","v":{"$error":"#REF!"}},{"$f":"#REF!","v":{"$error":"#REF!"}},{"$f":"#REF!","v":{"$error":"#REF!"}},{"$f":"#REF!","v":{"$error":"#REF!"}},{"$f":"#REF!","v":{"$error":"#REF!"}},{"$f":"#REF!","v":{"$error":"#REF!"}},{"$f":"#REF!","v":{"$error":"#REF!"}},{"$f":"#REF!","v":{"$error":"#REF!"}},{"$f":"#REF!","v":{"$error":"#REF!"}},{"$f":"#REF!","v":{"$error":"#REF!"}}]
[{"$f":"#REF!","v":{"$error":"#REF!"}},{"$f":"#REF!","v":{"$error":"#REF!"}},{"$f":"#REF!","v":{"$error":"#REF!"}},{"$f":"#REF!","v":{"$error":"#REF!"}},{"$f":"#REF!","v":{"$error":"#REF!"}},{"$f":"#REF!","v":{"$error":"#REF!"}},{"$f":"#REF!","v":{"$error":"#REF!"}},{"$f":"#REF!","v":{"$error":"#REF!"}},{"$f":"#REF!","v":{"$error":"#REF!"}},{"$f":"#REF!","v":{"$error":"#REF!"}},{"$f":"#REF!","v":{"$error":"#REF!"}},{"$f":"#REF!","v":{"$error":"#REF!"}},{"$f":"#REF!","v":{"$error":"#REF!"}},{"$f":"#REF!","v":{"$error":"#REF!"}},{"$f":"#REF!","v":{"$error":"#REF!"}},{"$f":"#REF!","v":{"$error":"#REF!"}},{"$f":"#REF!","v":{"$error":"#REF!"}}]
[{"$f":"#REF!","v":{"$error":"#REF!"}},{"$f":"#REF!","v":{"$error":"#REF!"}},{"$f":"#REF!","v":{"$error":"#REF!"}},{"$f":"#REF!","v":{"$error":"#REF!"}},{"$f":"#REF!","v":{"$error":"#REF!"}},{"$f":"#REF!","v":{"$error":"#REF!"}},{"$f":"#REF!","v":{"$error":"#REF!"}},{"$f":"#REF!","v":{"$error":"#REF!"}},{"$f":"#REF!","v":{"$error":"#REF!"}},{"$f":"#REF!","v":{"$error":"#REF!"}},{"$f":"#REF!","v":{"$error":"#REF!"}},{"$f":"#REF!","v":{"$error":"#REF!"}},{"$f":"#REF!","v":{"$error":"#REF!"}},{"$f":"#REF!","v":{"$error":"#REF!"}},{"$f":"#REF!","v":{"$error":"#REF!"}},{"$f":"#REF!","v":{"$error":"#REF!"}},{"$f":"#REF!","v":{"$error":"#REF!"}}]
[{"$f":"#REF!","v":{"$error":"#REF!"}},{"$f":"#REF!","v":{"$error":"#REF!"}},{"$f":"#REF!","v":{"$error":"#REF!"}},{"$f":"#REF!","v":{"$error":"#REF!"}},{"$f":"#REF!","v":{"$error":"#REF!"}},{"$f":"#REF!","v":{"$error":"#REF!"}},{"$f":"#REF!","v":{"$error":"#REF!"}},{"$f":"#REF!","v":{"$error":"#REF!"}},{"$f":"#REF!","v":{"$error":"#REF!"}},{"$f":"#REF!","v":{"$error":"#REF!"}},{"$f":"#REF!","v":{"$error":"#REF!"}},{"$f":"#REF!","v":{"$error":"#REF!"}},{"$f":"#REF!","v":{"$error":"#REF!"}},{"$f":"#REF!","v":{"$error":"#REF!"}},{"$f":"#REF!","v":{"$error":"#REF!"}},{"$f":"#REF!","v":{"$error":"#REF!"}},{"$f":"#REF!","v":{"$error":"#REF!"}}]
[{"$f":"#REF!","v":{"$error":"#REF!"}},{"$f":"#REF!","v":{"$error":"#REF!"}},{"$f":"#REF!","v":{"$error":"#REF!"}},{"$f":"#REF!","v":{"$error":"#REF!"}},{"$f":"#REF!","v":{"$error":"#REF!"}},{"$f":"#REF!","v":{"$error":"#REF!"}},{"$f":"#REF!","v":{"$error":"#REF!"}},{"$f":"#REF!","v":{"$error":"#REF!"}},{"$f":"#REF!","v":{"$error":"#REF!"}},{"$f":"#REF!","v":{"$error":"#REF!"}},{"$f":"#REF!","v":{"$error":"#REF!"}},{"$f":"#REF!","v":{"$error":"#REF!"}},{"$f":"#REF!","v":{"$error":"#REF!"}},{"$f":"#REF!","v":{"$error":"#REF!"}},{"$f":"#REF!","v":{"$error":"#REF!"}},{"$f":"#REF!","v":{"$error":"#REF!"}},{"$f":"#REF!","v":{"$error":"#REF!"}}]
[{"$f":"#REF!","v":{"$error":"#REF!"}},{"$f":"#REF!","v":{"$error":"#REF!"}},{"$f":"#REF!","v":{"$error":"#REF!"}},{"$f":"#REF!","v":{"$error":"#REF!"}},{"$f":"#REF!","v":{"$error":"#REF!"}},{"$f":"#REF!","v":{"$error":"#REF!"}},{"$f":"#REF!","v":{"$error":"#REF!"}},{"$f":"#REF!","v":{"$error":"#REF!"}},{"$f":"#REF!","v":{"$error":"#REF!"}},{"$f":"#REF!","v":{"$error":"#REF!"}},{"$f":"#REF!","v":{"$error":"#REF!"}},{"$f":"#REF!","v":{"$error":"#REF!"}},{"$f":"#REF!","v":{"$error":"#REF!"}},{"$f":"#REF!","v":{"$error":"#REF!"}},{"$f":"#REF!","v":{"$error":"#REF!"}},{"$f":"#REF!","v":{"$error":"#REF!"}},{"$f":"#REF!","v":{"$error":"#REF!"}}]
[{"$f":"#REF!","v":{"$error":"#REF!"}},{"$f":"#REF!","v":{"$error":"#REF!"}},{"$f":"#REF!","v":{"$error":"#REF!"}},{"$f":"#REF!","v":{"$error":"#REF!"}},{"$f":"#REF!","v":{"$error":"#REF!"}},{"$f":"#REF!","v":{"$error":"#REF!"}},{"$f":"#REF!","v":{"$error":"#REF!"}},{"$f":"#REF!","v":{"$error":"#REF!"}},{"$f":"#REF!","v":{"$error":"#REF!"}},{"$f":"#REF!","v":{"$error":"#REF!"}},{"$f":"#REF!","v":{"$error":"#REF!"}},{"$f":"#REF!","v":{"$error":"#REF!"}},{"$f":"#REF!","v":{"$error":"#REF!"}},{"$f":"#REF!","v":{"$error":"#REF!"}},{"$f":"#REF!","v":{"$error":"#REF!"}},{"$f":"#REF!","v":{"$error":"#REF!"}},{"$f":"#REF!","v":{"$error":"#REF!"}}]
[{"$f":"#REF!","v":{"$error":"#REF!"}},{"$f":"#REF!","v":{"$error":"#REF!"}},{"$f":"#REF!","v":{"$error":"#REF!"}},{"$f":"#REF!","v":{"$error":"#REF!"}},{"$f":"#REF!","v":{"$error":"#REF!"}},{"$f":"#REF!","v":{"$error":"#REF!"}},{"$f":"#REF!","v":{"$error":"#REF!"}},{"$f":"#REF!","v":{"$error":"#REF!"}},{"$f":"#REF!","v":{"$error":"#REF!"}},{"$f":"#REF!","v":{"$error":"#REF!"}},{"$f":"#REF!","v":{"$error":"#REF!"}},{"$f":"#REF!","v":{"$error":"#REF!"}},{"$f":"#REF!","v":{"$error":"#REF!"}},{"$f":"#REF!","v":{"$error":"#REF!"}},{"$f":"#REF!","v":{"$error":"#REF!"}},{"$f":"#REF!","v":{"$error":"#REF!"}},{"$f":"#REF!","v":{"$error":"#REF!"}}]
[{"$f":"#REF!","v":{"$error":"#REF!"}},{"$f":"#REF!","v":{"$error":"#REF!"}},{"$f":"#REF!","v":{"$error":"#REF!"}},{"$f":"#REF!","v":{"$error":"#REF!"}},{"$f":"#REF!","v":{"$error":"#REF!"}},{"$f":"#REF!","v":{"$error":"#REF!"}},{"$f":"#REF!","v":{"$error":"#REF!"}},{"$f":"#REF!","v":{"$error":"#REF!"}},{"$f":"#REF!","v":{"$error":"#REF!"}},{"$f":"#REF!","v":{"$error":"#REF!"}},{"$f":"#REF!","v":{"$error":"#REF!"}},{"$f":"#REF!","v":{"$error":"#REF!"}},{"$f":"#REF!","v":{"$error":"#REF!"}},{"$f":"#REF!","v":{"$error":"#REF!"}},{"$f":"#REF!","v":{"$error":"#REF!"}},{"$f":"#REF!","v":{"$error":"#REF!"}},{"$f":"#REF!","v":{"$error":"#REF!"}}]
[{"$f":"#REF!","v":{"$error":"#REF!"}},{"$f":"#REF!","v":{"$error":"#REF!"}},{"$f":"#REF!","v":{"$error":"#REF!"}},{"$f":"#REF!","v":{"$error":"#REF!"}},{"$f":"#REF!","v":{"$error":"#REF!"}},{"$f":"#REF!","v":{"$error":"#REF!"}},{"$f":"#REF!","v":{"$error":"#REF!"}},{"$f":"#REF!","v":{"$error":"#REF!"}},{"$f":"#REF!","v":{"$error":"#REF!"}},{"$f":"#REF!","v":{"$error":"#REF!"}},{"$f":"#REF!","v":{"$error":"#REF!"}},{"$f":"#REF!","v":{"$error":"#REF!"}},{"$f":"#REF!","v":{"$error":"#REF!"}},{"$f":"#REF!","v":{"$error":"#REF!"}},{"$f":"#REF!","v":{"$error":"#REF!"}},{"$f":"#REF!","v":{"$error":"#REF!"}},{"$f":"#REF!","v":{"$error":"#REF!"}}]
[{"$f":"#REF!","v":{"$error":"#REF!"}},{"$f":"#REF!","v":{"$error":"#REF!"}},{"$f":"#REF!","v":{"$error":"#REF!"}},{"$f":"#REF!","v":{"$error":"#REF!"}},{"$f":"#REF!","v":{"$error":"#REF!"}},{"$f":"#REF!","v":{"$error":"#REF!"}},{"$f":"#REF!","v":{"$error":"#REF!"}},{"$f":"#REF!","v":{"$error":"#REF!"}},{"$f":"#REF!","v":{"$error":"#REF!"}},{"$f":"#REF!","v":{"$error":"#REF!"}},{"$f":"#REF!","v":{"$error":"#REF!"}},{"$f":"#REF!","v":{"$error":"#REF!"}},{"$f":"#REF!","v":{"$error":"#REF!"}},{"$f":"#REF!","v":{"$error":"#REF!"}},{"$f":"#REF!","v":{"$error":"#REF!"}},{"$f":"#REF!","v":{"$error":"#REF!"}},{"$f":"#REF!","v":{"$error":"#REF!"}}]
[{"$f":"#REF!","v":{"$error":"#REF!"}},{"$f":"#REF!","v":{"$error":"#REF!"}},{"$f":"#REF!","v":{"$error":"#REF!"}},{"$f":"#REF!","v":{"$error":"#REF!"}},{"$f":"#REF!","v":{"$error":"#REF!"}},{"$f":"#REF!","v":{"$error":"#REF!"}},{"$f":"#REF!","v":{"$error":"#REF!"}},{"$f":"#REF!","v":{"$error":"#REF!"}},{"$f":"#REF!","v":{"$error":"#REF!"}},{"$f":"#REF!","v":{"$error":"#REF!"}},{"$f":"#REF!","v":{"$error":"#REF!"}},{"$f":"#REF!","v":{"$error":"#REF!"}},{"$f":"#REF!","v":{"$error":"#REF!"}},{"$f":"#REF!","v":{"$error":"#REF!"}},{"$f":"#REF!","v":{"$error":"#REF!"}},{"$f":"#REF!","v":{"$error":"#REF!"}},{"$f":"#REF!","v":{"$error":"#REF!"}}]
[{"$f":"#REF!","v":{"$error":"#REF!"}},{"$f":"#REF!","v":{"$error":"#REF!"}},{"$f":"#REF!","v":{"$error":"#REF!"}},{"$f":"#REF!","v":{"$error":"#REF!"}},{"$f":"#REF!","v":{"$error":"#REF!"}},{"$f":"#REF!","v":{"$error":"#REF!"}},{"$f":"#REF!","v":{"$error":"#REF!"}},{"$f":"#REF!","v":{"$error":"#REF!"}},{"$f":"#REF!","v":{"$error":"#REF!"}},{"$f":"#REF!","v":{"$error":"#REF!"}},{"$f":"#REF!","v":{"$error":"#REF!"}},{"$f":"#REF!","v":{"$error":"#REF!"}},{"$f":"#REF!","v":{"$error":"#REF!"}},{"$f":"#REF!","v":{"$error":"#REF!"}},{"$f":"#REF!","v":{"$error":"#REF!"}},{"$f":"#REF!","v":{"$error":"#REF!"}},{"$f":"#REF!","v":{"$error":"#REF!"}}]
[{"$f":"#REF!","v":{"$error":"#REF!"}},{"$f":"#REF!","v":{"$error":"#REF!"}},{"$f":"#REF!","v":{"$error":"#REF!"}},{"$f":"#REF!","v":{"$error":"#REF!"}},{"$f":"#REF!","v":{"$error":"#REF!"}},{"$f":"#REF!","v":{"$error":"#REF!"}},{"$f":"#REF!","v":{"$error":"#REF!"}},{"$f":"#REF!","v":{"$error":"#REF!"}},{"$f":"#REF!","v":{"$error":"#REF!"}},{"$f":"#REF!","v":{"$error":"#REF!"}},{"$f":"#REF!","v":{"$error":"#REF!"}},{"$f":"#REF!","v":{"$error":"#REF!"}},{"$f":"#REF!","v":{"$error":"#REF!"}},{"$f":"#REF!","v":{"$error":"#REF!"}},{"$f":"#REF!","v":{"$error":"#REF!"}},{"$f":"#REF!","v":{"$error":"#REF!"}},{"$f":"#REF!","v":{"$error":"#REF!"}}]
[{"$f":"#REF!","v":{"$error":"#REF!"}},{"$f":"#REF!","v":{"$error":"#REF!"}},{"$f":"#REF!","v":{"$error":"#REF!"}},{"$f":"#REF!","v":{"$error":"#REF!"}},{"$f":"#REF!","v":{"$error":"#REF!"}},{"$f":"#REF!","v":{"$error":"#REF!"}},{"$f":"#REF!","v":{"$error":"#REF!"}},{"$f":"#REF!","v":{"$error":"#REF!"}},{"$f":"#REF!","v":{"$error":"#REF!"}},{"$f":"#REF!","v":{"$error":"#REF!"}},{"$f":"#REF!","v":{"$error":"#REF!"}},{"$f":"#REF!","v":{"$error":"#REF!"}},{"$f":"#REF!","v":{"$error":"#REF!"}},{"$f":"#REF!","v":{"$error":"#REF!"}},{"$f":"#REF!","v":{"$error":"#REF!"}},{"$f":"#REF!","v":{"$error":"#REF!"}},{"$f":"#REF!","v":{"$error":"#REF!"}}]
[{"$f":"#REF!","v":{"$error":"#REF!"}},{"$f":"#REF!","v":{"$error":"#REF!"}},{"$f":"#REF!","v":{"$error":"#REF!"}},{"$f":"#REF!","v":{"$error":"#REF!"}},{"$f":"#REF!","v":{"$error":"#REF!"}},{"$f":"#REF!","v":{"$error":"#REF!"}},{"$f":"#REF!","v":{"$error":"#REF!"}},{"$f":"#REF!","v":{"$error":"#REF!"}},{"$f":"#REF!","v":{"$error":"#REF!"}},{"$f":"#REF!","v":{"$error":"#REF!"}},{"$f":"#REF!","v":{"$error":"#REF!"}},{"$f":"#REF!","v":{"$error":"#REF!"}},{"$f":"#REF!","v":{"$error":"#REF!"}},{"$f":"#REF!","v":{"$error":"#REF!"}},{"$f":"#REF!","v":{"$error":"#REF!"}},{"$f":"#REF!","v":{"$error":"#REF!"}},{"$f":"#REF!","v":{"$error":"#REF!"}}]
[{"$f":"#REF!","v":{"$error":"#REF!"}},{"$f":"#REF!","v":{"$error":"#REF!"}},{"$f":"#REF!","v":{"$error":"#REF!"}},{"$f":"#REF!","v":{"$error":"#REF!"}},{"$f":"#REF!","v":{"$error":"#REF!"}},{"$f":"#REF!","v":{"$error":"#REF!"}},{"$f":"#REF!","v":{"$error":"#REF!"}},{"$f":"#REF!","v":{"$error":"#REF!"}},{"$f":"#REF!","v":{"$error":"#REF!"}},{"$f":"#REF!","v":{"$error":"#REF!"}},{"$f":"#REF!","v":{"$error":"#REF!"}},{"$f":"#REF!","v":{"$error":"#REF!"}},{"$f":"#REF!","v":{"$error":"#REF!"}},{"$f":"#REF!","v":{"$error":"#REF!"}},{"$f":"#REF!","v":{"$error":"#REF!"}},{"$f":"#REF!","v":{"$error":"#REF!"}},{"$f":"#REF!","v":{"$error":"#REF!"}}]
[{"$f":"#REF!","v":{"$error":"#REF!"}},{"$f":"#REF!","v":{"$error":"#REF!"}},{"$f":"#REF!","v":{"$error":"#REF!"}},{"$f":"#REF!","v":{"$error":"#REF!"}},{"$f":"#REF!","v":{"$error":"#REF!"}},{"$f":"#REF!","v":{"$error":"#REF!"}},{"$f":"#REF!","v":{"$error":"#REF!"}},{"$f":"#REF!","v":{"$error":"#REF!"}},{"$f":"#REF!","v":{"$error":"#REF!"}},{"$f":"#REF!","v":{"$error":"#REF!"}},{"$f":"#REF!","v":{"$error":"#REF!"}},{"$f":"#REF!","v":{"$error":"#REF!"}},{"$f":"#REF!","v":{"$error":"#REF!"}},{"$f":"#REF!","v":{"$error":"#REF!"}},{"$f":"#REF!","v":{"$error":"#REF!"}},{"$f":"#REF!","v":{"$error":"#REF!"}},{"$f":"#REF!","v":{"$error":"#REF!"}}]
[{"$f":"#REF!","v":{"$error":"#REF!"}},{"$f":"#REF!","v":{"$error":"#REF!"}},{"$f":"#REF!","v":{"$error":"#REF!"}},{"$f":"#REF!","v":{"$error":"#REF!"}},{"$f":"#REF!","v":{"$error":"#REF!"}},{"$f":"#REF!","v":{"$error":"#REF!"}},{"$f":"#REF!","v":{"$error":"#REF!"}},{"$f":"#REF!","v":{"$error":"#REF!"}},{"$f":"#REF!","v":{"$error":"#REF!"}},{"$f":"#REF!","v":{"$error":"#REF!"}},{"$f":"#REF!","v":{"$error":"#REF!"}},{"$f":"#REF!","v":{"$error":"#REF!"}},{"$f":"#REF!","v":{"$error":"#REF!"}},{"$f":"#REF!","v":{"$error":"#REF!"}},{"$f":"#REF!","v":{"$error":"#REF!"}},{"$f":"#REF!","v":{"$error":"#REF!"}},{"$f":"#REF!","v":{"$error":"#REF!"}}]
[{"$f":"#REF!","v":{"$error":"#REF!"}},{"$f":"#REF!","v":{"$error":"#REF!"}},{"$f":"#REF!","v":{"$error":"#REF!"}},{"$f":"#REF!","v":{"$error":"#REF!"}},{"$f":"#REF!","v":{"$error":"#REF!"}},{"$f":"#REF!","v":{"$error":"#REF!"}},{"$f":"#REF!","v":{"$error":"#REF!"}},{"$f":"#REF!","v":{"$error":"#REF!"}},{"$f":"#REF!","v":{"$error":"#REF!"}},{"$f":"#REF!","v":{"$error":"#REF!"}},{"$f":"#REF!","v":{"$error":"#REF!"}},{"$f":"#REF!","v":{"$error":"#REF!"}},{"$f":"#REF!","v":{"$error":"#REF!"}},{"$f":"#REF!","v":{"$error":"#REF!"}},{"$f":"#REF!","v":{"$error":"#REF!"}},{"$f":"#REF!","v":{"$error":"#REF!"}},{"$f":"#REF!","v":{"$error":"#REF!"}}]
[{"$f":"#REF!","v":{"$error":"#REF!"}},{"$f":"#REF!","v":{"$error":"#REF!"}},{"$f":"#REF!","v":{"$error":"#REF!"}},{"$f":"#REF!","v":{"$error":"#REF!"}},{"$f":"#REF!","v":{"$error":"#REF!"}},{"$f":"#REF!","v":{"$error":"#REF!"}},{"$f":"#REF!","v":{"$error":"#REF!"}},{"$f":"#REF!","v":{"$error":"#REF!"}},{"$f":"#REF!","v":{"$error":"#REF!"}},{"$f":"#REF!","v":{"$error":"#REF!"}},{"$f":"#REF!","v":{"$error":"#REF!"}},{"$f":"#REF!","v":{"$error":"#REF!"}},{"$f":"#REF!","v":{"$error":"#REF!"}},{"$f":"#REF!","v":{"$error":"#REF!"}},{"$f":"#REF!","v":{"$error":"#REF!"}},{"$f":"#REF!","v":{"$error":"#REF!"}},{"$f":"#REF!","v":{"$error":"#REF!"}}]
[{"$f":"#REF!","v":{"$error":"#REF!"}},{"$f":"#REF!","v":{"$error":"#REF!"}},{"$f":"#REF!","v":{"$error":"#REF!"}},{"$f":"#REF!","v":{"$error":"#REF!"}},{"$f":"#REF!","v":{"$error":"#REF!"}},{"$f":"#REF!","v":{"$error":"#REF!"}},{"$f":"#REF!","v":{"$error":"#REF!"}},{"$f":"#REF!","v":{"$error":"#REF!"}},{"$f":"#REF!","v":{"$error":"#REF!"}},{"$f":"#REF!","v":{"$error":"#REF!"}},{"$f":"#REF!","v":{"$error":"#REF!"}},{"$f":"#REF!","v":{"$error":"#REF!"}},{"$f":"#REF!","v":{"$error":"#REF!"}},{"$f":"#REF!","v":{"$error":"#REF!"}},{"$f":"#REF!","v":{"$error":"#REF!"}},{"$f":"#REF!","v":{"$error":"#REF!"}},{"$f":"#REF!","v":{"$error":"#REF!"}}]
[{"$f":"#REF!","v":{"$error":"#REF!"}},{"$f":"#REF!","v":{"$error":"#REF!"}},{"$f":"#REF!","v":{"$error":"#REF!"}},{"$f":"#REF!","v":{"$error":"#REF!"}},{"$f":"#REF!","v":{"$error":"#REF!"}},{"$f":"#REF!","v":{"$error":"#REF!"}},{"$f":"#REF!","v":{"$error":"#REF!"}},{"$f":"#REF!","v":{"$error":"#REF!"}},{"$f":"#REF!","v":{"$error":"#REF!"}},{"$f":"#REF!","v":{"$error":"#REF!"}},{"$f":"#REF!","v":{"$error":"#REF!"}},{"$f":"#REF!","v":{"$error":"#REF!"}},{"$f":"#REF!","v":{"$error":"#REF!"}},{"$f":"#REF!","v":{"$error":"#REF!"}},{"$f":"#REF!","v":{"$error":"#REF!"}},{"$f":"#REF!","v":{"$error":"#REF!"}},{"$f":"#REF!","v":{"$error":"#REF!"}}]
[{"$f":"#REF!","v":{"$error":"#REF!"}},{"$f":"#REF!","v":{"$error":"#REF!"}},{"$f":"#REF!","v":{"$error":"#REF!"}},{"$f":"#REF!","v":{"$error":"#REF!"}},{"$f":"#REF!","v":{"$error":"#REF!"}},{"$f":"#REF!","v":{"$error":"#REF!"}},{"$f":"#REF!","v":{"$error":"#REF!"}},{"$f":"#REF!","v":{"$error":"#REF!"}},{"$f":"#REF!","v":{"$error":"#REF!"}},{"$f":"#REF!","v":{"$error":"#REF!"}},{"$f":"#REF!","v":{"$error":"#REF!"}},{"$f":"#REF!","v":{"$error":"#REF!"}},{"$f":"#REF!","v":{"$error":"#REF!"}},{"$f":"#REF!","v":{"$error":"#REF!"}},{"$f":"#REF!","v":{"$error":"#REF!"}},{"$f":"#REF!","v":{"$error":"#REF!"}},{"$f":"#REF!","v":{"$error":"#REF!"}}]
[{"$f":"#REF!","v":{"$error":"#REF!"}},{"$f":"#REF!","v":{"$error":"#REF!"}},{"$f":"#REF!","v":{"$error":"#REF!"}},{"$f":"#REF!","v":{"$error":"#REF!"}},{"$f":"#REF!","v":{"$error":"#REF!"}},{"$f":"#REF!","v":{"$error":"#REF!"}},{"$f":"#REF!","v":{"$error":"#REF!"}},{"$f":"#REF!","v":{"$error":"#REF!"}},{"$f":"#REF!","v":{"$error":"#REF!"}},{"$f":"#REF!","v":{"$error":"#REF!"}},{"$f":"#REF!","v":{"$error":"#REF!"}},{"$f":"#REF!","v":{"$error":"#REF!"}},{"$f":"#REF!","v":{"$error":"#REF!"}},{"$f":"#REF!","v":{"$error":"#REF!"}},{"$f":"#REF!","v":{"$error":"#REF!"}},{"$f":"#REF!","v":{"$error":"#REF!"}},{"$f":"#REF!","v":{"$error":"#REF!"}}]
[{"$f":"#REF!","v":{"$error":"#REF!"}},{"$f":"#REF!","v":{"$error":"#REF!"}},{"$f":"#REF!","v":{"$error":"#REF!"}},{"$f":"#REF!","v":{"$error":"#REF!"}},{"$f":"#REF!","v":{"$error":"#REF!"}},{"$f":"#REF!","v":{"$error":"#REF!"}},{"$f":"#REF!","v":{"$error":"#REF!"}},{"$f":"#REF!","v":{"$error":"#REF!"}},{"$f":"#REF!","v":{"$error":"#REF!"}},{"$f":"#REF!","v":{"$error":"#REF!"}},{"$f":"#REF!","v":{"$error":"#REF!"}},{"$f":"#REF!","v":{"$error":"#REF!"}},{"$f":"#REF!","v":{"$error":"#REF!"}},{"$f":"#REF!","v":{"$error":"#REF!"}},{"$f":"#REF!","v":{"$error":"#REF!"}},{"$f":"#REF!","v":{"$error":"#REF!"}},{"$f":"#REF!","v":{"$error":"#REF!"}}]
[{"$f":"#REF!","v":{"$error":"#REF!"}},{"$f":"#REF!","v":{"$error":"#REF!"}},{"$f":"#REF!","v":{"$error":"#REF!"}},{"$f":"#REF!","v":{"$error":"#REF!"}},{"$f":"#REF!","v":{"$error":"#REF!"}},{"$f":"#REF!","v":{"$error":"#REF!"}},{"$f":"#REF!","v":{"$error":"#REF!"}},{"$f":"#REF!","v":{"$error":"#REF!"}},{"$f":"#REF!","v":{"$error":"#REF!"}},{"$f":"#REF!","v":{"$error":"#REF!"}},{"$f":"#REF!","v":{"$error":"#REF!"}},{"$f":"#REF!","v":{"$error":"#REF!"}},{"$f":"#REF!","v":{"$error":"#REF!"}},{"$f":"#REF!","v":{"$error":"#REF!"}},{"$f":"#REF!","v":{"$error":"#REF!"}},{"$f":"#REF!","v":{"$error":"#REF!"}},{"$f":"#REF!","v":{"$error":"#REF!"}}]
[{"$f":"#REF!","v":{"$error":"#REF!"}},{"$f":"#REF!","v":{"$error":"#REF!"}},{"$f":"#REF!","v":{"$error":"#REF!"}},{"$f":"#REF!","v":{"$error":"#REF!"}},{"$f":"#REF!","v":{"$error":"#REF!"}},{"$f":"#REF!","v":{"$error":"#REF!"}},{"$f":"#REF!","v":{"$error":"#REF!"}},{"$f":"#REF!","v":{"$error":"#REF!"}},{"$f":"#REF!","v":{"$error":"#REF!"}},{"$f":"#REF!","v":{"$error":"#REF!"}},{"$f":"#REF!","v":{"$error":"#REF!"}},{"$f":"#REF!","v":{"$error":"#REF!"}},{"$f":"#REF!","v":{"$error":"#REF!"}},{"$f":"#REF!","v":{"$error":"#REF!"}},{"$f":"#REF!","v":{"$error":"#REF!"}},{"$f":"#REF!","v":{"$error":"#REF!"}},{"$f":"#REF!","v":{"$error":"#REF!"}}]
[{"$f":"#REF!","v":{"$error":"#REF!"}},{"$f":"#REF!","v":{"$error":"#REF!"}},{"$f":"#REF!","v":{"$error":"#REF!"}},{"$f":"#REF!","v":{"$error":"#REF!"}},{"$f":"#REF!","v":{"$error":"#REF!"}},{"$f":"#REF!","v":{"$error":"#REF!"}},{"$f":"#REF!","v":{"$error":"#REF!"}},{"$f":"#REF!","v":{"$error":"#REF!"}},{"$f":"#REF!","v":{"$error":"#REF!"}},{"$f":"#REF!","v":{"$error":"#REF!"}},{"$f":"#REF!","v":{"$error":"#REF!"}},{"$f":"#REF!","v":{"$error":"#REF!"}},{"$f":"#REF!","v":{"$error":"#REF!"}},{"$f":"#REF!","v":{"$error":"#REF!"}},{"$f":"#REF!","v":{"$error":"#REF!"}},{"$f":"#REF!","v":{"$error":"#REF!"}},{"$f":"#REF!","v":{"$error":"#REF!"}}]
[{"$f":"#REF!","v":{"$error":"#REF!"}},{"$f":"#REF!","v":{"$error":"#REF!"}},{"$f":"#REF!","v":{"$error":"#REF!"}},{"$f":"#REF!","v":{"$error":"#REF!"}},{"$f":"#REF!","v":{"$error":"#REF!"}},{"$f":"#REF!","v":{"$error":"#REF!"}},{"$f":"#REF!","v":{"$error":"#REF!"}},{"$f":"#REF!","v":{"$error":"#REF!"}},{"$f":"#REF!","v":{"$error":"#REF!"}},{"$f":"#REF!","v":{"$error":"#REF!"}},{"$f":"#REF!","v":{"$error":"#REF!"}},{"$f":"#REF!","v":{"$error":"#REF!"}},{"$f":"#REF!","v":{"$error":"#REF!"}},{"$f":"#REF!","v":{"$error":"#REF!"}},{"$f":"#REF!","v":{"$error":"#REF!"}},{"$f":"#REF!","v":{"$error":"#REF!"}},{"$f":"#REF!","v":{"$error":"#REF!"}}]
[{"$f":"#REF!","v":{"$error":"#REF!"}},{"$f":"#REF!","v":{"$error":"#REF!"}},{"$f":"#REF!","v":{"$error":"#REF!"}},{"$f":"#REF!","v":{"$error":"#REF!"}},{"$f":"#REF!","v":{"$error":"#REF!"}},{"$f":"#REF!","v":{"$error":"#REF!"}},{"$f":"#REF!","v":{"$error":"#REF!"}},{"$f":"#REF!","v":{"$error":"#REF!"}},{"$f":"#REF!","v":{"$error":"#REF!"}},{"$f":"#REF!","v":{"$error":"#REF!"}},{"$f":"#REF!","v":{"$error":"#REF!"}},{"$f":"#REF!","v":{"$error":"#REF!"}},{"$f":"#REF!","v":{"$error":"#REF!"}},{"$f":"#REF!","v":{"$error":"#REF!"}},{"$f":"#REF!","v":{"$error":"#REF!"}},{"$f":"#REF!","v":{"$error":"#REF!"}},{"$f":"#REF!","v":{"$error":"#REF!"}}]
[{"$f":"#REF!","v":{"$error":"#REF!"}},{"$f":"#REF!","v":{"$error":"#REF!"}},{"$f":"#REF!","v":{"$error":"#REF!"}},{"$f":"#REF!","v":{"$error":"#REF!"}},{"$f":"#REF!","v":{"$error":"#REF!"}},{"$f":"#REF!","v":{"$error":"#REF!"}},{"$f":"#REF!","v":{"$error":"#REF!"}},{"$f":"#REF!","v":{"$error":"#REF!"}},{"$f":"#REF!","v":{"$error":"#REF!"}},{"$f":"#REF!","v":{"$error":"#REF!"}},{"$f":"#REF!","v":{"$error":"#REF!"}},{"$f":"#REF!","v":{"$error":"#REF!"}},{"$f":"#REF!","v":{"$error":"#REF!"}},{"$f":"#REF!","v":{"$error":"#REF!"}},{"$f":"#REF!","v":{"$error":"#REF!"}},{"$f":"#REF!","v":{"$error":"#REF!"}},{"$f":"#REF!","v":{"$error":"#REF!"}}]
[{"$f":"#REF!","v":{"$error":"#REF!"}},{"$f":"#REF!","v":{"$error":"#REF!"}},{"$f":"#REF!","v":{"$error":"#REF!"}},{"$f":"#REF!","v":{"$error":"#REF!"}},{"$f":"#REF!","v":{"$error":"#REF!"}},{"$f":"#REF!","v":{"$error":"#REF!"}},{"$f":"#REF!","v":{"$error":"#REF!"}},{"$f":"#REF!","v":{"$error":"#REF!"}},{"$f":"#REF!","v":{"$error":"#REF!"}},{"$f":"#REF!","v":{"$error":"#REF!"}},{"$f":"#REF!","v":{"$error":"#REF!"}},{"$f":"#REF!","v":{"$error":"#REF!"}},{"$f":"#REF!","v":{"$error":"#REF!"}},{"$f":"#REF!","v":{"$error":"#REF!"}},{"$f":"#REF!","v":{"$error":"#REF!"}},{"$f":"#REF!","v":{"$error":"#REF!"}},{"$f":"#REF!","v":{"$error":"#REF!"}}]
[{"$f":"#REF!","v":{"$error":"#REF!"}},{"$f":"#REF!","v":{"$error":"#REF!"}},{"$f":"#REF!","v":{"$error":"#REF!"}},{"$f":"#REF!","v":{"$error":"#REF!"}},{"$f":"#REF!","v":{"$error":"#REF!"}},{"$f":"#REF!","v":{"$error":"#REF!"}},{"$f":"#REF!","v":{"$error":"#REF!"}},{"$f":"#REF!","v":{"$error":"#REF!"}},{"$f":"#REF!","v":{"$error":"#REF!"}},{"$f":"#REF!","v":{"$error":"#REF!"}},{"$f":"#REF!","v":{"$error":"#REF!"}},{"$f":"#REF!","v":{"$error":"#REF!"}},{"$f":"#REF!","v":{"$error":"#REF!"}},{"$f":"#REF!","v":{"$error":"#REF!"}},{"$f":"#REF!","v":{"$error":"#REF!"}},{"$f":"#REF!","v":{"$error":"#REF!"}},{"$f":"#REF!","v":{"$error":"#REF!"}}]
[{"$f":"#REF!","v":{"$error":"#REF!"}},{"$f":"#REF!","v":{"$error":"#REF!"}},{"$f":"#REF!","v":{"$error":"#REF!"}},{"$f":"#REF!","v":{"$error":"#REF!"}},{"$f":"#REF!","v":{"$error":"#REF!"}},{"$f":"#REF!","v":{"$error":"#REF!"}},{"$f":"#REF!","v":{"$error":"#REF!"}},{"$f":"#REF!","v":{"$error":"#REF!"}},{"$f":"#REF!","v":{"$error":"#REF!"}},{"$f":"#REF!","v":{"$error":"#REF!"}},{"$f":"#REF!","v":{"$error":"#REF!"}},{"$f":"#REF!","v":{"$error":"#REF!"}},{"$f":"#REF!","v":{"$error":"#REF!"}},{"$f":"#REF!","v":{"$error":"#REF!"}},{"$f":"#REF!","v":{"$error":"#REF!"}},{"$f":"#REF!","v":{"$error":"#REF!"}},{"$f":"#REF!","v":{"$error":"#REF!"}}]
[{"$f":"#REF!","v":{"$error":"#REF!"}},{"$f":"#REF!","v":{"$error":"#REF!"}},{"$f":"#REF!","v":{"$error":"#REF!"}},{"$f":"#REF!","v":{"$error":"#REF!"}},{"$f":"#REF!","v":{"$error":"#REF!"}},{"$f":"#REF!","v":{"$error":"#REF!"}},{"$f":"#REF!","v":{"$error":"#REF!"}},{"$f":"#REF!","v":{"$error":"#REF!"}},{"$f":"#REF!","v":{"$error":"#REF!"}},{"$f":"#REF!","v":{"$error":"#REF!"}},{"$f":"#REF!","v":{"$error":"#REF!"}},{"$f":"#REF!","v":{"$error":"#REF!"}},{"$f":"#REF!","v":{"$error":"#REF!"}},{"$f":"#REF!","v":{"$error":"#REF!"}},{"$f":"#REF!","v":{"$error":"#REF!"}},{"$f":"#REF!","v":{"$error":"#REF!"}},{"$f":"#REF!","v":{"$error":"#REF!"}}]
[{"$f":"#REF!","v":{"$error":"#REF!"}},{"$f":"#REF!","v":{"$error":"#REF!"}},{"$f":"#REF!","v":{"$error":"#REF!"}},{"$f":"#REF!","v":{"$error":"#REF!"}},{"$f":"#REF!","v":{"$error":"#REF!"}},{"$f":"#REF!","v":{"$error":"#REF!"}},{"$f":"#REF!","v":{"$error":"#REF!"}},{"$f":"#REF!","v":{"$error":"#REF!"}},{"$f":"#REF!","v":{"$error":"#REF!"}},{"$f":"#REF!","v":{"$error":"#REF!"}},{"$f":"#REF!","v":{"$error":"#REF!"}},{"$f":"#REF!","v":{"$error":"#REF!"}},{"$f":"#REF!","v":{"$error":"#REF!"}},{"$f":"#REF!","v":{"$error":"#REF!"}},{"$f":"#REF!","v":{"$error":"#REF!"}},{"$f":"#REF!","v":{"$error":"#REF!"}},{"$f":"#REF!","v":{"$error":"#REF!"}}]
[{"$f":"#REF!","v":{"$error":"#REF!"}},{"$f":"#REF!","v":{"$error":"#REF!"}},{"$f":"#REF!","v":{"$error":"#REF!"}},{"$f":"#REF!","v":{"$error":"#REF!"}},{"$f":"#REF!","v":{"$error":"#REF!"}},{"$f":"#REF!","v":{"$error":"#REF!"}},{"$f":"#REF!","v":{"$error":"#REF!"}},{"$f":"#REF!","v":{"$error":"#REF!"}},{"$f":"#REF!","v":{"$error":"#REF!"}},{"$f":"#REF!","v":{"$error":"#REF!"}},{"$f":"#REF!","v":{"$error":"#REF!"}},{"$f":"#REF!","v":{"$error":"#REF!"}},{"$f":"#REF!","v":{"$error":"#REF!"}},{"$f":"#REF!","v":{"$error":"#REF!"}},{"$f":"#REF!","v":{"$error":"#REF!"}},{"$f":"#REF!","v":{"$error":"#REF!"}},{"$f":"#REF!","v":{"$error":"#REF!"}}]
[{"$f":"#REF!","v":{"$error":"#REF!"}},{"$f":"#REF!","v":{"$error":"#REF!"}},{"$f":"#REF!","v":{"$error":"#REF!"}},{"$f":"#REF!","v":{"$error":"#REF!"}},{"$f":"#REF!","v":{"$error":"#REF!"}},{"$f":"#REF!","v":{"$error":"#REF!"}},{"$f":"#REF!","v":{"$error":"#REF!"}},{"$f":"#REF!","v":{"$error":"#REF!"}},{"$f":"#REF!","v":{"$error":"#REF!"}},{"$f":"#REF!","v":{"$error":"#REF!"}},{"$f":"#REF!","v":{"$error":"#REF!"}},{"$f":"#REF!","v":{"$error":"#REF!"}},{"$f":"#REF!","v":{"$error":"#REF!"}},{"$f":"#REF!","v":{"$error":"#REF!"}},{"$f":"#REF!","v":{"$error":"#REF!"}},{"$f":"#REF!","v":{"$error":"#REF!"}},{"$f":"#REF!","v":{"$error":"#REF!"}}]
[{"$f":"#REF!","v":{"$error":"#REF!"}},{"$f":"#REF!","v":{"$error":"#REF!"}},{"$f":"#REF!","v":{"$error":"#REF!"}},{"$f":"#REF!","v":{"$error":"#REF!"}},{"$f":"#REF!","v":{"$error":"#REF!"}},{"$f":"#REF!","v":{"$error":"#REF!"}},{"$f":"#REF!","v":{"$error":"#REF!"}},{"$f":"#REF!","v":{"$error":"#REF!"}},{"$f":"#REF!","v":{"$error":"#REF!"}},{"$f":"#REF!","v":{"$error":"#REF!"}},{"$f":"#REF!","v":{"$error":"#REF!"}},{"$f":"#REF!","v":{"$error":"#REF!"}},{"$f":"#REF!","v":{"$error":"#REF!"}},{"$f":"#REF!","v":{"$error":"#REF!"}},{"$f":"#REF!","v":{"$error":"#REF!"}},{"$f":"#REF!","v":{"$error":"#REF!"}},{"$f":"#REF!","v":{"$error":"#REF!"}}]
[{"$f":"#REF!","v":{"$error":"#REF!"}},{"$f":"#REF!","v":{"$error":"#REF!"}},{"$f":"#REF!","v":{"$error":"#REF!"}},{"$f":"#REF!","v":{"$error":"#REF!"}},{"$f":"#REF!","v":{"$error":"#REF!"}},{"$f":"#REF!","v":{"$error":"#REF!"}},{"$f":"#REF!","v":{"$error":"#REF!"}},{"$f":"#REF!","v":{"$error":"#REF!"}},{"$f":"#REF!","v":{"$error":"#REF!"}},{"$f":"#REF!","v":{"$error":"#REF!"}},{"$f":"#REF!","v":{"$error":"#REF!"}},{"$f":"#REF!","v":{"$error":"#REF!"}},{"$f":"#REF!","v":{"$error":"#REF!"}},{"$f":"#REF!","v":{"$error":"#REF!"}},{"$f":"#REF!","v":{"$error":"#REF!"}},{"$f":"#REF!","v":{"$error":"#REF!"}},{"$f":"#REF!","v":{"$error":"#REF!"}}]
[{"$f":"#REF!","v":{"$error":"#REF!"}},{"$f":"#REF!","v":{"$error":"#REF!"}},{"$f":"#REF!","v":{"$error":"#REF!"}},{"$f":"#REF!","v":{"$error":"#REF!"}},{"$f":"#REF!","v":{"$error":"#REF!"}},{"$f":"#REF!","v":{"$error":"#REF!"}},{"$f":"#REF!","v":{"$error":"#REF!"}},{"$f":"#REF!","v":{"$error":"#REF!"}},{"$f":"#REF!","v":{"$error":"#REF!"}},{"$f":"#REF!","v":{"$error":"#REF!"}},{"$f":"#REF!","v":{"$error":"#REF!"}},{"$f":"#REF!","v":{"$error":"#REF!"}},{"$f":"#REF!","v":{"$error":"#REF!"}},{"$f":"#REF!","v":{"$error":"#REF!"}},{"$f":"#REF!","v":{"$error":"#REF!"}},{"$f":"#REF!","v":{"$error":"#REF!"}},{"$f":"#REF!","v":{"$error":"#REF!"}}]
[{"$f":"#REF!","v":{"$error":"#REF!"}},{"$f":"#REF!","v":{"$error":"#REF!"}},{"$f":"#REF!","v":{"$error":"#REF!"}},{"$f":"#REF!","v":{"$error":"#REF!"}},{"$f":"#REF!","v":{"$error":"#REF!"}},{"$f":"#REF!","v":{"$error":"#REF!"}},{"$f":"#REF!","v":{"$error":"#REF!"}},{"$f":"#REF!","v":{"$error":"#REF!"}},{"$f":"#REF!","v":{"$error":"#REF!"}},{"$f":"#REF!","v":{"$error":"#REF!"}},{"$f":"#REF!","v":{"$error":"#REF!"}},{"$f":"#REF!","v":{"$error":"#REF!"}},{"$f":"#REF!","v":{"$error":"#REF!"}},{"$f":"#REF!","v":{"$error":"#REF!"}},{"$f":"#REF!","v":{"$error":"#REF!"}},{"$f":"#REF!","v":{"$error":"#REF!"}},{"$f":"#REF!","v":{"$error":"#REF!"}}]
[{"$f":"#REF!","v":{"$error":"#REF!"}},{"$f":"#REF!","v":{"$error":"#REF!"}},{"$f":"#REF!","v":{"$error":"#REF!"}},{"$f":"#REF!","v":{"$error":"#REF!"}},{"$f":"#REF!","v":{"$error":"#REF!"}},{"$f":"#REF!","v":{"$error":"#REF!"}},{"$f":"#REF!","v":{"$error":"#REF!"}},{"$f":"#REF!","v":{"$error":"#REF!"}},{"$f":"#REF!","v":{"$error":"#REF!"}},{"$f":"#REF!","v":{"$error":"#REF!"}},{"$f":"#REF!","v":{"$error":"#REF!"}},{"$f":"#REF!","v":{"$error":"#REF!"}},{"$f":"#REF!","v":{"$error":"#REF!"}},{"$f":"#REF!","v":{"$error":"#REF!"}},{"$f":"#REF!","v":{"$error":"#REF!"}},{"$f":"#REF!","v":{"$error":"#REF!"}},{"$f":"#REF!","v":{"$error":"#REF!"}}]
[{"$f":"#REF!","v":{"$error":"#REF!"}},{"$f":"#REF!","v":{"$error":"#REF!"}},{"$f":"#REF!","v":{"$error":"#REF!"}},{"$f":"#REF!","v":{"$error":"#REF!"}},{"$f":"#REF!","v":{"$error":"#REF!"}},{"$f":"#REF!","v":{"$error":"#REF!"}},{"$f":"#REF!","v":{"$error":"#REF!"}},{"$f":"#REF!","v":{"$error":"#REF!"}},{"$f":"#REF!","v":{"$error":"#REF!"}},{"$f":"#REF!","v":{"$error":"#REF!"}},{"$f":"#REF!","v":{"$error":"#REF!"}},{"$f":"#REF!","v":{"$error":"#REF!"}},{"$f":"#REF!","v":{"$error":"#REF!"}},{"$f":"#REF!","v":{"$error":"#REF!"}},{"$f":"#REF!","v":{"$error":"#REF!"}},{"$f":"#REF!","v":{"$error":"#REF!"}},{"$f":"#REF!","v":{"$error":"#REF!"}}]
[{"$f":"#REF!","v":{"$error":"#REF!"}},{"$f":"#REF!","v":{"$error":"#REF!"}},{"$f":"#REF!","v":{"$error":"#REF!"}},{"$f":"#REF!","v":{"$error":"#REF!"}},{"$f":"#REF!","v":{"$error":"#REF!"}},{"$f":"#REF!","v":{"$error":"#REF!"}},{"$f":"#REF!","v":{"$error":"#REF!"}},{"$f":"#REF!","v":{"$error":"#REF!"}},{"$f":"#REF!","v":{"$error":"#REF!"}},{"$f":"#REF!","v":{"$error":"#REF!"}},{"$f":"#REF!","v":{"$error":"#REF!"}},{"$f":"#REF!","v":{"$error":"#REF!"}},{"$f":"#REF!","v":{"$error":"#REF!"}},{"$f":"#REF!","v":{"$error":"#REF!"}},{"$f":"#REF!","v":{"$error":"#REF!"}},{"$f":"#REF!","v":{"$error":"#REF!"}},{"$f":"#REF!","v":{"$error":"#REF!"}}]
[{"$f":"#REF!","v":{"$error":"#REF!"}},{"$f":"#REF!","v":{"$error":"#REF!"}},{"$f":"#REF!","v":{"$error":"#REF!"}},{"$f":"#REF!","v":{"$error":"#REF!"}},{"$f":"#REF!","v":{"$error":"#REF!"}},{"$f":"#REF!","v":{"$error":"#REF!"}},{"$f":"#REF!","v":{"$error":"#REF!"}},{"$f":"#REF!","v":{"$error":"#REF!"}},{"$f":"#REF!","v":{"$error":"#REF!"}},{"$f":"#REF!","v":{"$error":"#REF!"}},{"$f":"#REF!","v":{"$error":"#REF!"}},{"$f":"#REF!","v":{"$error":"#REF!"}},{"$f":"#REF!","v":{"$error":"#REF!"}},{"$f":"#REF!","v":{"$error":"#REF!"}},{"$f":"#REF!","v":{"$error":"#REF!"}},{"$f":"#REF!","v":{"$error":"#REF!"}},{"$f":"#REF!","v":{"$error":"#REF!"}}]
[{"$f":"#REF!","v":{"$error":"#REF!"}},{"$f":"#REF!","v":{"$error":"#REF!"}},{"$f":"#REF!","v":{"$error":"#REF!"}},{"$f":"#REF!","v":{"$error":"#REF!"}},{"$f":"#REF!","v":{"$error":"#REF!"}},{"$f":"#REF!","v":{"$error":"#REF!"}},{"$f":"#REF!","v":{"$error":"#REF!"}},{"$f":"#REF!","v":{"$error":"#REF!"}},{"$f":"#REF!","v":{"$error":"#REF!"}},{"$f":"#REF!","v":{"$error":"#REF!"}},{"$f":"#REF!","v":{"$error":"#REF!"}},{"$f":"#REF!","v":{"$error":"#REF!"}},{"$f":"#REF!","v":{"$error":"#REF!"}},{"$f":"#REF!","v":{"$error":"#REF!"}},{"$f":"#REF!","v":{"$error":"#REF!"}},{"$f":"#REF!","v":{"$error":"#REF!"}},{"$f":"#REF!","v":{"$error":"#REF!"}}]
[{"$f":"#REF!","v":{"$error":"#REF!"}},{"$f":"#REF!","v":{"$error":"#REF!"}},{"$f":"#REF!","v":{"$error":"#REF!"}},{"$f":"#REF!","v":{"$error":"#REF!"}},{"$f":"#REF!","v":{"$error":"#REF!"}},{"$f":"#REF!","v":{"$error":"#REF!"}},{"$f":"#REF!","v":{"$error":"#REF!"}},{"$f":"#REF!","v":{"$error":"#REF!"}},{"$f":"#REF!","v":{"$error":"#REF!"}},{"$f":"#REF!","v":{"$error":"#REF!"}},{"$f":"#REF!","v":{"$error":"#REF!"}},{"$f":"#REF!","v":{"$error":"#REF!"}},{"$f":"#REF!","v":{"$error":"#REF!"}},{"$f":"#REF!","v":{"$error":"#REF!"}},{"$f":"#REF!","v":{"$error":"#REF!"}},{"$f":"#REF!","v":{"$error":"#REF!"}},{"$f":"#REF!","v":{"$error":"#REF!"}}]
[{"$f":"#REF!","v":{"$error":"#REF!"}},{"$f":"#REF!","v":{"$error":"#REF!"}},{"$f":"#REF!","v":{"$error":"#REF!"}},{"$f":"#REF!","v":{"$error":"#REF!"}},{"$f":"#REF!","v":{"$error":"#REF!"}},{"$f":"#REF!","v":{"$error":"#REF!"}},{"$f":"#REF!","v":{"$error":"#REF!"}},{"$f":"#REF!","v":{"$error":"#REF!"}},{"$f":"#REF!","v":{"$error":"#REF!"}},{"$f":"#REF!","v":{"$error":"#REF!"}},{"$f":"#REF!","v":{"$error":"#REF!"}},{"$f":"#REF!","v":{"$error":"#REF!"}},{"$f":"#REF!","v":{"$error":"#REF!"}},{"$f":"#REF!","v":{"$error":"#REF!"}},{"$f":"#REF!","v":{"$error":"#REF!"}},{"$f":"#REF!","v":{"$error":"#REF!"}},{"$f":"#REF!","v":{"$error":"#REF!"}}]
[{"$f":"#REF!","v":{"$error":"#REF!"}},{"$f":"#REF!","v":{"$error":"#REF!"}},{"$f":"#REF!","v":{"$error":"#REF!"}},{"$f":"#REF!","v":{"$error":"#REF!"}},{"$f":"#REF!","v":{"$error":"#REF!"}},{"$f":"#REF!","v":{"$error":"#REF!"}},{"$f":"#REF!","v":{"$error":"#REF!"}},{"$f":"#REF!","v":{"$error":"#REF!"}},{"$f":"#REF!","v":{"$error":"#REF!"}},{"$f":"#REF!","v":{"$error":"#REF!"}},{"$f":"#REF!","v":{"$error":"#REF!"}},{"$f":"#REF!","v":{"$error":"#REF!"}},{"$f":"#REF!","v":{"$error":"#REF!"}},{"$f":"#REF!","v":{"$error":"#REF!"}},{"$f":"#REF!","v":{"$error":"#REF!"}},{"$f":"#REF!","v":{"$error":"#REF!"}},{"$f":"#REF!","v":{"$error":"#REF!"}}]
[{"$f":"#REF!","v":{"$error":"#REF!"}},{"$f":"#REF!","v":{"$error":"#REF!"}},{"$f":"#REF!","v":{"$error":"#REF!"}},{"$f":"#REF!","v":{"$error":"#REF!"}},{"$f":"#REF!","v":{"$error":"#REF!"}},{"$f":"#REF!","v":{"$error":"#REF!"}},{"$f":"#REF!","v":{"$error":"#REF!"}},{"$f":"#REF!","v":{"$error":"#REF!"}},{"$f":"#REF!","v":{"$error":"#REF!"}},{"$f":"#REF!","v":{"$error":"#REF!"}},{"$f":"#REF!","v":{"$error":"#REF!"}},{"$f":"#REF!","v":{"$error":"#REF!"}},{"$f":"#REF!","v":{"$error":"#REF!"}},{"$f":"#REF!","v":{"$error":"#REF!"}},{"$f":"#REF!","v":{"$error":"#REF!"}},{"$f":"#REF!","v":{"$error":"#REF!"}},{"$f":"#REF!","v":{"$error":"#REF!"}}]
[{"$f":"#REF!","v":{"$error":"#REF!"}},{"$f":"#REF!","v":{"$error":"#REF!"}},{"$f":"#REF!","v":{"$error":"#REF!"}},{"$f":"#REF!","v":{"$error":"#REF!"}},{"$f":"#REF!","v":{"$error":"#REF!"}},{"$f":"#REF!","v":{"$error":"#REF!"}},{"$f":"#REF!","v":{"$error":"#REF!"}},{"$f":"#REF!","v":{"$error":"#REF!"}},{"$f":"#REF!","v":{"$error":"#REF!"}},{"$f":"#REF!","v":{"$error":"#REF!"}},{"$f":"#REF!","v":{"$error":"#REF!"}},{"$f":"#REF!","v":{"$error":"#REF!"}},{"$f":"#REF!","v":{"$error":"#REF!"}},{"$f":"#REF!","v":{"$error":"#REF!"}},{"$f":"#REF!","v":{"$error":"#REF!"}},{"$f":"#REF!","v":{"$error":"#REF!"}},{"$f":"#REF!","v":{"$error":"#REF!"}}]
[{"$f":"#REF!","v":{"$error":"#REF!"}},{"$f":"#REF!","v":{"$error":"#REF!"}},{"$f":"#REF!","v":{"$error":"#REF!"}},{"$f":"#REF!","v":{"$error":"#REF!"}},{"$f":"#REF!","v":{"$error":"#REF!"}},{"$f":"#REF!","v":{"$error":"#REF!"}},{"$f":"#REF!","v":{"$error":"#REF!"}},{"$f":"#REF!","v":{"$error":"#REF!"}},{"$f":"#REF!","v":{"$error":"#REF!"}},{"$f":"#REF!","v":{"$error":"#REF!"}},{"$f":"#REF!","v":{"$error":"#REF!"}},{"$f":"#REF!","v":{"$error":"#REF!"}},{"$f":"#REF!","v":{"$error":"#REF!"}},{"$f":"#REF!","v":{"$error":"#REF!"}},{"$f":"#REF!","v":{"$error":"#REF!"}},{"$f":"#REF!","v":{"$error":"#REF!"}},{"$f":"#REF!","v":{"$error":"#REF!"}}]
[{"$f":"#REF!","v":{"$error":"#REF!"}},{"$f":"#REF!","v":{"$error":"#REF!"}},{"$f":"#REF!","v":{"$error":"#REF!"}},{"$f":"#REF!","v":{"$error":"#REF!"}},{"$f":"#REF!","v":{"$error":"#REF!"}},{"$f":"#REF!","v":{"$error":"#REF!"}},{"$f":"#REF!","v":{"$error":"#REF!"}},{"$f":"#REF!","v":{"$error":"#REF!"}},{"$f":"#REF!","v":{"$error":"#REF!"}},{"$f":"#REF!","v":{"$error":"#REF!"}},{"$f":"#REF!","v":{"$error":"#REF!"}},{"$f":"#REF!","v":{"$error":"#REF!"}},{"$f":"#REF!","v":{"$error":"#REF!"}},{"$f":"#REF!","v":{"$error":"#REF!"}},{"$f":"#REF!","v":{"$error":"#REF!"}},{"$f":"#REF!","v":{"$error":"#REF!"}},{"$f":"#REF!","v":{"$error":"#REF!"}}]
[{"$f":"#REF!","v":{"$error":"#REF!"}},{"$f":"#REF!","v":{"$error":"#REF!"}},{"$f":"#REF!","v":{"$error":"#REF!"}},{"$f":"#REF!","v":{"$error":"#REF!"}},{"$f":"#REF!","v":{"$error":"#REF!"}},{"$f":"#REF!","v":{"$error":"#REF!"}},{"$f":"#REF!","v":{"$error":"#REF!"}},{"$f":"#REF!","v":{"$error":"#REF!"}},{"$f":"#REF!","v":{"$error":"#REF!"}},{"$f":"#REF!","v":{"$error":"#REF!"}},{"$f":"#REF!","v":{"$error":"#REF!"}},{"$f":"#REF!","v":{"$error":"#REF!"}},{"$f":"#REF!","v":{"$error":"#REF!"}},{"$f":"#REF!","v":{"$error":"#REF!"}},{"$f":"#REF!","v":{"$error":"#REF!"}},{"$f":"#REF!","v":{"$error":"#REF!"}},{"$f":"#REF!","v":{"$error":"#REF!"}}]
[{"$f":"#REF!","v":{"$error":"#REF!"}},{"$f":"#REF!","v":{"$error":"#REF!"}},{"$f":"#REF!","v":{"$error":"#REF!"}},{"$f":"#REF!","v":{"$error":"#REF!"}},{"$f":"#REF!","v":{"$error":"#REF!"}},{"$f":"#REF!","v":{"$error":"#REF!"}},{"$f":"#REF!","v":{"$error":"#REF!"}},{"$f":"#REF!","v":{"$error":"#REF!"}},{"$f":"#REF!","v":{"$error":"#REF!"}},{"$f":"#REF!","v":{"$error":"#REF!"}},{"$f":"#REF!","v":{"$error":"#REF!"}},{"$f":"#REF!","v":{"$error":"#REF!"}},{"$f":"#REF!","v":{"$error":"#REF!"}},{"$f":"#REF!","v":{"$error":"#REF!"}},{"$f":"#REF!","v":{"$error":"#REF!"}},{"$f":"#REF!","v":{"$error":"#REF!"}},{"$f":"#REF!","v":{"$error":"#REF!"}}]
[{"$f":"#REF!","v":{"$error":"#REF!"}},{"$f":"#REF!","v":{"$error":"#REF!"}},{"$f":"#REF!","v":{"$error":"#REF!"}},{"$f":"#REF!","v":{"$error":"#REF!"}},{"$f":"#REF!","v":{"$error":"#REF!"}},{"$f":"#REF!","v":{"$error":"#REF!"}},{"$f":"#REF!","v":{"$error":"#REF!"}},{"$f":"#REF!","v":{"$error":"#REF!"}},{"$f":"#REF!","v":{"$error":"#REF!"}},{"$f":"#REF!","v":{"$error":"#REF!"}},{"$f":"#REF!","v":{"$error":"#REF!"}},{"$f":"#REF!","v":{"$error":"#REF!"}},{"$f":"#REF!","v":{"$error":"#REF!"}},{"$f":"#REF!","v":{"$error":"#REF!"}},{"$f":"#REF!","v":{"$error":"#REF!"}},{"$f":"#REF!","v":{"$error":"#REF!"}},{"$f":"#REF!","v":{"$error":"#REF!"}}]
[{"$f":"#REF!","v":{"$error":"#REF!"}},{"$f":"#REF!","v":{"$error":"#REF!"}},{"$f":"#REF!","v":{"$error":"#REF!"}},{"$f":"#REF!","v":{"$error":"#REF!"}},{"$f":"#REF!","v":{"$error":"#REF!"}},{"$f":"#REF!","v":{"$error":"#REF!"}},{"$f":"#REF!","v":{"$error":"#REF!"}},{"$f":"#REF!","v":{"$error":"#REF!"}},{"$f":"#REF!","v":{"$error":"#REF!"}},{"$f":"#REF!","v":{"$error":"#REF!"}},{"$f":"#REF!","v":{"$error":"#REF!"}},{"$f":"#REF!","v":{"$error":"#REF!"}},{"$f":"#REF!","v":{"$error":"#REF!"}},{"$f":"#REF!","v":{"$error":"#REF!"}},{"$f":"#REF!","v":{"$error":"#REF!"}},{"$f":"#REF!","v":{"$error":"#REF!"}},{"$f":"#REF!","v":{"$error":"#REF!"}}]
[{"$f":"#REF!","v":{"$error":"#REF!"}},{"$f":"#REF!","v":{"$error":"#REF!"}},{"$f":"#REF!","v":{"$error":"#REF!"}},{"$f":"#REF!","v":{"$error":"#REF!"}},{"$f":"#REF!","v":{"$error":"#REF!"}},{"$f":"#REF!","v":{"$error":"#REF!"}},{"$f":"#REF!","v":{"$error":"#REF!"}},{"$f":"#REF!","v":{"$error":"#REF!"}},{"$f":"#REF!","v":{"$error":"#REF!"}},{"$f":"#REF!","v":{"$error":"#REF!"}},{"$f":"#REF!","v":{"$error":"#REF!"}},{"$f":"#REF!","v":{"$error":"#REF!"}},{"$f":"#REF!","v":{"$error":"#REF!"}},{"$f":"#REF!","v":{"$error":"#REF!"}},{"$f":"#REF!","v":{"$error":"#REF!"}},{"$f":"#REF!","v":{"$error":"#REF!"}},{"$f":"#REF!","v":{"$error":"#REF!"}}]
[{"$f":"#REF!","v":{"$error":"#REF!"}},{"$f":"#REF!","v":{"$error":"#REF!"}},{"$f":"#REF!","v":{"$error":"#REF!"}},{"$f":"#REF!","v":{"$error":"#REF!"}},{"$f":"#REF!","v":{"$error":"#REF!"}},{"$f":"#REF!","v":{"$error":"#REF!"}},{"$f":"#REF!","v":{"$error":"#REF!"}},{"$f":"#REF!","v":{"$error":"#REF!"}},{"$f":"#REF!","v":{"$error":"#REF!"}},{"$f":"#REF!","v":{"$error":"#REF!"}},{"$f":"#REF!","v":{"$error":"#REF!"}},{"$f":"#REF!","v":{"$error":"#REF!"}},{"$f":"#REF!","v":{"$error":"#REF!"}},{"$f":"#REF!","v":{"$error":"#REF!"}},{"$f":"#REF!","v":{"$error":"#REF!"}},{"$f":"#REF!","v":{"$error":"#REF!"}},{"$f":"#REF!","v":{"$error":"#REF!"}}]
[{"$f":"#REF!","v":{"$error":"#REF!"}},{"$f":"#REF!","v":{"$error":"#REF!"}},{"$f":"#REF!","v":{"$error":"#REF!"}},{"$f":"#REF!","v":{"$error":"#REF!"}},{"$f":"#REF!","v":{"$error":"#REF!"}},{"$f":"#REF!","v":{"$error":"#REF!"}},{"$f":"#REF!","v":{"$error":"#REF!"}},{"$f":"#REF!","v":{"$error":"#REF!"}},{"$f":"#REF!","v":{"$error":"#REF!"}},{"$f":"#REF!","v":{"$error":"#REF!"}},{"$f":"#REF!","v":{"$error":"#REF!"}},{"$f":"#REF!","v":{"$error":"#REF!"}},{"$f":"#REF!","v":{"$error":"#REF!"}},{"$f":"#REF!","v":{"$error":"#REF!"}},{"$f":"#REF!","v":{"$error":"#REF!"}},{"$f":"#REF!","v":{"$error":"#REF!"}},{"$f":"#REF!","v":{"$error":"#REF!"}}]
[{"$f":"#REF!","v":{"$error":"#REF!"}},{"$f":"#REF!","v":{"$error":"#REF!"}},{"$f":"#REF!","v":{"$error":"#REF!"}},{"$f":"#REF!","v":{"$error":"#REF!"}},{"$f":"#REF!","v":{"$error":"#REF!"}},{"$f":"#REF!","v":{"$error":"#REF!"}},{"$f":"#REF!","v":{"$error":"#REF!"}},{"$f":"#REF!","v":{"$error":"#REF!"}},{"$f":"#REF!","v":{"$error":"#REF!"}},{"$f":"#REF!","v":{"$error":"#REF!"}},{"$f":"#REF!","v":{"$error":"#REF!"}},{"$f":"#REF!","v":{"$error":"#REF!"}},{"$f":"#REF!","v":{"$error":"#REF!"}},{"$f":"#REF!","v":{"$error":"#REF!"}},{"$f":"#REF!","v":{"$error":"#REF!"}},{"$f":"#REF!","v":{"$error":"#REF!"}},{"$f":"#REF!","v":{"$error":"#REF!"}}]
[{"$f":"#REF!","v":{"$error":"#REF!"}},{"$f":"#REF!","v":{"$error":"#REF!"}},{"$f":"#REF!","v":{"$error":"#REF!"}},{"$f":"#REF!","v":{"$error":"#REF!"}},{"$f":"#REF!","v":{"$error":"#REF!"}},{"$f":"#REF!","v":{"$error":"#REF!"}},{"$f":"#REF!","v":{"$error":"#REF!"}},{"$f":"#REF!","v":{"$error":"#REF!"}},{"$f":"#REF!","v":{"$error":"#REF!"}},{"$f":"#REF!","v":{"$error":"#REF!"}},{"$f":"#REF!","v":{"$error":"#REF!"}},{"$f":"#REF!","v":{"$error":"#REF!"}},{"$f":"#REF!","v":{"$error":"#REF!"}},{"$f":"#REF!","v":{"$error":"#REF!"}},{"$f":"#REF!","v":{"$error":"#REF!"}},{"$f":"#REF!","v":{"$error":"#REF!"}},{"$f":"#REF!","v":{"$error":"#REF!"}}]
[{"$f":"#REF!","v":{"$error":"#REF!"}},{"$f":"#REF!","v":{"$error":"#REF!"}},{"$f":"#REF!","v":{"$error":"#REF!"}},{"$f":"#REF!","v":{"$error":"#REF!"}},{"$f":"#REF!","v":{"$error":"#REF!"}},{"$f":"#REF!","v":{"$error":"#REF!"}},{"$f":"#REF!","v":{"$error":"#REF!"}},{"$f":"#REF!","v":{"$error":"#REF!"}},{"$f":"#REF!","v":{"$error":"#REF!"}},{"$f":"#REF!","v":{"$error":"#REF!"}},{"$f":"#REF!","v":{"$error":"#REF!"}},{"$f":"#REF!","v":{"$error":"#REF!"}},{"$f":"#REF!","v":{"$error":"#REF!"}},{"$f":"#REF!","v":{"$error":"#REF!"}},{"$f":"#REF!","v":{"$error":"#REF!"}},{"$f":"#REF!","v":{"$error":"#REF!"}},{"$f":"#REF!","v":{"$error":"#REF!"}}]
[{"$f":"#REF!","v":{"$error":"#REF!"}},{"$f":"#REF!","v":{"$error":"#REF!"}},{"$f":"#REF!","v":{"$error":"#REF!"}},{"$f":"#REF!","v":{"$error":"#REF!"}},{"$f":"#REF!","v":{"$error":"#REF!"}},{"$f":"#REF!","v":{"$error":"#REF!"}},{"$f":"#REF!","v":{"$error":"#REF!"}},{"$f":"#REF!","v":{"$error":"#REF!"}},{"$f":"#REF!","v":{"$error":"#REF!"}},{"$f":"#REF!","v":{"$error":"#REF!"}},{"$f":"#REF!","v":{"$error":"#REF!"}},{"$f":"#REF!","v":{"$error":"#REF!"}},{"$f":"#REF!","v":{"$error":"#REF!"}},{"$f":"#REF!","v":{"$error":"#REF!"}},{"$f":"#REF!","v":{"$error":"#REF!"}},{"$f":"#REF!","v":{"$error":"#REF!"}},{"$f":"#REF!","v":{"$error":"#REF!"}}]
[{"$f":"#REF!","v":{"$error":"#REF!"}},{"$f":"#REF!","v":{"$error":"#REF!"}},{"$f":"#REF!","v":{"$error":"#REF!"}},{"$f":"#REF!","v":{"$error":"#REF!"}},{"$f":"#REF!","v":{"$error":"#REF!"}},{"$f":"#REF!","v":{"$error":"#REF!"}},{"$f":"#REF!","v":{"$error":"#REF!"}},{"$f":"#REF!","v":{"$error":"#REF!"}},{"$f":"#REF!","v":{"$error":"#REF!"}},{"$f":"#REF!","v":{"$error":"#REF!"}},{"$f":"#REF!","v":{"$error":"#REF!"}},{"$f":"#REF!","v":{"$error":"#REF!"}},{"$f":"#REF!","v":{"$error":"#REF!"}},{"$f":"#REF!","v":{"$error":"#REF!"}},{"$f":"#REF!","v":{"$error":"#REF!"}},{"$f":"#REF!","v":{"$error":"#REF!"}},{"$f":"#REF!","v":{"$error":"#REF!"}}]
[{"$f":"#REF!","v":{"$error":"#REF!"}},{"$f":"#REF!","v":{"$error":"#REF!"}},{"$f":"#REF!","v":{"$error":"#REF!"}},{"$f":"#REF!","v":{"$error":"#REF!"}},{"$f":"#REF!","v":{"$error":"#REF!"}},{"$f":"#REF!","v":{"$error":"#REF!"}},{"$f":"#REF!","v":{"$error":"#REF!"}},{"$f":"#REF!","v":{"$error":"#REF!"}},{"$f":"#REF!","v":{"$error":"#REF!"}},{"$f":"#REF!","v":{"$error":"#REF!"}},{"$f":"#REF!","v":{"$error":"#REF!"}},{"$f":"#REF!","v":{"$error":"#REF!"}},{"$f":"#REF!","v":{"$error":"#REF!"}},{"$f":"#REF!","v":{"$error":"#REF!"}},{"$f":"#REF!","v":{"$error":"#REF!"}},{"$f":"#REF!","v":{"$error":"#REF!"}},{"$f":"#REF!","v":{"$error":"#REF!"}}]
[{"$f":"#REF!","v":{"$error":"#REF!"}},{"$f":"#REF!","v":{"$error":"#REF!"}},{"$f":"#REF!","v":{"$error":"#REF!"}},{"$f":"#REF!","v":{"$error":"#REF!"}},{"$f":"#REF!","v":{"$error":"#REF!"}},{"$f":"#REF!","v":{"$error":"#REF!"}},{"$f":"#REF!","v":{"$error":"#REF!"}},{"$f":"#REF!","v":{"$error":"#REF!"}},{"$f":"#REF!","v":{"$error":"#REF!"}},{"$f":"#REF!","v":{"$error":"#REF!"}},{"$f":"#REF!","v":{"$error":"#REF!"}},{"$f":"#REF!","v":{"$error":"#REF!"}},{"$f":"#REF!","v":{"$error":"#REF!"}},{"$f":"#REF!","v":{"$error":"#REF!"}},{"$f":"#REF!","v":{"$error":"#REF!"}},{"$f":"#REF!","v":{"$error":"#REF!"}},{"$f":"#REF!","v":{"$error":"#REF!"}}]
[{"$f":"#REF!","v":{"$error":"#REF!"}},{"$f":"#REF!","v":{"$error":"#REF!"}},{"$f":"#REF!","v":{"$error":"#REF!"}},{"$f":"#REF!","v":{"$error":"#REF!"}},{"$f":"#REF!","v":{"$error":"#REF!"}},{"$f":"#REF!","v":{"$error":"#REF!"}},{"$f":"#REF!","v":{"$error":"#REF!"}},{"$f":"#REF!","v":{"$error":"#REF!"}},{"$f":"#REF!","v":{"$error":"#REF!"}},{"$f":"#REF!","v":{"$error":"#REF!"}},{"$f":"#REF!","v":{"$error":"#REF!"}},{"$f":"#REF!","v":{"$error":"#REF!"}},{"$f":"#REF!","v":{"$error":"#REF!"}},{"$f":"#REF!","v":{"$error":"#REF!"}},{"$f":"#REF!","v":{"$error":"#REF!"}},{"$f":"#REF!","v":{"$error":"#REF!"}},{"$f":"#REF!","v":{"$error":"#REF!"}}]
[{"$f":"#REF!","v":{"$error":"#REF!"}},{"$f":"#REF!","v":{"$error":"#REF!"}},{"$f":"#REF!","v":{"$error":"#REF!"}},{"$f":"#REF!","v":{"$error":"#REF!"}},{"$f":"#REF!","v":{"$error":"#REF!"}},{"$f":"#REF!","v":{"$error":"#REF!"}},{"$f":"#REF!","v":{"$error":"#REF!"}},{"$f":"#REF!","v":{"$error":"#REF!"}},{"$f":"#REF!","v":{"$error":"#REF!"}},{"$f":"#REF!","v":{"$error":"#REF!"}},{"$f":"#REF!","v":{"$error":"#REF!"}},{"$f":"#REF!","v":{"$error":"#REF!"}},{"$f":"#REF!","v":{"$error":"#REF!"}},{"$f":"#REF!","v":{"$error":"#REF!"}},{"$f":"#REF!","v":{"$error":"#REF!"}},{"$f":"#REF!","v":{"$error":"#REF!"}},{"$f":"#REF!","v":{"$error":"#REF!"}}]
[{"$f":"#REF!","v":{"$error":"#REF!"}},{"$f":"#REF!","v":{"$error":"#REF!"}},{"$f":"#REF!","v":{"$error":"#REF!"}},{"$f":"#REF!","v":{"$error":"#REF!"}},{"$f":"#REF!","v":{"$error":"#REF!"}},{"$f":"#REF!","v":{"$error":"#REF!"}},{"$f":"#REF!","v":{"$error":"#REF!"}},{"$f":"#REF!","v":{"$error":"#REF!"}},{"$f":"#REF!","v":{"$error":"#REF!"}},{"$f":"#REF!","v":{"$error":"#REF!"}},{"$f":"#REF!","v":{"$error":"#REF!"}},{"$f":"#REF!","v":{"$error":"#REF!"}},{"$f":"#REF!","v":{"$error":"#REF!"}},{"$f":"#REF!","v":{"$error":"#REF!"}},{"$f":"#REF!","v":{"$error":"#REF!"}},{"$f":"#REF!","v":{"$error":"#REF!"}},{"$f":"#REF!","v":{"$error":"#REF!"}}]
[{"$f":"#REF!","v":{"$error":"#REF!"}},{"$f":"#REF!","v":{"$error":"#REF!"}},{"$f":"#REF!","v":{"$error":"#REF!"}},{"$f":"#REF!","v":{"$error":"#REF!"}},{"$f":"#REF!","v":{"$error":"#REF!"}},{"$f":"#REF!","v":{"$error":"#REF!"}},{"$f":"#REF!","v":{"$error":"#REF!"}},{"$f":"#REF!","v":{"$error":"#REF!"}},{"$f":"#REF!","v":{"$error":"#REF!"}},{"$f":"#REF!","v":{"$error":"#REF!"}},{"$f":"#REF!","v":{"$error":"#REF!"}},{"$f":"#REF!","v":{"$error":"#REF!"}},{"$f":"#REF!","v":{"$error":"#REF!"}},{"$f":"#REF!","v":{"$error":"#REF!"}},{"$f":"#REF!","v":{"$error":"#REF!"}},{"$f":"#REF!","v":{"$error":"#REF!"}},{"$f":"#REF!","v":{"$error":"#REF!"}}]
[{"$f":"#REF!","v":{"$error":"#REF!"}},{"$f":"#REF!","v":{"$error":"#REF!"}},{"$f":"#REF!","v":{"$error":"#REF!"}},{"$f":"#REF!","v":{"$error":"#REF!"}},{"$f":"#REF!","v":{"$error":"#REF!"}},{"$f":"#REF!","v":{"$error":"#REF!"}},{"$f":"#REF!","v":{"$error":"#REF!"}},{"$f":"#REF!","v":{"$error":"#REF!"}},{"$f":"#REF!","v":{"$error":"#REF!"}},{"$f":"#REF!","v":{"$error":"#REF!"}},{"$f":"#REF!","v":{"$error":"#REF!"}},{"$f":"#REF!","v":{"$error":"#REF!"}},{"$f":"#REF!","v":{"$error":"#REF!"}},{"$f":"#REF!","v":{"$error":"#REF!"}},{"$f":"#REF!","v":{"$error":"#REF!"}},{"$f":"#REF!","v":{"$error":"#REF!"}},{"$f":"#REF!","v":{"$error":"#REF!"}}]
[{"$f":"#REF!","v":{"$error":"#REF!"}},{"$f":"#REF!","v":{"$error":"#REF!"}},{"$f":"#REF!","v":{"$error":"#REF!"}},{"$f":"#REF!","v":{"$error":"#REF!"}},{"$f":"#REF!","v":{"$error":"#REF!"}},{"$f":"#REF!","v":{"$error":"#REF!"}},{"$f":"#REF!","v":{"$error":"#REF!"}},{"$f":"#REF!","v":{"$error":"#REF!"}},{"$f":"#REF!","v":{"$error":"#REF!"}},{"$f":"#REF!","v":{"$error":"#REF!"}},{"$f":"#REF!","v":{"$error":"#REF!"}},{"$f":"#REF!","v":{"$error":"#REF!"}},{"$f":"#REF!","v":{"$error":"#REF!"}},{"$f":"#REF!","v":{"$error":"#REF!"}},{"$f":"#REF!","v":{"$error":"#REF!"}},{"$f":"#REF!","v":{"$error":"#REF!"}},{"$f":"#REF!","v":{"$error":"#REF!"}}]
[{"$f":"#REF!","v":{"$error":"#REF!"}},{"$f":"#REF!","v":{"$error":"#REF!"}},{"$f":"#REF!","v":{"$error":"#REF!"}},{"$f":"#REF!","v":{"$error":"#REF!"}},{"$f":"#REF!","v":{"$error":"#REF!"}},{"$f":"#REF!","v":{"$error":"#REF!"}},{"$f":"#REF!","v":{"$error":"#REF!"}},{"$f":"#REF!","v":{"$error":"#REF!"}},{"$f":"#REF!","v":{"$error":"#REF!"}},{"$f":"#REF!","v":{"$error":"#REF!"}},{"$f":"#REF!","v":{"$error":"#REF!"}},{"$f":"#REF!","v":{"$error":"#REF!"}},{"$f":"#REF!","v":{"$error":"#REF!"}},{"$f":"#REF!","v":{"$error":"#REF!"}},{"$f":"#REF!","v":{"$error":"#REF!"}},{"$f":"#REF!","v":{"$error":"#REF!"}},{"$f":"#REF!","v":{"$error":"#REF!"}}]
[{"$f":"#REF!","v":{"$error":"#REF!"}},{"$f":"#REF!","v":{"$error":"#REF!"}},{"$f":"#REF!","v":{"$error":"#REF!"}},{"$f":"#REF!","v":{"$error":"#REF!"}},{"$f":"#REF!","v":{"$error":"#REF!"}},{"$f":"#REF!","v":{"$error":"#REF!"}},{"$f":"#REF!","v":{"$error":"#REF!"}},{"$f":"#REF!","v":{"$error":"#REF!"}},{"$f":"#REF!","v":{"$error":"#REF!"}},{"$f":"#REF!","v":{"$error":"#REF!"}},{"$f":"#REF!","v":{"$error":"#REF!"}},{"$f":"#REF!","v":{"$error":"#REF!"}},{"$f":"#REF!","v":{"$error":"#REF!"}},{"$f":"#REF!","v":{"$error":"#REF!"}},{"$f":"#REF!","v":{"$error":"#REF!"}},{"$f":"#REF!","v":{"$error":"#REF!"}},{"$f":"#REF!","v":{"$error":"#REF!"}}]
[{"$f":"#REF!","v":{"$error":"#REF!"}},{"$f":"#REF!","v":{"$error":"#REF!"}},{"$f":"#REF!","v":{"$error":"#REF!"}},{"$f":"#REF!","v":{"$error":"#REF!"}},{"$f":"#REF!","v":{"$error":"#REF!"}},{"$f":"#REF!","v":{"$error":"#REF!"}},{"$f":"#REF!","v":{"$error":"#REF!"}},{"$f":"#REF!","v":{"$error":"#REF!"}},{"$f":"#REF!","v":{"$error":"#REF!"}},{"$f":"#REF!","v":{"$error":"#REF!"}},{"$f":"#REF!","v":{"$error":"#REF!"}},{"$f":"#REF!","v":{"$error":"#REF!"}},{"$f":"#REF!","v":{"$error":"#REF!"}},{"$f":"#REF!","v":{"$error":"#REF!"}},{"$f":"#REF!","v":{"$error":"#REF!"}},{"$f":"#REF!","v":{"$error":"#REF!"}},{"$f":"#REF!","v":{"$error":"#REF!"}}]
[{"$f":"#REF!","v":{"$error":"#REF!"}},{"$f":"#REF!","v":{"$error":"#REF!"}},{"$f":"#REF!","v":{"$error":"#REF!"}},{"$f":"#REF!","v":{"$error":"#REF!"}},{"$f":"#REF!","v":{"$error":"#REF!"}},{"$f":"#REF!","v":{"$error":"#REF!"}},{"$f":"#REF!","v":{"$error":"#REF!"}},{"$f":"#REF!","v":{"$error":"#REF!"}},{"$f":"#REF!","v":{"$error":"#REF!"}},{"$f":"#REF!","v":{"$error":"#REF!"}},{"$f":"#REF!","v":{"$error":"#REF!"}},{"$f":"#REF!","v":{"$error":"#REF!"}},{"$f":"#REF!","v":{"$error":"#REF!"}},{"$f":"#REF!","v":{"$error":"#REF!"}},{"$f":"#REF!","v":{"$error":"#REF!"}},{"$f":"#REF!","v":{"$error":"#REF!"}},{"$f":"#REF!","v":{"$error":"#REF!"}}]
[{"$f":"#REF!","v":{"$error":"#REF!"}},{"$f":"#REF!","v":{"$error":"#REF!"}},{"$f":"#REF!","v":{"$error":"#REF!"}},{"$f":"#REF!","v":{"$error":"#REF!"}},{"$f":"#REF!","v":{"$error":"#REF!"}},{"$f":"#REF!","v":{"$error":"#REF!"}},{"$f":"#REF!","v":{"$error":"#REF!"}},{"$f":"#REF!","v":{"$error":"#REF!"}},{"$f":"#REF!","v":{"$error":"#REF!"}},{"$f":"#REF!","v":{"$error":"#REF!"}},{"$f":"#REF!","v":{"$error":"#REF!"}},{"$f":"#REF!","v":{"$error":"#REF!"}},{"$f":"#REF!","v":{"$error":"#REF!"}},{"$f":"#REF!","v":{"$error":"#REF!"}},{"$f":"#REF!","v":{"$error":"#REF!"}},{"$f":"#REF!","v":{"$error":"#REF!"}},{"$f":"#REF!","v":{"$error":"#REF!"}}]
[{"$f":"#REF!","v":{"$error":"#REF!"}},{"$f":"#REF!","v":{"$error":"#REF!"}},{"$f":"#REF!","v":{"$error":"#REF!"}},{"$f":"#REF!","v":{"$error":"#REF!"}},{"$f":"#REF!","v":{"$error":"#REF!"}},{"$f":"#REF!","v":{"$error":"#REF!"}},{"$f":"#REF!","v":{"$error":"#REF!"}},{"$f":"#REF!","v":{"$error":"#REF!"}},{"$f":"#REF!","v":{"$error":"#REF!"}},{"$f":"#REF!","v":{"$error":"#REF!"}},{"$f":"#REF!","v":{"$error":"#REF!"}},{"$f":"#REF!","v":{"$error":"#REF!"}},{"$f":"#REF!","v":{"$error":"#REF!"}},{"$f":"#REF!","v":{"$error":"#REF!"}},{"$f":"#REF!","v":{"$error":"#REF!"}},{"$f":"#REF!","v":{"$error":"#REF!"}},{"$f":"#REF!","v":{"$error":"#REF!"}}]
[{"$f":"#REF!","v":{"$error":"#REF!"}},{"$f":"#REF!","v":{"$error":"#REF!"}},{"$f":"#REF!","v":{"$error":"#REF!"}},{"$f":"#REF!","v":{"$error":"#REF!"}},{"$f":"#REF!","v":{"$error":"#REF!"}},{"$f":"#REF!","v":{"$error":"#REF!"}},{"$f":"#REF!","v":{"$error":"#REF!"}},{"$f":"#REF!","v":{"$error":"#REF!"}},{"$f":"#REF!","v":{"$error":"#REF!"}},{"$f":"#REF!","v":{"$error":"#REF!"}},{"$f":"#REF!","v":{"$error":"#REF!"}},{"$f":"#REF!","v":{"$error":"#REF!"}},{"$f":"#REF!","v":{"$error":"#REF!"}},{"$f":"#REF!","v":{"$error":"#REF!"}},{"$f":"#REF!","v":{"$error":"#REF!"}},{"$f":"#REF!","v":{"$error":"#REF!"}},{"$f":"#REF!","v":{"$error":"#REF!"}}]
[{"$f":"#REF!","v":{"$error":"#REF!"}},{"$f":"#REF!","v":{"$error":"#REF!"}},{"$f":"#REF!","v":{"$error":"#REF!"}},{"$f":"#REF!","v":{"$error":"#REF!"}},{"$f":"#REF!","v":{"$error":"#REF!"}},{"$f":"#REF!","v":{"$error":"#REF!"}},{"$f":"#REF!","v":{"$error":"#REF!"}},{"$f":"#REF!","v":{"$error":"#REF!"}},{"$f":"#REF!","v":{"$error":"#REF!"}},{"$f":"#REF!","v":{"$error":"#REF!"}},{"$f":"#REF!","v":{"$error":"#REF!"}},{"$f":"#REF!","v":{"$error":"#REF!"}},{"$f":"#REF!","v":{"$error":"#REF!"}},{"$f":"#REF!","v":{"$error":"#REF!"}},{"$f":"#REF!","v":{"$error":"#REF!"}},{"$f":"#REF!","v":{"$error":"#REF!"}},{"$f":"#REF!","v":{"$error":"#REF!"}}]
[{"$f":"#REF!","v":{"$error":"#REF!"}},{"$f":"#REF!","v":{"$error":"#REF!"}},{"$f":"#REF!","v":{"$error":"#REF!"}},{"$f":"#REF!","v":{"$error":"#REF!"}},{"$f":"#REF!","v":{"$error":"#REF!"}},{"$f":"#REF!","v":{"$error":"#REF!"}},{"$f":"#REF!","v":{"$error":"#REF!"}},{"$f":"#REF!","v":{"$error":"#REF!"}},{"$f":"#REF!","v":{"$error":"#REF!"}},{"$f":"#REF!","v":{"$error":"#REF!"}},{"$f":"#REF!","v":{"$error":"#REF!"}},{"$f":"#REF!","v":{"$error":"#REF!"}},{"$f":"#REF!","v":{"$error":"#REF!"}},{"$f":"#REF!","v":{"$error":"#REF!"}},{"$f":"#REF!","v":{"$error":"#REF!"}},{"$f":"#REF!","v":{"$error":"#REF!"}},{"$f":"#REF!","v":{"$error":"#REF!"}}]
[{"$f":"#REF!","v":{"$error":"#REF!"}},{"$f":"#REF!","v":{"$error":"#REF!"}},{"$f":"#REF!","v":{"$error":"#REF!"}},{"$f":"#REF!","v":{"$error":"#REF!"}},{"$f":"#REF!","v":{"$error":"#REF!"}},{"$f":"#REF!","v":{"$error":"#REF!"}},{"$f":"#REF!","v":{"$error":"#REF!"}},{"$f":"#REF!","v":{"$error":"#REF!"}},{"$f":"#REF!","v":{"$error":"#REF!"}},{"$f":"#REF!","v":{"$error":"#REF!"}},{"$f":"#REF!","v":{"$error":"#REF!"}},{"$f":"#REF!","v":{"$error":"#REF!"}},{"$f":"#REF!","v":{"$error":"#REF!"}},{"$f":"#REF!","v":{"$error":"#REF!"}},{"$f":"#REF!","v":{"$error":"#REF!"}},{"$f":"#REF!","v":{"$error":"#REF!"}},{"$f":"#REF!","v":{"$error":"#REF!"}}]
[{"$f":"#REF!","v":{"$error":"#REF!"}},{"$f":"#REF!","v":{"$error":"#REF!"}},{"$f":"#REF!","v":{"$error":"#REF!"}},{"$f":"#REF!","v":{"$error":"#REF!"}},{"$f":"#REF!","v":{"$error":"#REF!"}},{"$f":"#REF!","v":{"$error":"#REF!"}},{"$f":"#REF!","v":{"$error":"#REF!"}},{"$f":"#REF!","v":{"$error":"#REF!"}},{"$f":"#REF!","v":{"$error":"#REF!"}},{"$f":"#REF!","v":{"$error":"#REF!"}},{"$f":"#REF!","v":{"$error":"#REF!"}},{"$f":"#REF!","v":{"$error":"#REF!"}},{"$f":"#REF!","v":{"$error":"#REF!"}},{"$f":"#REF!","v":{"$error":"#REF!"}},{"$f":"#REF!","v":{"$error":"#REF!"}},{"$f":"#REF!","v":{"$error":"#REF!"}},{"$f":"#REF!","v":{"$error":"#REF!"}}]
[{"$f":"#REF!","v":{"$error":"#REF!"}},{"$f":"#REF!","v":{"$error":"#REF!"}},{"$f":"#REF!","v":{"$error":"#REF!"}},{"$f":"#REF!","v":{"$error":"#REF!"}},{"$f":"#REF!","v":{"$error":"#REF!"}},{"$f":"#REF!","v":{"$error":"#REF!"}},{"$f":"#REF!","v":{"$error":"#REF!"}},{"$f":"#REF!","v":{"$error":"#REF!"}},{"$f":"#REF!","v":{"$error":"#REF!"}},{"$f":"#REF!","v":{"$error":"#REF!"}},{"$f":"#REF!","v":{"$error":"#REF!"}},{"$f":"#REF!","v":{"$error":"#REF!"}},{"$f":"#REF!","v":{"$error":"#REF!"}},{"$f":"#REF!","v":{"$error":"#REF!"}},{"$f":"#REF!","v":{"$error":"#REF!"}},{"$f":"#REF!","v":{"$error":"#REF!"}},{"$f":"#REF!","v":{"$error":"#REF!"}}]
[{"$f":"#REF!","v":{"$error":"#REF!"}},{"$f":"#REF!","v":{"$error":"#REF!"}},{"$f":"#REF!","v":{"$error":"#REF!"}},{"$f":"#REF!","v":{"$error":"#REF!"}},{"$f":"#REF!","v":{"$error":"#REF!"}},{"$f":"#REF!","v":{"$error":"#REF!"}},{"$f":"#REF!","v":{"$error":"#REF!"}},{"$f":"#REF!","v":{"$error":"#REF!"}},{"$f":"#REF!","v":{"$error":"#REF!"}},{"$f":"#REF!","v":{"$error":"#REF!"}},{"$f":"#REF!","v":{"$error":"#REF!"}},{"$f":"#REF!","v":{"$error":"#REF!"}},{"$f":"#REF!","v":{"$error":"#REF!"}},{"$f":"#REF!","v":{"$error":"#REF!"}},{"$f":"#REF!","v":{"$error":"#REF!"}},{"$f":"#REF!","v":{"$error":"#REF!"}},{"$f":"#REF!","v":{"$error":"#REF!"}}]
[{"$f":"#REF!","v":{"$error":"#REF!"}},{"$f":"#REF!","v":{"$error":"#REF!"}},{"$f":"#REF!","v":{"$error":"#REF!"}},{"$f":"#REF!","v":{"$error":"#REF!"}},{"$f":"#REF!","v":{"$error":"#REF!"}},{"$f":"#REF!","v":{"$error":"#REF!"}},{"$f":"#REF!","v":{"$error":"#REF!"}},{"$f":"#REF!","v":{"$error":"#REF!"}},{"$f":"#REF!","v":{"$error":"#REF!"}},{"$f":"#REF!","v":{"$error":"#REF!"}},{"$f":"#REF!","v":{"$error":"#REF!"}},{"$f":"#REF!","v":{"$error":"#REF!"}},{"$f":"#REF!","v":{"$error":"#REF!"}},{"$f":"#REF!","v":{"$error":"#REF!"}},{"$f":"#REF!","v":{"$error":"#REF!"}},{"$f":"#REF!","v":{"$error":"#REF!"}},{"$f":"#REF!","v":{"$error":"#REF!"}}]
[{"$f":"#REF!","v":{"$error":"#REF!"}},{"$f":"#REF!","v":{"$error":"#REF!"}},{"$f":"#REF!","v":{"$error":"#REF!"}},{"$f":"#REF!","v":{"$error":"#REF!"}},{"$f":"#REF!","v":{"$error":"#REF!"}},{"$f":"#REF!","v":{"$error":"#REF!"}},{"$f":"#REF!","v":{"$error":"#REF!"}},{"$f":"#REF!","v":{"$error":"#REF!"}},{"$f":"#REF!","v":{"$error":"#REF!"}},{"$f":"#REF!","v":{"$error":"#REF!"}},{"$f":"#REF!","v":{"$error":"#REF!"}},{"$f":"#REF!","v":{"$error":"#REF!"}},{"$f":"#REF!","v":{"$error":"#REF!"}},{"$f":"#REF!","v":{"$error":"#REF!"}},{"$f":"#REF!","v":{"$error":"#REF!"}},{"$f":"#REF!","v":{"$error":"#REF!"}},{"$f":"#REF!","v":{"$error":"#REF!"}}]
[{"$f":"#REF!","v":{"$error":"#REF!"}},{"$f":"#REF!","v":{"$error":"#REF!"}},{"$f":"#REF!","v":{"$error":"#REF!"}},{"$f":"#REF!","v":{"$error":"#REF!"}},{"$f":"#REF!","v":{"$error":"#REF!"}},{"$f":"#REF!","v":{"$error":"#REF!"}},{"$f":"#REF!","v":{"$error":"#REF!"}},{"$f":"#REF!","v":{"$error":"#REF!"}},{"$f":"#REF!","v":{"$error":"#REF!"}},{"$f":"#REF!","v":{"$error":"#REF!"}},{"$f":"#REF!","v":{"$error":"#REF!"}},{"$f":"#REF!","v":{"$error":"#REF!"}},{"$f":"#REF!","v":{"$error":"#REF!"}},{"$f":"#REF!","v":{"$error":"#REF!"}},{"$f":"#REF!","v":{"$error":"#REF!"}},{"$f":"#REF!","v":{"$error":"#REF!"}},{"$f":"#REF!","v":{"$error":"#REF!"}}]
[{"$f":"#REF!","v":{"$error":"#REF!"}},{"$f":"#REF!","v":{"$error":"#REF!"}},{"$f":"#REF!","v":{"$error":"#REF!"}},{"$f":"#REF!","v":{"$error":"#REF!"}},{"$f":"#REF!","v":{"$error":"#REF!"}},{"$f":"#REF!","v":{"$error":"#REF!"}},{"$f":"#REF!","v":{"$error":"#REF!"}},{"$f":"#REF!","v":{"$error":"#REF!"}},{"$f":"#REF!","v":{"$error":"#REF!"}},{"$f":"#REF!","v":{"$error":"#REF!"}},{"$f":"#REF!","v":{"$error":"#REF!"}},{"$f":"#REF!","v":{"$error":"#REF!"}},{"$f":"#REF!","v":{"$error":"#REF!"}},{"$f":"#REF!","v":{"$error":"#REF!"}},{"$f":"#REF!","v":{"$error":"#REF!"}},{"$f":"#REF!","v":{"$error":"#REF!"}},{"$f":"#REF!","v":{"$error":"#REF!"}}]
[{"$f":"#REF!","v":{"$error":"#REF!"}},{"$f":"#REF!","v":{"$error":"#REF!"}},{"$f":"#REF!","v":{"$error":"#REF!"}},{"$f":"#REF!","v":{"$error":"#REF!"}},{"$f":"#REF!","v":{"$error":"#REF!"}},{"$f":"#REF!","v":{"$error":"#REF!"}},{"$f":"#REF!","v":{"$error":"#REF!"}},{"$f":"#REF!","v":{"$error":"#REF!"}},{"$f":"#REF!","v":{"$error":"#REF!"}},{"$f":"#REF!","v":{"$error":"#REF!"}},{"$f":"#REF!","v":{"$error":"#REF!"}},{"$f":"#REF!","v":{"$error":"#REF!"}},{"$f":"#REF!","v":{"$error":"#REF!"}},{"$f":"#REF!","v":{"$error":"#REF!"}},{"$f":"#REF!","v":{"$error":"#REF!"}},{"$f":"#REF!","v":{"$error":"#REF!"}},{"$f":"#REF!","v":{"$error":"#REF!"}}]
[{"$f":"#REF!","v":{"$error":"#REF!"}},{"$f":"#REF!","v":{"$error":"#REF!"}},{"$f":"#REF!","v":{"$error":"#REF!"}},{"$f":"#REF!","v":{"$error":"#REF!"}},{"$f":"#REF!","v":{"$error":"#REF!"}},{"$f":"#REF!","v":{"$error":"#REF!"}},{"$f":"#REF!","v":{"$error":"#REF!"}},{"$f":"#REF!","v":{"$error":"#REF!"}},{"$f":"#REF!","v":{"$error":"#REF!"}},{"$f":"#REF!","v":{"$error":"#REF!"}},{"$f":"#REF!","v":{"$error":"#REF!"}},{"$f":"#REF!","v":{"$error":"#REF!"}},{"$f":"#REF!","v":{"$error":"#REF!"}},{"$f":"#REF!","v":{"$error":"#REF!"}},{"$f":"#REF!","v":{"$error":"#REF!"}},{"$f":"#REF!","v":{"$error":"#REF!"}},{"$f":"#REF!","v":{"$error":"#REF!"}}]
[{"$f":"#REF!","v":{"$error":"#REF!"}},{"$f":"#REF!","v":{"$error":"#REF!"}},{"$f":"#REF!","v":{"$error":"#REF!"}},{"$f":"#REF!","v":{"$error":"#REF!"}},{"$f":"#REF!","v":{"$error":"#REF!"}},{"$f":"#REF!","v":{"$error":"#REF!"}},{"$f":"#REF!","v":{"$error":"#REF!"}},{"$f":"#REF!","v":{"$error":"#REF!"}},{"$f":"#REF!","v":{"$error":"#REF!"}},{"$f":"#REF!","v":{"$error":"#REF!"}},{"$f":"#REF!","v":{"$error":"#REF!"}},{"$f":"#REF!","v":{"$error":"#REF!"}},{"$f":"#REF!","v":{"$error":"#REF!"}},{"$f":"#REF!","v":{"$error":"#REF!"}},{"$f":"#REF!","v":{"$error":"#REF!"}},{"$f":"#REF!","v":{"$error":"#REF!"}},{"$f":"#REF!","v":{"$error":"#REF!"}}]
[{"$f":"#REF!","v":{"$error":"#REF!"}},{"$f":"#REF!","v":{"$error":"#REF!"}},{"$f":"#REF!","v":{"$error":"#REF!"}},{"$f":"#REF!","v":{"$error":"#REF!"}},{"$f":"#REF!","v":{"$error":"#REF!"}},{"$f":"#REF!","v":{"$error":"#REF!"}},{"$f":"#REF!","v":{"$error":"#REF!"}},{"$f":"#REF!","v":{"$error":"#REF!"}},{"$f":"#REF!","v":{"$error":"#REF!"}},{"$f":"#REF!","v":{"$error":"#REF!"}},{"$f":"#REF!","v":{"$error":"#REF!"}},{"$f":"#REF!","v":{"$error":"#REF!"}},{"$f":"#REF!","v":{"$error":"#REF!"}},{"$f":"#REF!","v":{"$error":"#REF!"}},{"$f":"#REF!","v":{"$error":"#REF!"}},{"$f":"#REF!","v":{"$error":"#REF!"}},{"$f":"#REF!","v":{"$error":"#REF!"}}]
[{"$f":"#REF!","v":{"$error":"#REF!"}},{"$f":"#REF!","v":{"$error":"#REF!"}},{"$f":"#REF!","v":{"$error":"#REF!"}},{"$f":"#REF!","v":{"$error":"#REF!"}},{"$f":"#REF!","v":{"$error":"#REF!"}},{"$f":"#REF!","v":{"$error":"#REF!"}},{"$f":"#REF!","v":{"$error":"#REF!"}},{"$f":"#REF!","v":{"$error":"#REF!"}},{"$f":"#REF!","v":{"$error":"#REF!"}},{"$f":"#REF!","v":{"$error":"#REF!"}},{"$f":"#REF!","v":{"$error":"#REF!"}},{"$f":"#REF!","v":{"$error":"#REF!"}},{"$f":"#REF!","v":{"$error":"#REF!"}},{"$f":"#REF!","v":{"$error":"#REF!"}},{"$f":"#REF!","v":{"$error":"#REF!"}},{"$f":"#REF!","v":{"$error":"#REF!"}},{"$f":"#REF!","v":{"$error":"#REF!"}}]
[{"$f":"#REF!","v":{"$error":"#REF!"}},{"$f":"#REF!","v":{"$error":"#REF!"}},{"$f":"#REF!","v":{"$error":"#REF!"}},{"$f":"#REF!","v":{"$error":"#REF!"}},{"$f":"#REF!","v":{"$error":"#REF!"}},{"$f":"#REF!","v":{"$error":"#REF!"}},{"$f":"#REF!","v":{"$error":"#REF!"}},{"$f":"#REF!","v":{"$error":"#REF!"}},{"$f":"#REF!","v":{"$error":"#REF!"}},{"$f":"#REF!","v":{"$error":"#REF!"}},{"$f":"#REF!","v":{"$error":"#REF!"}},{"$f":"#REF!","v":{"$error":"#REF!"}},{"$f":"#REF!","v":{"$error":"#REF!"}},{"$f":"#REF!","v":{"$error":"#REF!"}},{"$f":"#REF!","v":{"$error":"#REF!"}},{"$f":"#REF!","v":{"$error":"#REF!"}},{"$f":"#REF!","v":{"$error":"#REF!"}}]
[{"$f":"#REF!","v":{"$error":"#REF!"}},{"$f":"#REF!","v":{"$error":"#REF!"}},{"$f":"#REF!","v":{"$error":"#REF!"}},{"$f":"#REF!","v":{"$error":"#REF!"}},{"$f":"#REF!","v":{"$error":"#REF!"}},{"$f":"#REF!","v":{"$error":"#REF!"}},{"$f":"#REF!","v":{"$error":"#REF!"}},{"$f":"#REF!","v":{"$error":"#REF!"}},{"$f":"#REF!","v":{"$error":"#REF!"}},{"$f":"#REF!","v":{"$error":"#REF!"}},{"$f":"#REF!","v":{"$error":"#REF!"}},{"$f":"#REF!","v":{"$error":"#REF!"}},{"$f":"#REF!","v":{"$error":"#REF!"}},{"$f":"#REF!","v":{"$error":"#REF!"}},{"$f":"#REF!","v":{"$error":"#REF!"}},{"$f":"#REF!","v":{"$error":"#REF!"}},{"$f":"#REF!","v":{"$error":"#REF!"}}]
[{"$f":"#REF!","v":{"$error":"#REF!"}},{"$f":"#REF!","v":{"$error":"#REF!"}},{"$f":"#REF!","v":{"$error":"#REF!"}},{"$f":"#REF!","v":{"$error":"#REF!"}},{"$f":"#REF!","v":{"$error":"#REF!"}},{"$f":"#REF!","v":{"$error":"#REF!"}},{"$f":"#REF!","v":{"$error":"#REF!"}},{"$f":"#REF!","v":{"$error":"#REF!"}},{"$f":"#REF!","v":{"$error":"#REF!"}},{"$f":"#REF!","v":{"$error":"#REF!"}},{"$f":"#REF!","v":{"$error":"#REF!"}},{"$f":"#REF!","v":{"$error":"#REF!"}},{"$f":"#REF!","v":{"$error":"#REF!"}},{"$f":"#REF!","v":{"$error":"#REF!"}},{"$f":"#REF!","v":{"$error":"#REF!"}},{"$f":"#REF!","v":{"$error":"#REF!"}},{"$f":"#REF!","v":{"$error":"#REF!"}}]
[{"$f":"#REF!","v":{"$error":"#REF!"}},{"$f":"#REF!","v":{"$error":"#REF!"}},{"$f":"#REF!","v":{"$error":"#REF!"}},{"$f":"#REF!","v":{"$error":"#REF!"}},{"$f":"#REF!","v":{"$error":"#REF!"}},{"$f":"#REF!","v":{"$error":"#REF!"}},{"$f":"#REF!","v":{"$error":"#REF!"}},{"$f":"#REF!","v":{"$error":"#REF!"}},{"$f":"#REF!","v":{"$error":"#REF!"}},{"$f":"#REF!","v":{"$error":"#REF!"}},{"$f":"#REF!","v":{"$error":"#REF!"}},{"$f":"#REF!","v":{"$error":"#REF!"}},{"$f":"#REF!","v":{"$error":"#REF!"}},{"$f":"#REF!","v":{"$error":"#REF!"}},{"$f":"#REF!","v":{"$error":"#REF!"}},{"$f":"#REF!","v":{"$error":"#REF!"}},{"$f":"#REF!","v":{"$error":"#REF!"}}]
[{"$f":"#REF!","v":{"$error":"#REF!"}},{"$f":"#REF!","v":{"$error":"#REF!"}},{"$f":"#REF!","v":{"$error":"#REF!"}},{"$f":"#REF!","v":{"$error":"#REF!"}},{"$f":"#REF!","v":{"$error":"#REF!"}},{"$f":"#REF!","v":{"$error":"#REF!"}},{"$f":"#REF!","v":{"$error":"#REF!"}},{"$f":"#REF!","v":{"$error":"#REF!"}},{"$f":"#REF!","v":{"$error":"#REF!"}},{"$f":"#REF!","v":{"$error":"#REF!"}},{"$f":"#REF!","v":{"$error":"#REF!"}},{"$f":"#REF!","v":{"$error":"#REF!"}},{"$f":"#REF!","v":{"$error":"#REF!"}},{"$f":"#REF!","v":{"$error":"#REF!"}},{"$f":"#REF!","v":{"$error":"#REF!"}},{"$f":"#REF!","v":{"$error":"#REF!"}},{"$f":"#REF!","v":{"$error":"#REF!"}}]
[{"$f":"#REF!","v":{"$error":"#REF!"}},{"$f":"#REF!","v":{"$error":"#REF!"}},{"$f":"#REF!","v":{"$error":"#REF!"}},{"$f":"#REF!","v":{"$error":"#REF!"}},{"$f":"#REF!","v":{"$error":"#REF!"}},{"$f":"#REF!","v":{"$error":"#REF!"}},{"$f":"#REF!","v":{"$error":"#REF!"}},{"$f":"#REF!","v":{"$error":"#REF!"}},{"$f":"#REF!","v":{"$error":"#REF!"}},{"$f":"#REF!","v":{"$error":"#REF!"}},{"$f":"#REF!","v":{"$error":"#REF!"}},{"$f":"#REF!","v":{"$error":"#REF!"}},{"$f":"#REF!","v":{"$error":"#REF!"}},{"$f":"#REF!","v":{"$error":"#REF!"}},{"$f":"#REF!","v":{"$error":"#REF!"}},{"$f":"#REF!","v":{"$error":"#REF!"}},{"$f":"#REF!","v":{"$error":"#REF!"}}]
[{"$f":"#REF!","v":{"$error":"#REF!"}},{"$f":"#REF!","v":{"$error":"#REF!"}},{"$f":"#REF!","v":{"$error":"#REF!"}},{"$f":"#REF!","v":{"$error":"#REF!"}},{"$f":"#REF!","v":{"$error":"#REF!"}},{"$f":"#REF!","v":{"$error":"#REF!"}},{"$f":"#REF!","v":{"$error":"#REF!"}},{"$f":"#REF!","v":{"$error":"#REF!"}},{"$f":"#REF!","v":{"$error":"#REF!"}},{"$f":"#REF!","v":{"$error":"#REF!"}},{"$f":"#REF!","v":{"$error":"#REF!"}},{"$f":"#REF!","v":{"$error":"#REF!"}},{"$f":"#REF!","v":{"$error":"#REF!"}},{"$f":"#REF!","v":{"$error":"#REF!"}},{"$f":"#REF!","v":{"$error":"#REF!"}},{"$f":"#REF!","v":{"$error":"#REF!"}},{"$f":"#REF!","v":{"$error":"#REF!"}}]
[{"$f":"#REF!","v":{"$error":"#REF!"}},{"$f":"#REF!","v":{"$error":"#REF!"}},{"$f":"#REF!","v":{"$error":"#REF!"}},{"$f":"#REF!","v":{"$error":"#REF!"}},{"$f":"#REF!","v":{"$error":"#REF!"}},{"$f":"#REF!","v":{"$error":"#REF!"}},{"$f":"#REF!","v":{"$error":"#REF!"}},{"$f":"#REF!","v":{"$error":"#REF!"}},{"$f":"#REF!","v":{"$error":"#REF!"}},{"$f":"#REF!","v":{"$error":"#REF!"}},{"$f":"#REF!","v":{"$error":"#REF!"}},{"$f":"#REF!","v":{"$error":"#REF!"}},{"$f":"#REF!","v":{"$error":"#REF!"}},{"$f":"#REF!","v":{"$error":"#REF!"}},{"$f":"#REF!","v":{"$error":"#REF!"}},{"$f":"#REF!","v":{"$error":"#REF!"}},{"$f":"#REF!","v":{"$error":"#REF!"}}]
[{"$f":"#REF!","v":{"$error":"#REF!"}},{"$f":"#REF!","v":{"$error":"#REF!"}},{"$f":"#REF!","v":{"$error":"#REF!"}},{"$f":"#REF!","v":{"$error":"#REF!"}},{"$f":"#REF!","v":{"$error":"#REF!"}},{"$f":"#REF!","v":{"$error":"#REF!"}},{"$f":"#REF!","v":{"$error":"#REF!"}},{"$f":"#REF!","v":{"$error":"#REF!"}},{"$f":"#REF!","v":{"$error":"#REF!"}},{"$f":"#REF!","v":{"$error":"#REF!"}},{"$f":"#REF!","v":{"$error":"#REF!"}},{"$f":"#REF!","v":{"$error":"#REF!"}},{"$f":"#REF!","v":{"$error":"#REF!"}},{"$f":"#REF!","v":{"$error":"#REF!"}},{"$f":"#REF!","v":{"$error":"#REF!"}},{"$f":"#REF!","v":{"$error":"#REF!"}},{"$f":"#REF!","v":{"$error":"#REF!"}}]
[{"$f":"#REF!","v":{"$error":"#REF!"}},{"$f":"#REF!","v":{"$error":"#REF!"}},{"$f":"#REF!","v":{"$error":"#REF!"}},{"$f":"#REF!","v":{"$error":"#REF!"}},{"$f":"#REF!","v":{"$error":"#REF!"}},{"$f":"#REF!","v":{"$error":"#REF!"}},{"$f":"#REF!","v":{"$error":"#REF!"}},{"$f":"#REF!","v":{"$error":"#REF!"}},{"$f":"#REF!","v":{"$error":"#REF!"}},{"$f":"#REF!","v":{"$error":"#REF!"}},{"$f":"#REF!","v":{"$error":"#REF!"}},{"$f":"#REF!","v":{"$error":"#REF!"}},{"$f":"#REF!","v":{"$error":"#REF!"}},{"$f":"#REF!","v":{"$error":"#REF!"}},{"$f":"#REF!","v":{"$error":"#REF!"}},{"$f":"#REF!","v":{"$error":"#REF!"}},{"$f":"#REF!","v":{"$error":"#REF!"}}]
[{"$f":"#REF!","v":{"$error":"#REF!"}},{"$f":"#REF!","v":{"$error":"#REF!"}},{"$f":"#REF!","v":{"$error":"#REF!"}},{"$f":"#REF!","v":{"$error":"#REF!"}},{"$f":"#REF!","v":{"$error":"#REF!"}},{"$f":"#REF!","v":{"$error":"#REF!"}},{"$f":"#REF!","v":{"$error":"#REF!"}},{"$f":"#REF!","v":{"$error":"#REF!"}},{"$f":"#REF!","v":{"$error":"#REF!"}},{"$f":"#REF!","v":{"$error":"#REF!"}},{"$f":"#REF!","v":{"$error":"#REF!"}},{"$f":"#REF!","v":{"$error":"#REF!"}},{"$f":"#REF!","v":{"$error":"#REF!"}},{"$f":"#REF!","v":{"$error":"#REF!"}},{"$f":"#REF!","v":{"$error":"#REF!"}},{"$f":"#REF!","v":{"$error":"#REF!"}},{"$f":"#REF!","v":{"$error":"#REF!"}}]
[{"$f":"#REF!","v":{"$error":"#REF!"}},{"$f":"#REF!","v":{"$error":"#REF!"}},{"$f":"#REF!","v":{"$error":"#REF!"}},{"$f":"#REF!","v":{"$error":"#REF!"}},{"$f":"#REF!","v":{"$error":"#REF!"}},{"$f":"#REF!","v":{"$error":"#REF!"}},{"$f":"#REF!","v":{"$error":"#REF!"}},{"$f":"#REF!","v":{"$error":"#REF!"}},{"$f":"#REF!","v":{"$error":"#REF!"}},{"$f":"#REF!","v":{"$error":"#REF!"}},{"$f":"#REF!","v":{"$error":"#REF!"}},{"$f":"#REF!","v":{"$error":"#REF!"}},{"$f":"#REF!","v":{"$error":"#REF!"}},{"$f":"#REF!","v":{"$error":"#REF!"}},{"$f":"#REF!","v":{"$error":"#REF!"}},{"$f":"#REF!","v":{"$error":"#REF!"}},{"$f":"#REF!","v":{"$error":"#REF!"}}]
[{"$f":"#REF!","v":{"$error":"#REF!"}},{"$f":"#REF!","v":{"$error":"#REF!"}},{"$f":"#REF!","v":{"$error":"#REF!"}},{"$f":"#REF!","v":{"$error":"#REF!"}},{"$f":"#REF!","v":{"$error":"#REF!"}},{"$f":"#REF!","v":{"$error":"#REF!"}},{"$f":"#REF!","v":{"$error":"#REF!"}},{"$f":"#REF!","v":{"$error":"#REF!"}},{"$f":"#REF!","v":{"$error":"#REF!"}},{"$f":"#REF!","v":{"$error":"#REF!"}},{"$f":"#REF!","v":{"$error":"#REF!"}},{"$f":"#REF!","v":{"$error":"#REF!"}},{"$f":"#REF!","v":{"$error":"#REF!"}},{"$f":"#REF!","v":{"$error":"#REF!"}},{"$f":"#REF!","v":{"$error":"#REF!"}},{"$f":"#REF!","v":{"$error":"#REF!"}},{"$f":"#REF!","v":{"$error":"#REF!"}}]
[{"$f":"#REF!","v":{"$error":"#REF!"}},{"$f":"#REF!","v":{"$error":"#REF!"}},{"$f":"#REF!","v":{"$error":"#REF!"}},{"$f":"#REF!","v":{"$error":"#REF!"}},{"$f":"#REF!","v":{"$error":"#REF!"}},{"$f":"#REF!","v":{"$error":"#REF!"}},{"$f":"#REF!","v":{"$error":"#REF!"}},{"$f":"#REF!","v":{"$error":"#REF!"}},{"$f":"#REF!","v":{"$error":"#REF!"}},{"$f":"#REF!","v":{"$error":"#REF!"}},{"$f":"#REF!","v":{"$error":"#REF!"}},{"$f":"#REF!","v":{"$error":"#REF!"}},{"$f":"#REF!","v":{"$error":"#REF!"}},{"$f":"#REF!","v":{"$error":"#REF!"}},{"$f":"#REF!","v":{"$error":"#REF!"}},{"$f":"#REF!","v":{"$error":"#REF!"}},{"$f":"#REF!","v":{"$error":"#REF!"}}]
[{"$f":"#REF!","v":{"$error":"#REF!"}},{"$f":"#REF!","v":{"$error":"#REF!"}},{"$f":"#REF!","v":{"$error":"#REF!"}},{"$f":"#REF!","v":{"$error":"#REF!"}},{"$f":"#REF!","v":{"$error":"#REF!"}},{"$f":"#REF!","v":{"$error":"#REF!"}},{"$f":"#REF!","v":{"$error":"#REF!"}},{"$f":"#REF!","v":{"$error":"#REF!"}},{"$f":"#REF!","v":{"$error":"#REF!"}},{"$f":"#REF!","v":{"$error":"#REF!"}},{"$f":"#REF!","v":{"$error":"#REF!"}},{"$f":"#REF!","v":{"$error":"#REF!"}},{"$f":"#REF!","v":{"$error":"#REF!"}},{"$f":"#REF!","v":{"$error":"#REF!"}},{"$f":"#REF!","v":{"$error":"#REF!"}},{"$f":"#REF!","v":{"$error":"#REF!"}},{"$f":"#REF!","v":{"$error":"#REF!"}}]
[{"$f":"#REF!","v":{"$error":"#REF!"}},{"$f":"#REF!","v":{"$error":"#REF!"}},{"$f":"#REF!","v":{"$error":"#REF!"}},{"$f":"#REF!","v":{"$error":"#REF!"}},{"$f":"#REF!","v":{"$error":"#REF!"}},{"$f":"#REF!","v":{"$error":"#REF!"}},{"$f":"#REF!","v":{"$error":"#REF!"}},{"$f":"#REF!","v":{"$error":"#REF!"}},{"$f":"#REF!","v":{"$error":"#REF!"}},{"$f":"#REF!","v":{"$error":"#REF!"}},{"$f":"#REF!","v":{"$error":"#REF!"}},{"$f":"#REF!","v":{"$error":"#REF!"}},{"$f":"#REF!","v":{"$error":"#REF!"}},{"$f":"#REF!","v":{"$error":"#REF!"}},{"$f":"#REF!","v":{"$error":"#REF!"}},{"$f":"#REF!","v":{"$error":"#REF!"}},{"$f":"#REF!","v":{"$error":"#REF!"}}]
[{"$f":"#REF!","v":{"$error":"#REF!"}},{"$f":"#REF!","v":{"$error":"#REF!"}},{"$f":"#REF!","v":{"$error":"#REF!"}},{"$f":"#REF!","v":{"$error":"#REF!"}},{"$f":"#REF!","v":{"$error":"#REF!"}},{"$f":"#REF!","v":{"$error":"#REF!"}},{"$f":"#REF!","v":{"$error":"#REF!"}},{"$f":"#REF!","v":{"$error":"#REF!"}},{"$f":"#REF!","v":{"$error":"#REF!"}},{"$f":"#REF!","v":{"$error":"#REF!"}},{"$f":"#REF!","v":{"$error":"#REF!"}},{"$f":"#REF!","v":{"$error":"#REF!"}},{"$f":"#REF!","v":{"$error":"#REF!"}},{"$f":"#REF!","v":{"$error":"#REF!"}},{"$f":"#REF!","v":{"$error":"#REF!"}},{"$f":"#REF!","v":{"$error":"#REF!"}},{"$f":"#REF!","v":{"$error":"#REF!"}}]
[{"$f":"#REF!","v":{"$error":"#REF!"}},{"$f":"#REF!","v":{"$error":"#REF!"}},{"$f":"#REF!","v":{"$error":"#REF!"}},{"$f":"#REF!","v":{"$error":"#REF!"}},{"$f":"#REF!","v":{"$error":"#REF!"}},{"$f":"#REF!","v":{"$error":"#REF!"}},{"$f":"#REF!","v":{"$error":"#REF!"}},{"$f":"#REF!","v":{"$error":"#REF!"}},{"$f":"#REF!","v":{"$error":"#REF!"}},{"$f":"#REF!","v":{"$error":"#REF!"}},{"$f":"#REF!","v":{"$error":"#REF!"}},{"$f":"#REF!","v":{"$error":"#REF!"}},{"$f":"#REF!","v":{"$error":"#REF!"}},{"$f":"#REF!","v":{"$error":"#REF!"}},{"$f":"#REF!","v":{"$error":"#REF!"}},{"$f":"#REF!","v":{"$error":"#REF!"}},{"$f":"#REF!","v":{"$error":"#REF!"}}]
[{"$f":"#REF!","v":{"$error":"#REF!"}},{"$f":"#REF!","v":{"$error":"#REF!"}},{"$f":"#REF!","v":{"$error":"#REF!"}},{"$f":"#REF!","v":{"$error":"#REF!"}},{"$f":"#REF!","v":{"$error":"#REF!"}},{"$f":"#REF!","v":{"$error":"#REF!"}},{"$f":"#REF!","v":{"$error":"#REF!"}},{"$f":"#REF!","v":{"$error":"#REF!"}},{"$f":"#REF!","v":{"$error":"#REF!"}},{"$f":"#REF!","v":{"$error":"#REF!"}},{"$f":"#REF!","v":{"$error":"#REF!"}},{"$f":"#REF!","v":{"$error":"#REF!"}},{"$f":"#REF!","v":{"$error":"#REF!"}},{"$f":"#REF!","v":{"$error":"#REF!"}},{"$f":"#REF!","v":{"$error":"#REF!"}},{"$f":"#REF!","v":{"$error":"#REF!"}},{"$f":"#REF!","v":{"$error":"#REF!"}}]
[{"$f":"#REF!","v":{"$error":"#REF!"}},{"$f":"#REF!","v":{"$error":"#REF!"}},{"$f":"#REF!","v":{"$error":"#REF!"}},{"$f":"#REF!","v":{"$error":"#REF!"}},{"$f":"#REF!","v":{"$error":"#REF!"}},{"$f":"#REF!","v":{"$error":"#REF!"}},{"$f":"#REF!","v":{"$error":"#REF!"}},{"$f":"#REF!","v":{"$error":"#REF!"}},{"$f":"#REF!","v":{"$error":"#REF!"}},{"$f":"#REF!","v":{"$error":"#REF!"}},{"$f":"#REF!","v":{"$error":"#REF!"}},{"$f":"#REF!","v":{"$error":"#REF!"}},{"$f":"#REF!","v":{"$error":"#REF!"}},{"$f":"#REF!","v":{"$error":"#REF!"}},{"$f":"#REF!","v":{"$error":"#REF!"}},{"$f":"#REF!","v":{"$error":"#REF!"}},{"$f":"#REF!","v":{"$error":"#REF!"}}]
[{"$f":"#REF!","v":{"$error":"#REF!"}},{"$f":"#REF!","v":{"$error":"#REF!"}},{"$f":"#REF!","v":{"$error":"#REF!"}},{"$f":"#REF!","v":{"$error":"#REF!"}},{"$f":"#REF!","v":{"$error":"#REF!"}},{"$f":"#REF!","v":{"$error":"#REF!"}},{"$f":"#REF!","v":{"$error":"#REF!"}},{"$f":"#REF!","v":{"$error":"#REF!"}},{"$f":"#REF!","v":{"$error":"#REF!"}},{"$f":"#REF!","v":{"$error":"#REF!"}},{"$f":"#REF!","v":{"$error":"#REF!"}},{"$f":"#REF!","v":{"$error":"#REF!"}},{"$f":"#REF!","v":{"$error":"#REF!"}},{"$f":"#REF!","v":{"$error":"#REF!"}},{"$f":"#REF!","v":{"$error":"#REF!"}},{"$f":"#REF!","v":{"$error":"#REF!"}},{"$f":"#REF!","v":{"$error":"#REF!"}}]
[{"$f":"#REF!","v":{"$error":"#REF!"}},{"$f":"#REF!","v":{"$error":"#REF!"}},{"$f":"#REF!","v":{"$error":"#REF!"}},{"$f":"#REF!","v":{"$error":"#REF!"}},{"$f":"#REF!","v":{"$error":"#REF!"}},{"$f":"#REF!","v":{"$error":"#REF!"}},{"$f":"#REF!","v":{"$error":"#REF!"}},{"$f":"#REF!","v":{"$error":"#REF!"}},{"$f":"#REF!","v":{"$error":"#REF!"}},{"$f":"#REF!","v":{"$error":"#REF!"}},{"$f":"#REF!","v":{"$error":"#REF!"}},{"$f":"#REF!","v":{"$error":"#REF!"}},{"$f":"#REF!","v":{"$error":"#REF!"}},{"$f":"#REF!","v":{"$error":"#REF!"}},{"$f":"#REF!","v":{"$error":"#REF!"}},{"$f":"#REF!","v":{"$error":"#REF!"}},{"$f":"#REF!","v":{"$error":"#REF!"}}]
[{"$f":"#REF!","v":{"$error":"#REF!"}},{"$f":"#REF!","v":{"$error":"#REF!"}},{"$f":"#REF!","v":{"$error":"#REF!"}},{"$f":"#REF!","v":{"$error":"#REF!"}},{"$f":"#REF!","v":{"$error":"#REF!"}},{"$f":"#REF!","v":{"$error":"#REF!"}},{"$f":"#REF!","v":{"$error":"#REF!"}},{"$f":"#REF!","v":{"$error":"#REF!"}},{"$f":"#REF!","v":{"$error":"#REF!"}},{"$f":"#REF!","v":{"$error":"#REF!"}},{"$f":"#REF!","v":{"$error":"#REF!"}},{"$f":"#REF!","v":{"$error":"#REF!"}},{"$f":"#REF!","v":{"$error":"#REF!"}},{"$f":"#REF!","v":{"$error":"#REF!"}},{"$f":"#REF!","v":{"$error":"#REF!"}},{"$f":"#REF!","v":{"$error":"#REF!"}},{"$f":"#REF!","v":{"$error":"#REF!"}}]
[{"$f":"#REF!","v":{"$error":"#REF!"}},{"$f":"#REF!","v":{"$error":"#REF!"}},{"$f":"#REF!","v":{"$error":"#REF!"}},{"$f":"#REF!","v":{"$error":"#REF!"}},{"$f":"#REF!","v":{"$error":"#REF!"}},{"$f":"#REF!","v":{"$error":"#REF!"}},{"$f":"#REF!","v":{"$error":"#REF!"}},{"$f":"#REF!","v":{"$error":"#REF!"}},{"$f":"#REF!","v":{"$error":"#REF!"}},{"$f":"#REF!","v":{"$error":"#REF!"}},{"$f":"#REF!","v":{"$error":"#REF!"}},{"$f":"#REF!","v":{"$error":"#REF!"}},{"$f":"#REF!","v":{"$error":"#REF!"}},{"$f":"#REF!","v":{"$error":"#REF!"}},{"$f":"#REF!","v":{"$error":"#REF!"}},{"$f":"#REF!","v":{"$error":"#REF!"}},{"$f":"#REF!","v":{"$error":"#REF!"}}]
[{"$f":"#REF!","v":{"$error":"#REF!"}},{"$f":"#REF!","v":{"$error":"#REF!"}},{"$f":"#REF!","v":{"$error":"#REF!"}},{"$f":"#REF!","v":{"$error":"#REF!"}},{"$f":"#REF!","v":{"$error":"#REF!"}},{"$f":"#REF!","v":{"$error":"#REF!"}},{"$f":"#REF!","v":{"$error":"#REF!"}},{"$f":"#REF!","v":{"$error":"#REF!"}},{"$f":"#REF!","v":{"$error":"#REF!"}},{"$f":"#REF!","v":{"$error":"#REF!"}},{"$f":"#REF!","v":{"$error":"#REF!"}},{"$f":"#REF!","v":{"$error":"#REF!"}},{"$f":"#REF!","v":{"$error":"#REF!"}},{"$f":"#REF!","v":{"$error":"#REF!"}},{"$f":"#REF!","v":{"$error":"#REF!"}},{"$f":"#REF!","v":{"$error":"#REF!"}},{"$f":"#REF!","v":{"$error":"#REF!"}}]
[{"$f":"#REF!","v":{"$error":"#REF!"}},{"$f":"#REF!","v":{"$error":"#REF!"}},{"$f":"#REF!","v":{"$error":"#REF!"}},{"$f":"#REF!","v":{"$error":"#REF!"}},{"$f":"#REF!","v":{"$error":"#REF!"}},{"$f":"#REF!","v":{"$error":"#REF!"}},{"$f":"#REF!","v":{"$error":"#REF!"}},{"$f":"#REF!","v":{"$error":"#REF!"}},{"$f":"#REF!","v":{"$error":"#REF!"}},{"$f":"#REF!","v":{"$error":"#REF!"}},{"$f":"#REF!","v":{"$error":"#REF!"}},{"$f":"#REF!","v":{"$error":"#REF!"}},{"$f":"#REF!","v":{"$error":"#REF!"}},{"$f":"#REF!","v":{"$error":"#REF!"}},{"$f":"#REF!","v":{"$error":"#REF!"}},{"$f":"#REF!","v":{"$error":"#REF!"}},{"$f":"#REF!","v":{"$error":"#REF!"}}]
[{"$f":"#REF!","v":{"$error":"#REF!"}},{"$f":"#REF!","v":{"$error":"#REF!"}},{"$f":"#REF!","v":{"$error":"#REF!"}},{"$f":"#REF!","v":{"$error":"#REF!"}},{"$f":"#REF!","v":{"$error":"#REF!"}},{"$f":"#REF!","v":{"$error":"#REF!"}},{"$f":"#REF!","v":{"$error":"#REF!"}},{"$f":"#REF!","v":{"$error":"#REF!"}},{"$f":"#REF!","v":{"$error":"#REF!"}},{"$f":"#REF!","v":{"$error":"#REF!"}},{"$f":"#REF!","v":{"$error":"#REF!"}},{"$f":"#REF!","v":{"$error":"#REF!"}},{"$f":"#REF!","v":{"$error":"#REF!"}},{"$f":"#REF!","v":{"$error":"#REF!"}},{"$f":"#REF!","v":{"$error":"#REF!"}},{"$f":"#REF!","v":{"$error":"#REF!"}},{"$f":"#REF!","v":{"$error":"#REF!"}}]
[{"$f":"#REF!","v":{"$error":"#REF!"}},{"$f":"#REF!","v":{"$error":"#REF!"}},{"$f":"#REF!","v":{"$error":"#REF!"}},{"$f":"#REF!","v":{"$error":"#REF!"}},{"$f":"#REF!","v":{"$error":"#REF!"}},{"$f":"#REF!","v":{"$error":"#REF!"}},{"$f":"#REF!","v":{"$error":"#REF!"}},{"$f":"#REF!","v":{"$error":"#REF!"}},{"$f":"#REF!","v":{"$error":"#REF!"}},{"$f":"#REF!","v":{"$error":"#REF!"}},{"$f":"#REF!","v":{"$error":"#REF!"}},{"$f":"#REF!","v":{"$error":"#REF!"}},{"$f":"#REF!","v":{"$error":"#REF!"}},{"$f":"#REF!","v":{"$error":"#REF!"}},{"$f":"#REF!","v":{"$error":"#REF!"}},{"$f":"#REF!","v":{"$error":"#REF!"}},{"$f":"#REF!","v":{"$error":"#REF!"}}]
[{"$f":"#REF!","v":{"$error":"#REF!"}},{"$f":"#REF!","v":{"$error":"#REF!"}},{"$f":"#REF!","v":{"$error":"#REF!"}},{"$f":"#REF!","v":{"$error":"#REF!"}},{"$f":"#REF!","v":{"$error":"#REF!"}},{"$f":"#REF!","v":{"$error":"#REF!"}},{"$f":"#REF!","v":{"$error":"#REF!"}},{"$f":"#REF!","v":{"$error":"#REF!"}},{"$f":"#REF!","v":{"$error":"#REF!"}},{"$f":"#REF!","v":{"$error":"#REF!"}},{"$f":"#REF!","v":{"$error":"#REF!"}},{"$f":"#REF!","v":{"$error":"#REF!"}},{"$f":"#REF!","v":{"$error":"#REF!"}},{"$f":"#REF!","v":{"$error":"#REF!"}},{"$f":"#REF!","v":{"$error":"#REF!"}},{"$f":"#REF!","v":{"$error":"#REF!"}},{"$f":"#REF!","v":{"$error":"#REF!"}}]
[{"$f":"#REF!","v":{"$error":"#REF!"}},{"$f":"#REF!","v":{"$error":"#REF!"}},{"$f":"#REF!","v":{"$error":"#REF!"}},{"$f":"#REF!","v":{"$error":"#REF!"}},{"$f":"#REF!","v":{"$error":"#REF!"}},{"$f":"#REF!","v":{"$error":"#REF!"}},{"$f":"#REF!","v":{"$error":"#REF!"}},{"$f":"#REF!","v":{"$error":"#REF!"}},{"$f":"#REF!","v":{"$error":"#REF!"}},{"$f":"#REF!","v":{"$error":"#REF!"}},{"$f":"#REF!","v":{"$error":"#REF!"}},{"$f":"#REF!","v":{"$error":"#REF!"}},{"$f":"#REF!","v":{"$error":"#REF!"}},{"$f":"#REF!","v":{"$error":"#REF!"}},{"$f":"#REF!","v":{"$error":"#REF!"}},{"$f":"#REF!","v":{"$error":"#REF!"}},{"$f":"#REF!","v":{"$error":"#REF!"}}]
[{"$f":"#REF!","v":{"$error":"#REF!"}},{"$f":"#REF!","v":{"$error":"#REF!"}},{"$f":"#REF!","v":{"$error":"#REF!"}},{"$f":"#REF!","v":{"$error":"#REF!"}},{"$f":"#REF!","v":{"$error":"#REF!"}},{"$f":"#REF!","v":{"$error":"#REF!"}},{"$f":"#REF!","v":{"$error":"#REF!"}},{"$f":"#REF!","v":{"$error":"#REF!"}},{"$f":"#REF!","v":{"$error":"#REF!"}},{"$f":"#REF!","v":{"$error":"#REF!"}},{"$f":"#REF!","v":{"$error":"#REF!"}},{"$f":"#REF!","v":{"$error":"#REF!"}},{"$f":"#REF!","v":{"$error":"#REF!"}},{"$f":"#REF!","v":{"$error":"#REF!"}},{"$f":"#REF!","v":{"$error":"#REF!"}},{"$f":"#REF!","v":{"$error":"#REF!"}},{"$f":"#REF!","v":{"$error":"#REF!"}}]
[{"$f":"#REF!","v":{"$error":"#REF!"}},{"$f":"#REF!","v":{"$error":"#REF!"}},{"$f":"#REF!","v":{"$error":"#REF!"}},{"$f":"#REF!","v":{"$error":"#REF!"}},{"$f":"#REF!","v":{"$error":"#REF!"}},{"$f":"#REF!","v":{"$error":"#REF!"}},{"$f":"#REF!","v":{"$error":"#REF!"}},{"$f":"#REF!","v":{"$error":"#REF!"}},{"$f":"#REF!","v":{"$error":"#REF!"}},{"$f":"#REF!","v":{"$error":"#REF!"}},{"$f":"#REF!","v":{"$error":"#REF!"}},{"$f":"#REF!","v":{"$error":"#REF!"}},{"$f":"#REF!","v":{"$error":"#REF!"}},{"$f":"#REF!","v":{"$error":"#REF!"}},{"$f":"#REF!","v":{"$error":"#REF!"}},{"$f":"#REF!","v":{"$error":"#REF!"}},{"$f":"#REF!","v":{"$error":"#REF!"}}]
[{"$f":"#REF!","v":{"$error":"#REF!"}},{"$f":"#REF!","v":{"$error":"#REF!"}},{"$f":"#REF!","v":{"$error":"#REF!"}},{"$f":"#REF!","v":{"$error":"#REF!"}},{"$f":"#REF!","v":{"$error":"#REF!"}},{"$f":"#REF!","v":{"$error":"#REF!"}},{"$f":"#REF!","v":{"$error":"#REF!"}},{"$f":"#REF!","v":{"$error":"#REF!"}},{"$f":"#REF!","v":{"$error":"#REF!"}},{"$f":"#REF!","v":{"$error":"#REF!"}},{"$f":"#REF!","v":{"$error":"#REF!"}},{"$f":"#REF!","v":{"$error":"#REF!"}},{"$f":"#REF!","v":{"$error":"#REF!"}},{"$f":"#REF!","v":{"$error":"#REF!"}},{"$f":"#REF!","v":{"$error":"#REF!"}},{"$f":"#REF!","v":{"$error":"#REF!"}},{"$f":"#REF!","v":{"$error":"#REF!"}}]
[{"$f":"#REF!","v":{"$error":"#REF!"}},{"$f":"#REF!","v":{"$error":"#REF!"}},{"$f":"#REF!","v":{"$error":"#REF!"}},{"$f":"#REF!","v":{"$error":"#REF!"}},{"$f":"#REF!","v":{"$error":"#REF!"}},{"$f":"#REF!","v":{"$error":"#REF!"}},{"$f":"#REF!","v":{"$error":"#REF!"}},{"$f":"#REF!","v":{"$error":"#REF!"}},{"$f":"#REF!","v":{"$error":"#REF!"}},{"$f":"#REF!","v":{"$error":"#REF!"}},{"$f":"#REF!","v":{"$error":"#REF!"}},{"$f":"#REF!","v":{"$error":"#REF!"}},{"$f":"#REF!","v":{"$error":"#REF!"}},{"$f":"#REF!","v":{"$error":"#REF!"}},{"$f":"#REF!","v":{"$error":"#REF!"}},{"$f":"#REF!","v":{"$error":"#REF!"}},{"$f":"#REF!","v":{"$error":"#REF!"}}]
[{"$f":"#REF!","v":{"$error":"#REF!"}},{"$f":"#REF!","v":{"$error":"#REF!"}},{"$f":"#REF!","v":{"$error":"#REF!"}},{"$f":"#REF!","v":{"$error":"#REF!"}},{"$f":"#REF!","v":{"$error":"#REF!"}},{"$f":"#REF!","v":{"$error":"#REF!"}},{"$f":"#REF!","v":{"$error":"#REF!"}},{"$f":"#REF!","v":{"$error":"#REF!"}},{"$f":"#REF!","v":{"$error":"#REF!"}},{"$f":"#REF!","v":{"$error":"#REF!"}},{"$f":"#REF!","v":{"$error":"#REF!"}},{"$f":"#REF!","v":{"$error":"#REF!"}},{"$f":"#REF!","v":{"$error":"#REF!"}},{"$f":"#REF!","v":{"$error":"#REF!"}},{"$f":"#REF!","v":{"$error":"#REF!"}},{"$f":"#REF!","v":{"$error":"#REF!"}},{"$f":"#REF!","v":{"$error":"#REF!"}}]
[{"$f":"#REF!","v":{"$error":"#REF!"}},{"$f":"#REF!","v":{"$error":"#REF!"}},{"$f":"#REF!","v":{"$error":"#REF!"}},{"$f":"#REF!","v":{"$error":"#REF!"}},{"$f":"#REF!","v":{"$error":"#REF!"}},{"$f":"#REF!","v":{"$error":"#REF!"}},{"$f":"#REF!","v":{"$error":"#REF!"}},{"$f":"#REF!","v":{"$error":"#REF!"}},{"$f":"#REF!","v":{"$error":"#REF!"}},{"$f":"#REF!","v":{"$error":"#REF!"}},{"$f":"#REF!","v":{"$error":"#REF!"}},{"$f":"#REF!","v":{"$error":"#REF!"}},{"$f":"#REF!","v":{"$error":"#REF!"}},{"$f":"#REF!","v":{"$error":"#REF!"}},{"$f":"#REF!","v":{"$error":"#REF!"}},{"$f":"#REF!","v":{"$error":"#REF!"}},{"$f":"#REF!","v":{"$error":"#REF!"}}]
[{"$f":"#REF!","v":{"$error":"#REF!"}},{"$f":"#REF!","v":{"$error":"#REF!"}},{"$f":"#REF!","v":{"$error":"#REF!"}},{"$f":"#REF!","v":{"$error":"#REF!"}},{"$f":"#REF!","v":{"$error":"#REF!"}},{"$f":"#REF!","v":{"$error":"#REF!"}},{"$f":"#REF!","v":{"$error":"#REF!"}},{"$f":"#REF!","v":{"$error":"#REF!"}},{"$f":"#REF!","v":{"$error":"#REF!"}},{"$f":"#REF!","v":{"$error":"#REF!"}},{"$f":"#REF!","v":{"$error":"#REF!"}},{"$f":"#REF!","v":{"$error":"#REF!"}},{"$f":"#REF!","v":{"$error":"#REF!"}},{"$f":"#REF!","v":{"$error":"#REF!"}},{"$f":"#REF!","v":{"$error":"#REF!"}},{"$f":"#REF!","v":{"$error":"#REF!"}},{"$f":"#REF!","v":{"$error":"#REF!"}}]
[{"$f":"#REF!","v":{"$error":"#REF!"}},{"$f":"#REF!","v":{"$error":"#REF!"}},{"$f":"#REF!","v":{"$error":"#REF!"}},{"$f":"#REF!","v":{"$error":"#REF!"}},{"$f":"#REF!","v":{"$error":"#REF!"}},{"$f":"#REF!","v":{"$error":"#REF!"}},{"$f":"#REF!","v":{"$error":"#REF!"}},{"$f":"#REF!","v":{"$error":"#REF!"}},{"$f":"#REF!","v":{"$error":"#REF!"}},{"$f":"#REF!","v":{"$error":"#REF!"}},{"$f":"#REF!","v":{"$error":"#REF!"}},{"$f":"#REF!","v":{"$error":"#REF!"}},{"$f":"#REF!","v":{"$error":"#REF!"}},{"$f":"#REF!","v":{"$error":"#REF!"}},{"$f":"#REF!","v":{"$error":"#REF!"}},{"$f":"#REF!","v":{"$error":"#REF!"}},{"$f":"#REF!","v":{"$error":"#REF!"}}]
[{"$f":"#REF!","v":{"$error":"#REF!"}},{"$f":"#REF!","v":{"$error":"#REF!"}},{"$f":"#REF!","v":{"$error":"#REF!"}},{"$f":"#REF!","v":{"$error":"#REF!"}},{"$f":"#REF!","v":{"$error":"#REF!"}},{"$f":"#REF!","v":{"$error":"#REF!"}},{"$f":"#REF!","v":{"$error":"#REF!"}},{"$f":"#REF!","v":{"$error":"#REF!"}},{"$f":"#REF!","v":{"$error":"#REF!"}},{"$f":"#REF!","v":{"$error":"#REF!"}},{"$f":"#REF!","v":{"$error":"#REF!"}},{"$f":"#REF!","v":{"$error":"#REF!"}},{"$f":"#REF!","v":{"$error":"#REF!"}},{"$f":"#REF!","v":{"$error":"#REF!"}},{"$f":"#REF!","v":{"$error":"#REF!"}},{"$f":"#REF!","v":{"$error":"#REF!"}},{"$f":"#REF!","v":{"$error":"#REF!"}}]
[{"$f":"#REF!","v":{"$error":"#REF!"}},{"$f":"#REF!","v":{"$error":"#REF!"}},{"$f":"#REF!","v":{"$error":"#REF!"}},{"$f":"#REF!","v":{"$error":"#REF!"}},{"$f":"#REF!","v":{"$error":"#REF!"}},{"$f":"#REF!","v":{"$error":"#REF!"}},{"$f":"#REF!","v":{"$error":"#REF!"}},{"$f":"#REF!","v":{"$error":"#REF!"}},{"$f":"#REF!","v":{"$error":"#REF!"}},{"$f":"#REF!","v":{"$error":"#REF!"}},{"$f":"#REF!","v":{"$error":"#REF!"}},{"$f":"#REF!","v":{"$error":"#REF!"}},{"$f":"#REF!","v":{"$error":"#REF!"}},{"$f":"#REF!","v":{"$error":"#REF!"}},{"$f":"#REF!","v":{"$error":"#REF!"}},{"$f":"#REF!","v":{"$error":"#REF!"}},{"$f":"#REF!","v":{"$error":"#REF!"}}]
[{"$f":"#REF!","v":{"$error":"#REF!"}},{"$f":"#REF!","v":{"$error":"#REF!"}},{"$f":"#REF!","v":{"$error":"#REF!"}},{"$f":"#REF!","v":{"$error":"#REF!"}},{"$f":"#REF!","v":{"$error":"#REF!"}},{"$f":"#REF!","v":{"$error":"#REF!"}},{"$f":"#REF!","v":{"$error":"#REF!"}},{"$f":"#REF!","v":{"$error":"#REF!"}},{"$f":"#REF!","v":{"$error":"#REF!"}},{"$f":"#REF!","v":{"$error":"#REF!"}},{"$f":"#REF!","v":{"$error":"#REF!"}},{"$f":"#REF!","v":{"$error":"#REF!"}},{"$f":"#REF!","v":{"$error":"#REF!"}},{"$f":"#REF!","v":{"$error":"#REF!"}},{"$f":"#REF!","v":{"$error":"#REF!"}},{"$f":"#REF!","v":{"$error":"#REF!"}},{"$f":"#REF!","v":{"$error":"#REF!"}}]
[{"$f":"#REF!","v":{"$error":"#REF!"}},{"$f":"#REF!","v":{"$error":"#REF!"}},{"$f":"#REF!","v":{"$error":"#REF!"}},{"$f":"#REF!","v":{"$error":"#REF!"}},{"$f":"#REF!","v":{"$error":"#REF!"}},{"$f":"#REF!","v":{"$error":"#REF!"}},{"$f":"#REF!","v":{"$error":"#REF!"}},{"$f":"#REF!","v":{"$error":"#REF!"}},{"$f":"#REF!","v":{"$error":"#REF!"}},{"$f":"#REF!","v":{"$error":"#REF!"}},{"$f":"#REF!","v":{"$error":"#REF!"}},{"$f":"#REF!","v":{"$error":"#REF!"}},{"$f":"#REF!","v":{"$error":"#REF!"}},{"$f":"#REF!","v":{"$error":"#REF!"}},{"$f":"#REF!","v":{"$error":"#REF!"}},{"$f":"#REF!","v":{"$error":"#REF!"}},{"$f":"#REF!","v":{"$error":"#REF!"}}]
[{"$f":"#REF!","v":{"$error":"#REF!"}},{"$f":"#REF!","v":{"$error":"#REF!"}},{"$f":"#REF!","v":{"$error":"#REF!"}},{"$f":"#REF!","v":{"$error":"#REF!"}},{"$f":"#REF!","v":{"$error":"#REF!"}},{"$f":"#REF!","v":{"$error":"#REF!"}},{"$f":"#REF!","v":{"$error":"#REF!"}},{"$f":"#REF!","v":{"$error":"#REF!"}},{"$f":"#REF!","v":{"$error":"#REF!"}},{"$f":"#REF!","v":{"$error":"#REF!"}},{"$f":"#REF!","v":{"$error":"#REF!"}},{"$f":"#REF!","v":{"$error":"#REF!"}},{"$f":"#REF!","v":{"$error":"#REF!"}},{"$f":"#REF!","v":{"$error":"#REF!"}},{"$f":"#REF!","v":{"$error":"#REF!"}},{"$f":"#REF!","v":{"$error":"#REF!"}},{"$f":"#REF!","v":{"$error":"#REF!"}}]
[{"$f":"#REF!","v":{"$error":"#REF!"}},{"$f":"#REF!","v":{"$error":"#REF!"}},{"$f":"#REF!","v":{"$error":"#REF!"}},{"$f":"#REF!","v":{"$error":"#REF!"}},{"$f":"#REF!","v":{"$error":"#REF!"}},{"$f":"#REF!","v":{"$error":"#REF!"}},{"$f":"#REF!","v":{"$error":"#REF!"}},{"$f":"#REF!","v":{"$error":"#REF!"}},{"$f":"#REF!","v":{"$error":"#REF!"}},{"$f":"#REF!","v":{"$error":"#REF!"}},{"$f":"#REF!","v":{"$error":"#REF!"}},{"$f":"#REF!","v":{"$error":"#REF!"}},{"$f":"#REF!","v":{"$error":"#REF!"}},{"$f":"#REF!","v":{"$error":"#REF!"}},{"$f":"#REF!","v":{"$error":"#REF!"}},{"$f":"#REF!","v":{"$error":"#REF!"}},{"$f":"#REF!","v":{"$error":"#REF!"}}]
[{"$f":"#REF!","v":{"$error":"#REF!"}},{"$f":"#REF!","v":{"$error":"#REF!"}},{"$f":"#REF!","v":{"$error":"#REF!"}},{"$f":"#REF!","v":{"$error":"#REF!"}},{"$f":"#REF!","v":{"$error":"#REF!"}},{"$f":"#REF!","v":{"$error":"#REF!"}},{"$f":"#REF!","v":{"$error":"#REF!"}},{"$f":"#REF!","v":{"$error":"#REF!"}},{"$f":"#REF!","v":{"$error":"#REF!"}},{"$f":"#REF!","v":{"$error":"#REF!"}},{"$f":"#REF!","v":{"$error":"#REF!"}},{"$f":"#REF!","v":{"$error":"#REF!"}},{"$f":"#REF!","v":{"$error":"#REF!"}},{"$f":"#REF!","v":{"$error":"#REF!"}},{"$f":"#REF!","v":{"$error":"#REF!"}},{"$f":"#REF!","v":{"$error":"#REF!"}},{"$f":"#REF!","v":{"$error":"#REF!"}}]
[{"$f":"#REF!","v":{"$error":"#REF!"}},{"$f":"#REF!","v":{"$error":"#REF!"}},{"$f":"#REF!","v":{"$error":"#REF!"}},{"$f":"#REF!","v":{"$error":"#REF!"}},{"$f":"#REF!","v":{"$error":"#REF!"}},{"$f":"#REF!","v":{"$error":"#REF!"}},{"$f":"#REF!","v":{"$error":"#REF!"}},{"$f":"#REF!","v":{"$error":"#REF!"}},{"$f":"#REF!","v":{"$error":"#REF!"}},{"$f":"#REF!","v":{"$error":"#REF!"}},{"$f":"#REF!","v":{"$error":"#REF!"}},{"$f":"#REF!","v":{"$error":"#REF!"}},{"$f":"#REF!","v":{"$error":"#REF!"}},{"$f":"#REF!","v":{"$error":"#REF!"}},{"$f":"#REF!","v":{"$error":"#REF!"}},{"$f":"#REF!","v":{"$error":"#REF!"}},{"$f":"#REF!","v":{"$error":"#REF!"}}]